Workbook
Name Fonction: #REF!
Name Nom_ES: #REF!
Name Tx_comp: #REF!

Sheet Liste 
A1: PROFESSION | C1: Méthodologie retenue* | E1: Thème politique | F1: tous les critères | G1: critères obligatoires | H1: c | I1: nombre de critères | K1: DEPARTEMENTS
A2: Médecin | C2: Uniquement observationnelle | E2: Moyenne thématique | F2: ='7 - Résultats'!R291 -> 0 | G2: ='7 - Résultats'!R338 -> 0 | H2: 0 | I2: ='7 - Résultats'!L404&" critères dont "&'7 - Résultats'!P404&" obligatoires" -> 8 critères dont 6 obligatoires | K2: NUM | L2: NOM | M2: NUM ET NOM
A3: Pharmacien | C3: Uniquement déclarative par interrogation des professionnels | E3: Politique | F3: ='7 - Résultats'!R292 -> 0 | G3: ='7 - Résultats'!R339 -> 0 | H3: 0 | I3: ='7 - Résultats'!L405&" critères dont "&'7 - Résultats'!P405&" obligatoires" -> 7 critères dont 4 obligatoires | K3: 1 | L3: AIN | M3: =K3&" - "&L3 -> 1 - AIN
A4: RSMQ PECM | C4: Observationnelle et déclarative | E4: Gestion documentaire | F4: ='7 - Résultats'!R293 -> 0 | G4: ='7 - Résultats'!R340 -> 0 | H4: 0 | I4: ='7 - Résultats'!L406&" critères dont "&'7 - Résultats'!P406&" obligatoires" -> 5 critères dont 3 obligatoires | K4: 2 | L4: AISNE | M4: =K4&" - "&L4 -> 2 - AISNE | O4: OUI
A5: Coordonateur gestion des risques | E5: Formation | F5: ='7 - Résultats'!R294 -> 0 | G5: ='7 - Résultats'!R341 -> 0 | H5: 0 | I5: ='7 - Résultats'!L407&" critères dont "&'7 - Résultats'!P407&" obligatoires" -> 1 critères dont 0 obligatoires | K5: 3 | L5: ALLIER | M5: =K5&" - "&L5 -> 3 - ALLIER | O5: NON
A6: Ingénieur biomédical | E6: Autoévaluation | F6: ='7 - Résultats'!R295 -> 0 | G6: ='7 - Résultats'!R342 -> NC | H6: 0 | I6: ='7 - Résultats'!L408&" critères dont "&'7 - Résultats'!P408&" obligatoires" -> 6 critères dont 4 obligatoires | K6: 4 | L6: ALPES DE HAUTE PROVENCE | M6: =K6&" - "&L6 -> 4 - ALPES DE HAUTE PROVENCE | O6: PARTIEL
A7: Autre (précisez ci-dessous) | E7: Gestion des risques | F7: ='7 - Résultats'!R296 -> 0 | G7: ='7 - Résultats'!R343 -> 0 | H7: 0 | I7: ='7 - Résultats'!L409&" critères dont "&'7 - Résultats'!P409&" obligatoires" -> 4 critères dont 2 obligatoires | K7: 5 | L7: HAUTES ALPES | M7: =K7&" - "&L7 -> 5 - HAUTES ALPES | O7: NON APPLICABLE
E8: Prescription | F8: ='7 - Résultats'!R297 -> 0 | G8: ='7 - Résultats'!R344 -> 0 | H8: 0 | I8: ='7 - Résultats'!L410&" critères dont "&'7 - Résultats'!P410&" obligatoires" -> 18 critères dont 7 obligatoires | K8: 6 | L8: ALPES MARITIMES | M8: =K8&" - "&L8 -> 6 - ALPES MARITIMES
K9: 7 | L9: ARDECHE | M9: =K9&" - "&L9 -> 7 - ARDECHE
K10: 8 | L10: ARDENNES | M10: =K10&" - "&L10 -> 8 - ARDENNES
K11: 9 | L11: ARIEGE | M11: =K11&" - "&L11 -> 9 - ARIEGE
K12: 10 | L12: AUBE | M12: =K12&" - "&L12 -> 10 - AUBE
K13: 11 | L13: AUDE | M13: =K13&" - "&L13 -> 11 - AUDE
K14: 12 | L14: AVEYRON | M14: =K14&" - "&L14 -> 12 - AVEYRON
K15: 13 | L15: BOUCHES DU RHONE | M15: =K15&" - "&L15 -> 13 - BOUCHES DU RHONE
K16: 14 | L16: CALVADOS | M16: =K16&" - "&L16 -> 14 - CALVADOS
K17: 15 | L17: CANTAL | M17: =K17&" - "&L17 -> 15 - CANTAL
K18: 16 | L18: CHARENTE | M18: =K18&" - "&L18 -> 16 - CHARENTE
K19: 17 | L19: CHARENTE MARITIME | M19: =K19&" - "&L19 -> 17 - CHARENTE MARITIME
K20: 18 | L20: CHER | M20: =K20&" - "&L20 -> 18 - CHER
... K30: 29 | L30: FINISTERE | M30: =K30&" - "&L30 -> 29 - FINISTERE
K31: 2A | L31: CORSE DU SUD | M31: =K31&" - "&L31 -> 2A - CORSE DU SUD
K32: 2B | L32: HAUTE CORSE | M32: =K32&" - "&L32 -> 2B - HAUTE CORSE
K33: 30 | L33: GARD | M33: =K33&" - "&L33 -> 30 - GARD
K34: 31 | L34: HAUTE GARONNE | M34: =K34&" - "&L34 -> 31 - HAUTE GARONNE
K35: 32 | L35: GERS | M35: =K35&" - "&L35 -> 32 - GERS
K36: 33 | L36: GIRONDE | M36: =K36&" - "&L36 -> 33 - GIRONDE
K37: 34 | L37: HERAULT | M37: =K37&" - "&L37 -> 34 - HERAULT
K38: 35 | L38: ILLE ET VILAINE | M38: =K38&" - "&L38 -> 35 - ILLE ET VILAINE
K39: 36 | L39: INDRE | M39: =K39&" - "&L39 -> 36 - INDRE
K40: 37 | L40: INDRE ET LOIRE | M40: =K40&" - "&L40 -> 37 - INDRE ET LOIRE
K41: 38 | L41: ISERE | M41: =K41&" - "&L41 -> 38 - ISERE
K42: 39 | L42: JURA | M42: =K42&" - "&L42 -> 39 - JURA
K43: 40 | L43: LANDES | M43: =K43&" - "&L43 -> 40 - LANDES
K44: 41 | L44: LOIR ET CHER | M44: =K44&" - "&L44 -> 41 - LOIR ET CHER
... K104: 976 | L104: MAYOTTE | M104: =K104&" - "&L104 -> 976 - MAYOTTE

Sheet 1 - Contexte
B9: Version du 17/09/2026
A10: AUDIT DU CIRCUIT DES GAZ A USAGE MEDICAL | B10: AUDIT DU CIRCUIT DES GAZ A USAGE MEDICAL EN ETABLISSEMENT DE SANTE
B14: CONTEXTE
B15: Les erreurs liées à l'utilisation des gaz à usage médical font partie depuis 2012 de la liste des never events de l'ANSM. L'inscription sur cette liste fait suite à la déclaration de nombreuses erreurs dues à des défauts de formation du personnel, à des mauvaises manipulations et à des défauts de vérification de l'identité du gaz administré. Ces erreurs d'administration peuvent avoir des conséquences importantes pour le patient et, dans certains cas, entraîner le décès. Dans le cadre des travaux de l'OMEDIT NAGG sur la prévention de la survenue des never events tout en capitalisant sur les actions menées par le CHU de Poitiers pour sécuriser le circuit des gaz à usage médical, un travail collaboratif a été réalisé en partenariat avec le CHU de Bordeaux et le CHU de Limoges, afin de proposer une grille d'auto-évaluation du circuit des gaz à usage médical en établissement de santé. Ainsi, cette grille a pour vocation d’accompagner les établissements de santé à s'auto-évaluer sur leur circuit de gaz médicaux et plus spécifiquement de gaz à usage médical et ainsi mettre en place les actions nécessaires afin de sécuriser le circuit des gaz à usage médical. Cette grille se base sur la règlementation mais également sur des recommandations qui encouragent la démarche d'amélioration continue.
B28: REGLEMENTATION, RECOMMANDATIONS ET OUTILS SPECIFIQUES AUX GAZ MEDICAUX en date de juin 2026
B29: Textes règlementaires et recommandations | C29: Sujet d'application | I29: Date de publication
B30: ANSM - Dossier gaz à usage médical | C30: Définitions, règlementation sur l'identification, principes généraux, recommandations d'utilisation, surveillance | I30: dernière mise à jour 2019
B31: ANSM - Risque et précaution d'emploi liés à l'utilisation des gaz à usage médical | C31: Définitions, risques, précautions générales, conduites à tenir en cas d'incident, recommandations d'utilisation, signalement des incidents | I31: 2012
B32: ANSM - Modification de l'étiquetage du MEOPA pour réduire le risque de confusion | C32: Modifications apportées sur les bouteilles de MEOPA pour limiter les risques de confusion avec l'oxygène | I32: 2023
B33: Section 16 de l'arrêté du 25 juin 1980 Livre II, Titre II, Chapitre IX - conditions d'installation des gaz médicaux | C33: Magasins et centrales de stockage, réseaux de distribution, distribution par récipients mobiles, consignes, entretien, vérifications techniques | I33: 29397
B34: Arrêté du 22 octobre 1982 - dispositifs amovibles de sécurité des circuits d'alimentation en gaz médicaux | C34: Conformité à la norme NFS 90-116 (prises, embouts, raccords), identification des circuits des gaz à usage médical | I34: 30246
B35: Arrêté du 22 octobre 1982 - dispositions de sécurité pour les appareils de distribution de gaz médicaux | C35: Dispositifs amovibles spécifiques à chaque gaz, non interchangeable pour éviter toute confusion | I35: 30246
B36: Arrêté du 10 décembre 2004 - dispositions complétant et modifiant le règlement de sécurité contre les risques d'incendie et de panique dans les établissements recevant du public | C36: Installations, magasins et centrales de stockage, local de stockage, réseau de distribution, récipients mobiles, entretien et vérifications techniques | I36: 38331
B37: Circulaire DGS/3A/667 bis du 10 octobre 1985 relative à la distribution des gaz à usage médical | C37: Distribution des gaz à usage médical et création d'une commission locale de surveillance de cette distribution | I37: 31330
B38: Norme FD S90-155 relative aux systèmes de distribution pour gaz médicaux comprimés et vide | C38: Compléments pour la conception et la réception des gaz comprimés et vide | I38: 45597
B39: Arrêté du 10 octobre 2022 modifiant l'arrêté du 6 avril 2011 relatif au management de la qualité de la prise en charge médicamenteuse et aux médicaments dans les établissements de santé (J0 du 14 octobre 2022) | C39: Management de la qualité de la prise en charge médicamenteuse | I39: 44844
B43: PRESENTATION DE L'AUDIT ET METHODOLOGIE DE REMPLISSAGE
B44: STRUCTURATION DE L'AUDIT L'audit suivant se présente sous la forme de différents onglets : - Présentation de l'outil : reprend les différents onglets ainsi qu'une procédure pour télécharger en PDF l'ensemble des onglets ; - Etablissement : reprend le contexte et l'objetif dans lequel l'établissement réalise cet audit ainsi que la personne le réalisant et les services/unités de soins évalués ; - Politique : reprend des informations sur la politique qualité/sécurité du circuit des gaz médicaux, la gestion documentaire, la formation, l'auto-évaluation, la gestion des risques liés aux gaz à usage médical et la prescription des gaz médicinaux ; - PUI et autre local : concerne les conditions de stockage des gaz à usage médical à la Pharmacie à Usage Intérieur ou dans un local de l'atelier des fluides médicaux ; - Services_Unités de soin : concerne les conditions de stockage, de manipulation et d'administration dans les services utilisateurs de gaz à usage médical et unités de soin en utilisant ; - Résultats : reprenant les principales questions et réponses aux différents onglets permettant une proposition d'axes d'amélioration à suivre. L'onglet concernant la politique de l'établissement peut être rempli par toute personne intervenant sur le circuit des gaz à usage médical et par tout service. L'onglet concernant la PUI et autre local peut être rempli par le personnel de la PUI et/ou du local de l'atelier des fluides médicaux en charge des gaz à usage médical. Enfin, l'onglet concernant les services utilisateurs et unités de soins peut être rempli par autant de services que nécessaire, une colonne sera alors dédiée à chaque service répondeur. Tout service et unité utilisant des gaz à usage médical peut ainsi être amené à répondre à cet onglet. Parmi les services audités dans cette grille, il peut être pertinent d'évaluer les pratiques, a minima, dans un service de réanimation, de soins intensifs ou de soins continus. PRECONISATIONS DE METHODOLOGIE DE REMPLISSAGE Les réponses aux critères se présentent sous forme d'un menu déroulant. Les réponses "OUI", "NON", "PARTIEL" et "NON APPLICABLE" sont possibles. Les critères identifiés par une * sont considérés comme étant obligatoires et sont issus de la règlementation. Afin de répondre au mieux à cette grille d'auto-évaluation, il est préférable de se baser sur des éléments observés (dans la PUI, services, consultation de documents) et également d'interroger les professionnels sur leurs pratiques et les mettre en situation. Une colonne commentaire est également à disposition pour tous les critères afin d'argumenter sur les modalités de réponse et situtations rencontrées dans l'établissement.

Sheet 2 - Présentation de l'outil

Sheet 3 - Établissement
B2: AUDIT DU CIRCUIT DES GAZ A USAGE MEDICAL EN ETABLISSEMENT DE SANTE
B5: ONGLET DE SAISIE N°1/4 : INFORMATIONS RELATIVES À L'ÉTABLISSEMENT
B7: *Remplissage obligatoire
C9: Nom de l'établissement* | H9: Date de réalisation de l'auto-évaluation* format jj/mm/aaaa
C10: Département* | H10: Méthodologie retenue*
C13: Les personnes renseignant l'audit | H13: si concerné | AD13: nb référents
B14: 1 | C14: Nom/prénom du référent 1 de l'audit * | H14: 2 | I14: Nom/prénom du référent 2 | AD14: =COUNTIF(K14,"<>")+COUNTIF(E14,"<>") -> 0
C15: Fonction* | I15: Fonction
C16: Si autre fonction, préciser : (accessible uniquement en sélectionnant "autre" à la question précédente) | I16: Si autre fonction, préciser : (accessible uniquement en sélectionnant "autre" à la question précédente)
C17: Mail | I17: Mail
C20: Les services audités | AD20: nb services participants | AF20: correspondance nom et numéro de service
B21: 1 | C21: Nom du service n°1* | H21: 2 | I21: Nom du service n°2 | AD21: =COUNTIF(K21,"<>")+COUNTIF(E21,"<>")+COUNTIF(E25,"<>")+COUNTIF(K25,"<>") -> 0 | AF21: =UPPER(_xlfn.TEXTJOIN(" - ",TRUE, IF('3 - Établissement'!E21="","",'3 - Établissement'!E21&" (Service 1)"), IF('3 - Établissement'!K21="","",'3 - Établissement'!K21&" (Service 2)"), IF('3 - Établissement'!E25="","",'3 - Établissement'!E25&" (Service 3)"), IF('3 - Établissement'!K25="","",'3 - Établissement'!K25&" (Service 4)")))
C22: Nom de la/des personnes remplissant la grille | I22: Nom de la/des personnes remplissant la grille
C23: Fonction de cette/ces personnes | I23: Fonction de cette/ces personnes
B25: 3 | C25: Nom du service n°3 | H25: 4 | I25: Nom du service n°4
C26: Nom de la/des personnes remplissant la grille | I26: Nom de la/des personnes remplissant la grille
C27: Fonction de cette/ces personnes | I27: Fonction de cette/ces personnes
C30: Contexte de réalisation de l'audit
B31: 1 | C31: Contexte de l'établissement pour la réalisation de cet audit*
B37: 2 | C37: Décrivez rapidement l'organisation du circuit des gaz à usage médical dans votre établissement et les interactions entre les différents acteurs (atelier des fluides médicaux, services techniques, PUI, services utilisateurs…)
B43: 3 | C43: A ce stade, avez-vous déjà identifié des risques a priori liés à votre circuit des gaz à usage médical ? Si oui, lesquels ?
B49: 4 | C49: Avez-vous déjà identifié des évènements indésirables liés à votre circuit du gaz ? Si oui, lesquels ?

Sheet 4 - Politique
K1: =MAX(D:D) -> 31 | L1: =COUNTIF(A$19:A$54,"~*") -> 19
K2: total | L2: obligatoire
J3: OUI | K3: =COUNTIF(J$19:J$54,J3) -> 0 | L3: =COUNTIFS(J$19:J$54,J3,A$19:A$54,"~*") -> 0
J4: NON | K4: =COUNTIF(J$19:J$54,J4) -> 0 | L4: =COUNTIFS(J$19:J$54,J4,A$19:A$54,"~*") -> 0
J5: PARTIEL | K5: =COUNTIF(J$19:J$54,J5) -> 0 | L5: =COUNTIFS(J$19:J$54,J5,A$19:A$54,"~*") -> 0
J6: NON APPLICABLE | K6: =COUNTIF(J$19:J$54,J6) -> 0 | L6: =COUNTIFS(J$19:J$54,J6,A$19:A$54,"~*") -> 0
K7: =K1-SUM(K3:K6) -> 31 | L7: =L1-SUM(L3:L6) -> 19
B9: AUDIT DU CIRCUIT DES GAZ A USAGE MEDICAL EN ETABLISSEMENT DE SANTE
B11: ONGLET DE SAISIE N°2/4 : POLITIQUE DES GAZ À USAGE MEDICAL | K11: Taux de complétude
K12: ="Questions de l'onglet ("&SUM(K3:K6)&"/"&K1&")" -> Questions de l'onglet (0/31) | L12: ="Questions obligatoires de l'onglet ("&SUM(L3:L6)&"/"&L1&")" -> Questions obligatoires de l'onglet (0/19) | AB12: 0.5 | AC12: 0.8
D13: *Remplissage obligatoire | K13: =SUM(K3:K6)/K1 -> 0 | L13: =SUM(L3:L6)/L1 -> 0
B16: Chapitre | C16: Thème | D16: N° de critère | E16: Source, si existante | F16: Éléments observés | J16: Réponse | K16: Commentaire
B17: Chapitre 1. Politique des gaz médicaux et système documentaire
B18: Thématique : politique générale
A19: =RIGHT(D19,1) -> * | B19: Politique des gaz médicaux et système documentaire | C19: Politique générale | D19: 1* | E19: Arrêté du 6 avril 2011 | F19: Il existe un document décrivant la politique qualité/sécurité/efficience des gaz à usage médical au sein de la structure
A20: =RIGHT(D20,1) -> * | D20: 2* | E20: Arrêté du 6 avril 2011 | F20: Il existe un programme d'actions qualité/sécurité/efficience qui intègre les actions, les pilotes, le calendrier et les modalités de suivi (indicateurs, audits, …)
A21: =RIGHT(D21,1) -> * | D21: 3* | E21: Arrêté du 6 avril 2011 | F21: Un plan de formation pluriannuel, pluriprofessionnel et pluridisciplinaire est défini sur le circuit et l'utilisation des gaz à usage médical
A22: =RIGHT(D22,1) -> * | D22: 4* | E22: Circulaire DGS/3A/667 bis du 10 octobre 1985 | F22: Il existe une commission des gaz dans l'ES et elle se réunit régulièrement
A23: =RIGHT(D23,1) -> 5 | D23: 5 | F23: Il y a un pharmacien référent des fluides médicaux dans l'établissement et il est connu de tous les intervenants concernés (utilisateurs, soignants, directeurs, services techniques,…)
A24: =RIGHT(D24,1) -> 6 | D24: 6 | E24: Société Française d'Anesthésie Réanimation | F24: Les réseaux de protoxyde d'azote (N2O) ont été arrêtés
A25: =RIGHT(D25,1) -> * | D25: 7* | E25: Article L3131-11 du CSP | F25: Des modalités d'organisation spécifiques sont prévues en cas de situations exceptionnelles (commandes des services de soins, PUI, …)
A26: =RIGHT(D26,1) -> * | D26: 8* | E26: Article L3131-7 du CSP | F26: L'établissement dispose d'un Plan de Continuité et de Reprise d'Activité (PCRA)
A27: =RIGHT(D27,1) | C27: Thématique : Gestion documentaire
A28: =RIGHT(D28,1) -> * | C28: Gestion documentaire | D28: 9* | E28: Arrêté du 6 avril 2011 | F28: Il existe un manuel qualité général de la prise en charge médicamenteuse, qui intègre les éléments en lien avec les gaz à usage médical ou un manuel qualité spécifique intégrant des documents décrivant l'approvisionnement, la gestion, les règles d'utilisation (…) des gaz à usage médical
A29: =RIGHT(D29,1) -> * | D29: 10* | E29: Arrêté du 6 avril 2011 | F29: Il existe une procédure générale décrivant le circuit des gaz à usage médical et les responsabilités des différents acteurs participant à la gestion du circuit des gaz à usage médical
A30: =RIGHT(D30,1) -> * | D30: 11* | E30: Arrêté du 6 avril 2011 | F30: Les documents relatifs aux gaz à usage médical et modes opératoires de votre établissement sont accessibles et connus des différents acteurs participant à, ou impliqués dans la gestion du circuit des gaz à usage médical
A31: =RIGHT(D31,1) -> 2 | D31: 12 | F31: Il existe une procédure relative à la dispensation d'un gaz à usage médical en urgence et en dehors des horaires d'ouverture de la pharmacie
A32: =RIGHT(D32,1) -> 3 | D32: 13 | F32: Il existe une procédure sur les modalités de gestion en cas de températures inférieures à 0°C dans le local de stockage des bouteilles de MEOPA
A33: =RIGHT(D33,1) -> * | D33: 14* | E33: Arrêté du 6 avril 2011 | F33: Les documents relatifs aux gaz à usage médical et modes opératoires de votre établissement sont actualisés/revalidés à périodicité définie en lien avec la procédure de gestion documentaire de l'établissement, autant que de besoin
A34: =RIGHT(D34,1) -> 5 | D34: 15 | F34: Il existe un protocole relatif aux conduites à tenir en cas d'erreur d'administration de gaz à usage médical, notamment de MEOPA à la place de l'oxygène
A35: =RIGHT(D35,1) | C35: Thématique : Formation
A36: =RIGHT(D36,1) -> * | C36: Formation | D36: 16* | E36: Arrêté du 25 juin 1980 | F36: Tous les acteurs du circuit des gaz à usage médical (médecins, pharmaciens, préparateurs, IDE…) sont formés à leur utilisation (transport, stockage, manipulation, administration…), selon l'étape d'intervention et l'action qu'ils réalisent, à intervalle régulier et en cas de changement de matériel
A37: =RIGHT(D37,1) -> 7 | D37: 17 | F37: La traçabilité des formations réalisées et des personnes/qualifications, tout personnel et services confondus, est assurée en temps réel et continuellement
A38: =RIGHT(D38,1) -> 8 | D38: 18 | F38: Les équipes utilisatrices sont informées de la liste des gaz médicaux ayant le statut de médicament (Oxygène, MEOPA, protoxyde d'azote, monoxyde d'azote, xénon)
A39: =RIGHT(D39,1) -> * | D39: 19* | E39: ANSM - Liste des never events | F39: Les équipes en charge de la manipulation des gaz à usage médical sont informées que les erreurs liés à ces produits sont inscrites sur la liste des never events
A40: =RIGHT(D40,1) -> * | D40: 20* | E40: ANSM - MEOPA | F40: Une formation spécifique au MEOPA est dispensée au personnel concerné par sa réception et son administration. Cette formation est réalisée à périodicité donnée et tracée
A41: =RIGHT(D41,1) | C41: Thématique : Auto-évaluation
A42: =RIGHT(D42,1) -> 1 | C42: Auto-évaluation | D42: 21 | F42: La structure réalise des évaluations internes du circuit des gaz à usage médical (réception, stockage, dispensation, administration) annuellement dans le cadre du programme d'action
B43: Chapitre 2. Mise en œuvre de la gestion des risques liés aux gaz à usage médical
A44: =RIGHT(D44,1) -> * | B44: Mise en œuvre de la gestion des risques liés aux gaz à usage médical | D44: 22* | E44: Arrêté du 6 avril 2011 | F44: La structure a mis en place un système de déclaration interne des presque accidents, évènements et effets indésirables liés à l'utilisation des gaz
A45: =RIGHT(D45,1) -> 3 | D45: 23 | F45: Une fiche de déclaration d'évènement indésirable est mise à la disposition des équipes dans votre établissement
A46: =RIGHT(D46,1) -> 4 | D46: 24 | F46: Les professionnels savent déclarer les évènements indésirables
A47: =RIGHT(D47,1) -> * | D47: 25* | E47: Arrêté du 6 avril 2011 | F47: L'analyse des évènements indésirables liés aux gaz médicaux est organisée lors de réunions pluriprofessionnelles
A48: =RIGHT(D48,1) -> * | D48: 26* | E48: Arrêté du 6 avril 2011 | F48: Les conclusions et décisions prises suite à l'analyse de ces évènements indésirables sont communiquées aux professionnels impliqués dans le circuit des gaz à usage médical
A49: =RIGHT(D49,1) -> * | D49: 27* | E49: Arrêté du 6 avril 2011 | F49: Des actions correctives sont décidées durant ces réunions, intégrées dans le programme d'actions, mises en place et évaluées
B50: Chapitre 3. Prescription des gaz à usage médical
A51: =RIGHT(D51,1) -> * | B51: Prescription des gaz à usage médical | D51: 28* | E51: Article R5132-3 du CSP | F51: Les prescripteurs connaissent la liste des gaz médicaux ayant le statut de médicament et nécessitant une prescription (Oxygène, MEOPA, protoxyde d'azote, monoxyde d'azote, xénon) La réponse à cette question est calculée automatiquement pour être identique à la 18. Vous pouvez compléter d'un commentaire | J51: =IF(J38="","",J38)
A52: =RIGHT(D52,1) -> * | D52: 29* | E52: Article R5132-3 du CSP | F52: Les gaz médicaux avec statut de médicament font l'objet systématiquement d'une prescription écrite (papier ou informatique)
A53: =RIGHT(D53,1) -> 0 | D53: 30 | F53: Les prescriptions contiennent le nom du gaz médicinal, le débit en L/min (hors MEOPA), la durée d'administration, durée du traitement et le mode d'administration
A54: =RIGHT(D54,1) -> 1 | D54: 31 | F54: Les prescriptions de MEOPA précisent s'il s'agit d'une administration en débit continu ou à la demande (débit discontinu avec une valve)

Sheet 5 - PUI et autre local
K1: =MAX(D:D)-'4 - Politique'!K1 -> 18 | L1: =COUNTIF(A$20:A$38,"~*") -> 7
K2: total | L2: obligatoire
J3: OUI | K3: =COUNTIF(J$20:J$38,J3) -> 0 | L3: =COUNTIFS(J$20:J$38,J3,A$20:A$38,"~*") -> 0
J4: NON | K4: =COUNTIF(J$20:J$38,J4) -> 0 | L4: =COUNTIFS(J$20:J$38,J4,A$20:A$38,"~*") -> 0
J5: PARTIEL | K5: =COUNTIF(J$20:J$38,J5) -> 0 | L5: =COUNTIFS(J$20:J$38,J5,A$20:A$38,"~*") -> 0
J6: NON APPLICABLE | K6: =COUNTIF(J$20:J$38,J6) -> 0 | L6: =COUNTIFS(J$20:J$38,J6,A$20:A$38,"~*") -> 0
K7: =K1-SUM(K3:K6) -> 18 | L7: =L1-SUM(L3:L6) -> 7
B9: AUDIT DU CIRCUIT DES GAZ A USAGE MEDICAL EN ETABLISSEMENT DE SANTE
B12: ONGLET DE SAISIE N°3/4 : PUI ET LOCAL DE L'ATELIER DES FLUIDES MEDICAUX | K12: Taux de complétude
K13: ="Questions de l'onglet ("&SUM(K3:K6)&"/"&K1&")" -> Questions de l'onglet (0/18) | L13: ="Questions obligatoires de l'onglet ("&SUM(L3:L6)&"/"&L1&")" -> Questions obligatoires de l'onglet (0/7) | Y13: 0.5 | Z13: 0.8
D14: *Remplissage obligatoire | K14: =SUM(K3:K6)/K1 -> 0 | L14: =SUM(L3:L6)/L1 -> 0
B17: Chapitre | C17: Thème | D17: N° de critère | E17: Source, si existante | F17: Éléments observés | J17: Réponse | K17: Commentaire
B18: Chapitre 4. Stockage des gaz médicaux en PUI ou en local de l'atelier des fluides médicaux
B19: Thématique : Généralités
A20: =RIGHT(D20,1) -> * | B20: Stockage des gaz médicaux en PUI ou en local de l'atelier des fluides médicaux | C20: Généralités | D20: 32* | E20: ANSM - Risques et précautions d'emploi liés à l'utilisation des gaz à usage médical | F20: A la réception, les équipes (pharmacien, préparateur...) vérifient la nature du gaz par lecture de l'étiquette, l'intégrité de la bouteille (absence de fuite, de choc, présence du système d'inviolabilité) et la pression pour les bouteilles à manodétendeur intégré
A21: =RIGHT(D21,1) -> 3 | D21: 33 | F21: En cas de microfuite suspectée à la réception ainsi que pour tout dysfonctionnement ou non-conformité, le pharmacien contacte le fournisseur des bouteilles de gaz pour réclamer une expertise sur la bouteille
A22: =RIGHT(D22,1) -> * | D22: 34* | E22: Arrêté du 25 juin 1980 | F22: La ou les pièces de stockage des gaz à usage médical sont clairement identifiées, sécurisées, propres, ventilées (ventilation haute et basse sur la porte), à l'abri des intempéries et ne contiennent pas de source de chaleur
A23: =RIGHT(D23,1) -> 5 | D23: 35 | E23: ANSM - Risques et précautions d'emploi liés à l'utilisation des gaz à usage médical | F23: La ou les pièces de stockage des gaz à usage médical contiennent les informations relatives à la sécurité de stockage des bouteilles de gaz (interdiction de fumer, mesures de sécurité) facilement visibles
A24: =RIGHT(D24,1) -> * | D24: 36* | E24: Arrêté du 25 juin 1980 | F24: En cas d'emplacement intérieur de la/des pièces de stockage des bouteilles de gaz à usage médical, il n'y a pas de communication directe avec les locaux ni de dégagements accessibles au public
A25: =RIGHT(D25,1) -> 7 | D25: 37 | E25: ANSM - Risques et précautions d'emploi liés à l'utilisation des gaz à usage médical | F25: Les zones de stockage de chaque bouteille de gaz sont clairement identifiées : les bouteilles vides sont séparées des bouteilles pleines ; les bouteilles de gaz à statut différent (usage médical et non médical) sont séparées et identifiées
A26: =RIGHT(D26,1) -> 8 | D26: 38 | E26: ANSM - Risques et précautions d'emploi liés à l'utilisation des gaz à usage médical | F26: Les zones de stockage des différentes bouteilles de gaz à usage médical et de gaz médicinaux (oxygène, MEOPA…) sont, pour chaque gaz, clairement identifiées et séparées les unes des autres
A27: =RIGHT(D27,1) -> * | D27: 39* | E27: Résumé des caractéristiques du produit | F27: Les bouteilles de gaz à usage médical sont stockées robinet fermé, en position verticale et arrimées par tout moyen approprié (chaînes, crochets, bac ou casier dédié au stockage des bouteilles de gaz…) afin de les protéger des risques de chute et de choc
A28: =RIGHT(D28,1) -> * | D28: 40* | E28: Résumé des caractéristiques du produit - MEOPA | F28: Les bouteilles de MEOPA sont stockées pendant 48 heures après réception en position horizontale en zone tampon identifiée, à une température comprise entre 10°C et 30°C puis, passé ce délai, en position verticale et arrimées. Ce délai de 48h est tracé par le gestionnaire de stock.
A29: =RIGHT(D29,1) -> 1 | D29: 41 | F29: Une délégation de la gestion, sous la responsabilité du pharmacien est prévue pour la réception, le transport des bouteilles mises à disposition et le retour des bouteilles vides
A30: =RIGHT(D30,1) -> * | D30: 42* | E30: Résumé des caractéristiques du produit - MEOPA | F30: Les bouteilles de MEOPA ne sont délivrées que pour la durée précisée sur l'ordonnance préalablement réalisée (liste I)
A31: =RIGHT(D31,1) -> 3 | D31: 43 | F31: Le fractionnement de l'oxygène est réalisé par du personnel, autorisé (pharmacien), formé et habilité, sous la responsabilité du pharmacien gérant, s'il ne réalise pas lui-même cette action
C32: Focus : installation de gaz
A33: =RIGHT(D33,1) -> 4 | C33: Focus : installation de gaz | D33: 44 | F33: Lors de modifications d'un réseau de fluides médicaux, un contrôle est systématiquement réalisé par un pharmacien et un analyseur de gaz
A34: =RIGHT(D34,1) -> 5 | D34: 45 | F34: Les flexibles des fluides médicaux des bras d'anesthésie (bloc/réanimation/SSPI) sont changés tous les 10 ans et contrôlés par un pharmacien
A35: =RIGHT(D35,1) -> 6 | D35: 46 | F35: Les numéros des opérateurs réalisant la télémaintenance des installations sont accessibles et joignables 24h/24 et 7j/7 auprès des équipes de sécurité de chaque site et du pharmacien d'astreinte
A36: =RIGHT(D36,1) -> 7 | D36: 47 | F36: Le réseau de fluides médicaux est dimensionné aux besoins de l'établissement (oxygène en particulier)
A37: =RIGHT(D37,1) -> * | D37: 48* | E37: Arrêté du 25 juin 1980 | F37: Les installations (évaporateur, cuve de stockage, …) sont contrôlées annuellement et un rapport de maintenance est réalisé
A38: =RIGHT(D38,1) -> 9 | D38: 49 | E38: ANSM - Risques et précautions d'emploi liés à l'utilisation des gaz à usage médical | F38: La qualité des gaz médicaux dispensés sur le réseau est contrôlée annuellement au regard de la Pharmacopée Européenne en vigueur

Sheet 6 - Services_Unités de soins
N1: =IF(N2=0,"non","oui") -> non | P1: =IF(P2=0,"non","oui") -> non | R1: =IF(R2=0,"non","oui") -> non | T1: =IF(T2=0,"non","oui") -> non
K2: nom de service non renseigné | M2: service renseigné onglet etab | N2: ='3 - Établissement'!E21 -> 0 | P2: ='3 - Établissement'!K21 -> 0 | R2: ='3 - Établissement'!E25 -> 0 | T2: ='3 - Établissement'!K25 -> 0
M3: total renseigné | N3: =IF(N1="non",0,SUM(N7:N10)) -> 0 | P3: =IF(P1="non",0,SUM(P7:P10)) -> 0 | R3: =IF(R1="non",0,SUM(R7:R10)) -> 0 | T3: =IF(T1="non",0,SUM(T7:T10)) -> 0
N4: service 1 | AH4: =_xlfn.FORMULATEXT(N4) -> #N/A | AI4: =_xlfn.FORMULATEXT(O4) -> #N/A | AJ4: =_xlfn.FORMULATEXT(P4) -> #N/A | AK4: =_xlfn.FORMULATEXT(Q4) -> #N/A | AL4: =_xlfn.FORMULATEXT(R4) -> #N/A | AM4: =_xlfn.FORMULATEXT(S4) -> #N/A
N5: =MAX(D:D)-('5 - PUI et autre local'!K1+'4 - Politique'!$K$1) -> 30 | O5: =COUNTIF(A$26:A$58,"~*") -> 11 | P5: =N5 -> 30 | Q5: =O5 -> 11 | R5: =P5 -> 30 | S5: =Q5 -> 11 | T5: =R5 -> 30 | U5: =S5 -> 11 | AH5: =_xlfn.FORMULATEXT(N5) -> =MAX(D:D)-('5 - PUI et autre local'!K1+'4 - Politique'!$K$1) | AI5: =_xlfn.FORMULATEXT(O5) -> =NB.SI(A$26:A$58;"~*") | AJ5: =_xlfn.FORMULATEXT(P5) -> =N5 | AK5: =_xlfn.FORMULATEXT(Q5) -> =O5 | AL5: =_xlfn.FORMULATEXT(R5) -> =P5 | AM5: =_xlfn.FORMULATEXT(S5) -> =Q5
N6: total | O6: obligatoire | P6: total | Q6: obligatoire | R6: total | S6: obligatoire | T6: total | U6: obligatoire | AH6: =_xlfn.FORMULATEXT(N6) -> #N/A | AI6: =_xlfn.FORMULATEXT(O6) -> #N/A | AJ6: =_xlfn.FORMULATEXT(P6) -> #N/A | AK6: =_xlfn.FORMULATEXT(Q6) -> #N/A | AL6: =_xlfn.FORMULATEXT(R6) -> #N/A | AM6: =_xlfn.FORMULATEXT(S6) -> #N/A
L7: OUI | N7: =COUNTIF(J$26:J$58,$L7) -> 0 | O7: =COUNTIFS(J$26:J$58,L7,$A$26:$A$58,"~*") -> 0 | P7: =COUNTIF(K$26:K$58,$L7) -> 0 | Q7: =COUNTIFS(K$26:K$58,L7,$A$26:$A$58,"~*") -> 0 | R7: =COUNTIF(L$26:L$58,$L7) -> 0 | S7: =COUNTIFS(L$26:L$58,L7,$A$26:$A$58,"~*") -> 0 | T7: =COUNTIF(M$26:M$58,$L7) -> 0 | U7: =COUNTIFS(M$26:M$58,L7,$A$26:$A$58,"~*") -> 0 | AH7: =_xlfn.FORMULATEXT(N7) -> =NB.SI(J$26:J$58;$L7) | AI7: =_xlfn.FORMULATEXT(O7) -> =NB.SI.ENS(J$26:J$58;L7;$A$26:$A$58;"~*") | AJ7: =_xlfn.FORMULATEXT(P7) -> =NB.SI(K$26:K$58;$L7) | AK7: =_xlfn.FORMULATEXT(Q7) -> =NB.SI.ENS(K$26:K$58;L7;$A$26:$A$58;"~*") | AL7: =_xlfn.FORMULATEXT(R7) -> =NB.SI(L$26:L$58;$L7) | AM7: =_xlfn.FORMULATEXT(S7) -> =NB.SI.ENS(L$26:L$58;L7;$A$26:$A$58;"~*")
L8: NON | N8: =COUNTIF(J$26:J$58,$L8) -> 0 | O8: =COUNTIFS(J$26:J$58,L8,$A$26:$A$58,"~*") -> 0 | P8: =COUNTIF(K$26:K$58,$L8) -> 0 | Q8: =COUNTIFS(K$26:K$58,L8,$A$26:$A$58,"~*") -> 0 | R8: =COUNTIF(L$26:L$58,$L8) -> 0 | S8: =COUNTIFS(L$26:L$58,L8,$A$26:$A$58,"~*") -> 0 | T8: =COUNTIF(M$26:M$58,$L8) -> 0 | U8: =COUNTIFS(M$26:M$58,L8,$A$26:$A$58,"~*") -> 0 | AH8: =_xlfn.FORMULATEXT(N8) -> =NB.SI(J$26:J$58;$L8) | AI8: =_xlfn.FORMULATEXT(O8) -> =NB.SI.ENS(J$26:J$58;L8;$A$26:$A$58;"~*") | AJ8: =_xlfn.FORMULATEXT(P8) -> =NB.SI(K$26:K$58;$L8) | AK8: =_xlfn.FORMULATEXT(Q8) -> =NB.SI.ENS(K$26:K$58;L8;$A$26:$A$58;"~*") | AL8: =_xlfn.FORMULATEXT(R8) -> =NB.SI(L$26:L$58;$L8) | AM8: =_xlfn.FORMULATEXT(S8) -> =NB.SI.ENS(L$26:L$58;L8;$A$26:$A$58;"~*")
L9: PARTIEL | N9: =COUNTIF(J$26:J$58,$L9) -> 0 | O9: =COUNTIFS(J$26:J$58,L9,$A$26:$A$58,"~*") -> 0 | P9: =COUNTIF(K$26:K$58,$L9) -> 0 | Q9: =COUNTIFS(K$26:K$58,L9,$A$26:$A$58,"~*") -> 0 | R9: =COUNTIF(L$26:L$58,$L9) -> 0 | S9: =COUNTIFS(L$26:L$58,L9,$A$26:$A$58,"~*") -> 0 | T9: =COUNTIF(M$26:M$58,$L9) -> 0 | U9: =COUNTIFS(M$26:M$58,L9,$A$26:$A$58,"~*") -> 0 | AH9: =_xlfn.FORMULATEXT(N9) -> =NB.SI(J$26:J$58;$L9) | AI9: =_xlfn.FORMULATEXT(O9) -> =NB.SI.ENS(J$26:J$58;L9;$A$26:$A$58;"~*") | AJ9: =_xlfn.FORMULATEXT(P9) -> =NB.SI(K$26:K$58;$L9) | AK9: =_xlfn.FORMULATEXT(Q9) -> =NB.SI.ENS(K$26:K$58;L9;$A$26:$A$58;"~*") | AL9: =_xlfn.FORMULATEXT(R9) -> =NB.SI(L$26:L$58;$L9) | AM9: =_xlfn.FORMULATEXT(S9) -> =NB.SI.ENS(L$26:L$58;L9;$A$26:$A$58;"~*")
L10: NON APPLICABLE | N10: =COUNTIF(J$26:J$58,$L10) -> 0 | O10: =COUNTIFS(J$26:J$58,L10,$A$26:$A$58,"~*") -> 0 | P10: =COUNTIF(K$26:K$58,$L10) -> 0 | Q10: =COUNTIFS(K$26:K$58,L10,$A$26:$A$58,"~*") -> 0 | R10: =COUNTIF(L$26:L$58,$L10) -> 0 | S10: =COUNTIFS(L$26:L$58,L10,$A$26:$A$58,"~*") -> 0 | T10: =COUNTIF(M$26:M$58,$L10) -> 0 | U10: =COUNTIFS(M$26:M$58,L10,$A$26:$A$58,"~*") -> 0 | AH10: =_xlfn.FORMULATEXT(N10) -> =NB.SI(J$26:J$58;$L10) | AI10: =_xlfn.FORMULATEXT(O10) -> =NB.SI.ENS(J$26:J$58;L10;$A$26:$A$58;"~*") | AJ10: =_xlfn.FORMULATEXT(P10) -> =NB.SI(K$26:K$58;$L10) | AK10: =_xlfn.FORMULATEXT(Q10) -> =NB.SI.ENS(K$26:K$58;L10;$A$26:$A$58;"~*") | AL10: =_xlfn.FORMULATEXT(R10) -> =NB.SI(L$26:L$58;$L10) | AM10: =_xlfn.FORMULATEXT(S10) -> =NB.SI.ENS(L$26:L$58;L10;$A$26:$A$58;"~*")
N11: =N5-SUM(N7:N10) -> 30 | O11: =O5-SUM(O7:O10) -> 11 | P11: =P5-SUM(P7:P10) -> 30 | Q11: =Q5-SUM(Q7:Q10) -> 11 | R11: =R5-SUM(R7:R10) -> 30 | S11: =S5-SUM(S7:S10) -> 11 | T11: =T5-SUM(T7:T10) -> 30 | U11: =U5-SUM(U7:U10) -> 11 | AH11: =_xlfn.FORMULATEXT(N11) -> =N5-SOMME(N7:N10) | AI11: =_xlfn.FORMULATEXT(O11) -> =O5-SOMME(O7:O10) | AJ11: =_xlfn.FORMULATEXT(P11) -> =P5-SOMME(P7:P10) | AK11: =_xlfn.FORMULATEXT(Q11) -> =Q5-SOMME(Q7:Q10) | AL11: =_xlfn.FORMULATEXT(R11) -> =R5-SOMME(R7:R10) | AM11: =_xlfn.FORMULATEXT(S11) -> =S5-SOMME(S7:S10)
B13: AUDIT DU CIRCUIT DES GAZ A USAGE MEDICAL EN ETABLISSEMENT DE SANTE
B15: ONGLET DE SAISIE N°4/4 : UNITE ET SERVICES DE SOINS | N15: Taux de complétude
B16: ONGLET DE SAISIE N°4/4 : UNITÉS ET SERVICES DE SOINS | N16: service 1 | P16: service 2 | R16: service 3 | T16: service 4
N17: ="Questions de l'onglet ("&SUM(N7:N10)&"/"&N5&")" -> Questions de l'onglet (0/30) | O17: ="Questions obligatoires de l'onglet ("&SUM(O7:O10)&"/"&O5&")" -> Questions obligatoires de l'onglet (0/11) | P17: ="Questions de l'onglet ("&SUM(P7:P10)&"/"&P5&")" -> Questions de l'onglet (0/30) | Q17: ="Questions obligatoires de l'onglet ("&SUM(Q7:Q10)&"/"&Q5&")" -> Questions obligatoires de l'onglet (0/11) | R17: ="Questions de l'onglet ("&SUM(R7:R10)&"/"&R5&")" -> Questions de l'onglet (0/30) | S17: ="Questions obligatoires de l'onglet ("&SUM(S7:S10)&"/"&S5&")" -> Questions obligatoires de l'onglet (0/11) | T17: ="Questions de l'onglet ("&SUM(T7:T10)&"/"&T5&")" -> Questions de l'onglet (0/30) | U17: ="Questions obligatoires de l'onglet ("&SUM(U7:U10)&"/"&U5&")" -> Questions obligatoires de l'onglet (0/11) | AI17: 0.5 | AJ17: 0.8
J18: Les colonnes réponses peuvent être remplies pour des services et unités de soins utilisant des gaz à usage médical, afin d'identifier les principaux risques liés au circuit des gaz médicaux. | N18: =SUM(N7:N10)/N5 -> 0 | O18: =SUM(O7:O10)/O5 -> 0 | P18: =SUM(P7:P10)/P5 -> 0 | Q18: =SUM(Q7:Q10)/Q5 -> 0 | R18: =SUM(R7:R10)/R5 -> 0 | S18: =SUM(S7:S10)/S5 -> 0 | T18: =SUM(T7:T10)/T5 -> 0 | U18: =SUM(U7:U10)/U5 -> 0
D19: *Remplissage obligatoire
B21: Chapitre | C21: Thème | D21: N° de critère | E21: Source, si existante | F21: Éléments observés | K21: Réponses | Q21: Commentaire
J22: Service 1 / Pôle / Unité | K22: Service 2 / Pôle / Unité | L22: Service 3 / Pôle / Unité | M22: Service 4 / Pôle / Unité | N22: Service 1 / Pôle / Unité | P22: Service 2 / Pôle / Unité | R22: Service 3 / Pôle / Unité | T22: Service 4 / Pôle / Unité
J23: =IF(N2=0,"nom de service non renseigné",N2) -> nom de service non renseigné | K23: =IF(P2=0,"nom de service non renseigné",P2) -> nom de service non renseigné | L23: =IF(R2=0,"nom de service non renseigné",R2) -> nom de service non renseigné | M23: =IF(T2=0,"nom de service non renseigné",T2) -> nom de service non renseigné | N23: =IF(N2=0,"nom de service non renseigné",N2) -> nom de service non renseigné | P23: =IF(P2=0,"nom de service non renseigné",P2) -> nom de service non renseigné | R23: =IF(R2=0,"nom de service non renseigné",R2) -> nom de service non renseigné | T23: =IF(T2=0,"nom de service non renseigné",T2) -> nom de service non renseigné
B24: Chapitre 5. Stockage des gaz médicaux en services utilisateurs
B25: Thématique : stockage
A26: =RIGHT(D26,1) -> * | B26: Stockage des gaz médicaux en services utilisateurs | C26: Stockage | D26: 50* | E26: Arrêté du 25 juin 1980 | F26: Les bouteilles de gaz à usage médical sont transportées dans les services utilisateurs et auprès des patients à l'aide de moyen approprié (chariots), en position verticale
A27: =RIGHT(D27,1) -> 1 | D27: 51 | F27: Les bouteilles de gaz à usage médical sont transportées dans les services utilisateurs et auprès des patients, dans le cadre d'une prescription médicale, par des personnes formées aux gaz médicaux (transport, manipulation, administration…), selon l'étape d'intervention et l'action qu'ils réalisent (médecin, pharmacien, IDE...)
A28: =RIGHT(D28,1) -> 2 | D28: 52 | E28: ANSM - Risques et précautions d'emploi liés à l'utilisation des gaz à usage médical | F28: A la réception, les équipes vérifient systématiquement la nature du gaz par lecture de l'étiquette, l'intégrité de la bouteille (absence de fuites, de choc, présence du système d'inviolabilité) et la pression pour les bouteilles à manodétendeur intégré
A29: =RIGHT(D29,1) -> 3 | D29: 53 | E29: ANSM - Risques et précautions d'emploi liés à l'utilisation des gaz à usage médical | F29: En cas de microfuite suspectée ou pour tout dysfonctionnement ou non-conformité, la bouteille est retournée à la PUI ou au personnel responsable de l'atelier des fluides médicaux, pour demande d'expertise auprès du fournisseur des bouteilles
A30: =RIGHT(D30,1) -> * | D30: 54* | E30: Arrêté du 25 juin 1980 | F30: Dans les services utilisateurs, les gaz à usage médical sont stockés dans une/des pièces sécurisées, à accès interdit au public
A31: =RIGHT(D31,1) -> * | D31: 55* | E31: Arrêté du 25 juin 1980 | F31: La/les pièces de stockage des gaz à usage médical sont clairement identifiées, sécurisées, propres, ventilées (ventilation haute et basse sur la porte), à l'abri des intempéries et ne contiennent pas de sources de chaleur
A32: =RIGHT(D32,1) -> 6 | D32: 56 | E32: ANSM - Risques et précautions d'emploi liés à l'utilisation des gaz à usage médical | F32: Un panneau interdiction de fumer et les mesures de sécurité sont affichées dans les salles de stockage ou à proximité et facilement visibles
A33: =RIGHT(D33,1) -> 7 | D33: 57 | F33: En l'absence de local ou zone de stockage dédié aux gaz à usage médical dans le service, les bouteilles sont transportées de manière sécurisée (à l'aide de chariots, par du personnel formé) entre les différents services et suivent systématiquement un patient
A34: =RIGHT(D34,1) -> 8 | D34: 58 | F34: En l'absence de local ou zone de stockage dédié aux gaz à usage médical dans le service, les bouteilles proviennent directement de la PUI et retournent à la PUI sans stockage hors patient et hors zone dédiée et sécurisée
A35: =RIGHT(D35,1) -> 9 | D35: 59 | E35: ANSM - Risques et précautions d'emploi liés à l'utilisation des gaz à usage médical | F35: Les zones de stockage de chaque bouteille de gaz à usage médical (oxygène, MEOPA…) sont clairement identifiées, les bouteilles vides sont séparées des bouteilles pleines
A36: =RIGHT(D36,1) -> * | D36: 60* | E36: Résumé des caractéristiques du produit | F36: Les bouteilles de gaz à usage médical NE SONT PAS stockées dans le couloir Conseil de remplissage : - Les bouteilles sont stockées dans le couloir : répondre NON - Les bouteilles ne sont pas stockées dans le couloir : répondre OUI
A37: =RIGHT(D37,1) -> * | D37: 61* | E37: Résumé des caractéristiques du produit | F37: Les bouteilles de gaz à usage médical NE TIENNENT PAS une porte Conseil de remplissage : - Les bouteilles tiennent une porte : répondre NON - Les bouteilles ne tiennent pas une porte : répondre OUI
A38: =RIGHT(D38,1) -> * | D38: 62* | E38: Résumé des caractéristiques du produit | F38: Les bouteilles de gaz à usage médical sont stockées robinet fermé, en position verticale et arrimées par tout moyen approprié (chaînes, crochets…) afin de les protéger des risques de chute et de choc
A39: =RIGHT(D39,1) -> 3 | D39: 63 | E39: ANSM - Risques et précautions d'emploi liés à l'utilisation des gaz à usage médical | F39: Le personnel est formé à l'utilisation des gaz à usage médical, en particulier à l'administration, à périodicité donnée avec une traçabilité assurée La réponse à cette question est calculée automatiquement pour être identique à la 16 (onglet politique). Vous pouvez compléter d'un commentaire | J39: =IF(J23=$K$2,"",IF('4 - Politique'!$J$36="","",'4 - Politique'!$J$36)) | K39: =IF(K23=$K$2,"",IF('4 - Politique'!$J$36="","",'4 - Politique'!$J$36)) | L39: =IF(L23=$K$2,"",IF('4 - Politique'!$J$36="","",'4 - Politique'!$J$36)) | M39: =IF(M23=$K$2,"",IF('4 - Politique'!$J$36="","",'4 - Politique'!$J$36))
A40: =RIGHT(D40,1) -> 4 | D40: 64 | F40: Les équipes sont informées de la liste des gaz médicaux ayant le statut de médicament (Oxygène, MEOPA, protoxyde d'azote, monoxyde d'azote, xénon) La réponse à cette question est calculée automatiquement pour être identique à la 18 (onglet politique). Vous pouvez compléter d'un commentaire | J40: =IF(J23=$K$2,"",IF('4 - Politique'!$J$38="","",'4 - Politique'!$J$38)) | K40: =IF(K23=$K$2,"",IF('4 - Politique'!$J$38="","",'4 - Politique'!$J$38)) | L40: =IF(L23=$K$2,"",IF('4 - Politique'!$J$38="","",'4 - Politique'!$J$38)) | M40: =IF(M23=$K$2,"",IF('4 - Politique'!$J$38="","",'4 - Politique'!$J$38))
A41: =RIGHT(D41,1) | C41: Focus bouteilles d'oxygène
A42: =RIGHT(D42,1) -> 5 | D42: 65 | F42: Pour les dotations de service, le nombre de bouteilles d'oxygène stockées dans le service est en adéquation avec le nombre nécessaire (pas de manque ou de surstockage avec risque de périmé ou d'encombrement)
A43: =RIGHT(D43,1) -> 6 | D43: 66 | F43: Les bouteilles d'oxygène contenues dans le chariot d'urgence sont régulièrement vérifiées par lecture de l'étiquette, de la date de péremption et de leur capacité ou volume sortant
A44: =RIGHT(D44,1) | C44: Focus bouteilles de MEOPA
A45: =RIGHT(D45,1) -> 7 | D45: 67 | F45: Le nombre de bouteilles de MEOPA stockées dans le service est en adéquation avec le nombre nécessaire (pas de manque ou de surstockage avec risque de périmé ou d'encombrement)
A46: =RIGHT(D46,1) -> * | D46: 68* | E46: Résumé des caractéristiques du produit - MEOPA | F46: Les bouteilles de MEOPA ne sont administrées que sur la durée mentionnée sur l'ordonnance (liste I)
A47: =RIGHT(D47,1) | C47: Thématique : Administration
A48: =RIGHT(D48,1) -> * | C48: Administration | D48: 69* | E48: Arrêté du 6 avril 2011 | F48: L'administration de gaz médicaux ayant le statut de médicament est réalisée au regard de la prescription médicale
A49: =RIGHT(D49,1) -> 0 | D49: 70 | E49: ANSM - Risques et précautions d'emploi liés à l'utilisation des gaz à usage médical | F49: Avant l'administration, le personnel (IDE habilité(e) ou formé(e), médecin) s'assure qu'il n'y a pas de corps gras : ni sur leurs mains, ni sur celles du patient ni sur le visage du patient
A50: =RIGHT(D50,1) -> 1 | D50: 71 | E50: ANSM - Risques et précautions d'emploi liés à l'utilisation des gaz à usage médical | F50: Avant chaque administration, l'identité du gaz est vérifiée par lecture de l'étiquette sur le corps de la bouteille, de la péremption, de l'intégrité de la bouteille et de la présence d'équipements spécifiques nécessaires
A51: =RIGHT(D51,1) -> * | D51: 72* | E51: Arrêté du 6 avril 2011 | F51: Avant l'administration, le personnel s'assure de l'identité du patient
A52: =RIGHT(D52,1) -> 3 | D52: 73 | F52: Avant l'administration, le personnel informe le patient des mesures de sécurité à respecter lors de l'inhalation de gaz à usage médical
A53: =RIGHT(D53,1) -> 4 | D53: 74 | E53: ANSM - Risques et précautions d'emploi liés à l'utilisation des gaz à usage médical | F53: L'autonomie de la bouteille est systématiquement calculée permettant d'assurer la durée d'administration
A54: =RIGHT(D54,1) -> * | D54: 75* | E54: HAS - Evaluation de la prise en charge médicamenteuse selon le référentiel de certification | F54: L'administration est tracée dans le dossier informatisé du patient
A55: =RIGHT(D55,1) -> 6 | D55: 76 | F55: Au cours de l'administration, les bouteilles de gaz à usage médical sont stockées auprès des patients, en position verticale et arrimées par tout moyen approprié (chaînes, crochets, porte-lit, chariot de transport…) afin de les protéger des risques de chute et de choc
A56: =RIGHT(D56,1) -> 7 | D56: 77 | E56: ANSM - Risques et précautions d'emploi liés à l'utilisation des gaz à usage médical | F56: A la suite de l'administration, lorsque la bouteille est vide, celle-ci est transportée à l'aide de moyen approprié, robinet fermé et stockée dans le local dédié, dans la zone dédiée aux bouteilles vides et arrimée
A57: =RIGHT(D57,1) -> * | D57: 78* | E57: Arrêté du 22 octobre 1982 | F57: Les prises murales des gaz à usage médical sont clairement identifiées avec le nom du gaz correspondant de manière à éviter tout risque de confusion
A58: =RIGHT(D58,1) -> 9 | D58: 79 | E58: ANSM - Confusion air/oxygène | F58: Les débitmètres de l'air à usage médical sont branchés uniquement sur prescription médicale et retirés après chaque utilisation

Sheet 7 - Résultats
B2: RESTITUTION DES RÉSULTATS
B3: AUDIT DE PRATIQUE : CIRCUIT DES GAZ À USAGE MEDICAL
B4: EN ÉTABLISSEMENT DE SANTÉ
B5: =IF('3 - Établissement'!K9="","","Audit renseigné le "&TEXT('3 - Établissement'!K9,"jj/mm/aaaa"))
G8: =IF('3 - Établissement'!E1="","",UPPER( '3 - Établissement'!E1))
B9: =IF('3 - Établissement'!E9="","",UPPER( '3 - Établissement'!E9))
B10: =IF('3 - Établissement'!AD21<2,"SERVICE / UNITÉ DE SOINS RÉPONDEUR : ","SERVICES / UNITÉS DE SOINS RÉPONDEURS : ") -> SERVICE / UNITÉ DE SOINS RÉPONDEUR :
B11: =UPPER(_xlfn.TEXTJOIN(" ",TRUE,'3 - Établissement'!E21,'3 - Établissement'!E25,'3 - Établissement'!K21,'3 - Établissement'!K25))
B16: Vous visionnez un diaporama automatisé réalisé par l'OMEDIT NAGG à partir des données renseignées par votre établissement. L'équipe de l'OMEDIT remercie les personnes donnant leur avis sur leurs outils à des fins d'amélioration continue
B32: Sommaire
A34: 4 à 5 | D34: Présentation de l'audit
A35: 6 à 7 | D35: Contexte de réalisation de l'audit
A36: 8 | D36: Complétude de l'audit
D37: Résultats de l'audit
A38: 10 | D38: 1 | E38: Synthèse
A39: 11 à 12 | D39: 2 | E39: Évaluation thématique
A40: 13 | D40: 3 | E40: Unités et services de soins
D41: Annexes
A42: 15 | D42: 1 | E42: Évaluation de tous les critères - table détaillée
A43: 16 | D43: 2 | E43: Évaluation des critères obligatoires - table détaillée
B45: =D34 -> Présentation de l'audit
B48: Outil utilisé
C50: ○ Fichier Excel mis à disposition par l'OMEDIT NAGG dans le cadre de la prévention des never events
C51: https://www.omedit-nag.fr/outils-guides/never-events-et-medicaments-risque
C53: ○ Avec 4 onglets à renseigner :
C54: Avec options de réponse : oui, non, partiel, non concerné
C55: 1 | D55: Établissement
D56: Identification des personnes renseignant l'audit, contexte de réalisation
C57: 2 | D57: Politique de l'établissement | J57: ="avec "&L403&" critères, "&"dont "&P403&" obligatoires" -> avec 31 critères, dont 19 obligatoires
D58: Politique, gestion documentaire, formation, auto-évaluation, gestion des risques, prescription | J58: ="avec "&M404&" critères, "&"dont "&Q404&" obligatoires" -> avec 0 critères, dont 0 obligatoires
C59: 3 | D59: PUI et autre local | J59: ="avec "&L410&" critères, "&"dont "&P410&" obligatoires" -> avec 18 critères, dont 7 obligatoires
D60: Stockage : généralités et installation | J60: ="avec "&M406&" critères, "&"dont "&Q406&" obligatoires" -> avec 0 critères, dont 0 obligatoires
C61: 4 | D61: Services et unités de soins | J61: ="avec "&L414&" critères par service, "&"dont "&P414&" obligatoires" -> avec 30 critères par service, dont 11 obligatoires
D62: Stockage, focus oxygène, focus MEOPA, administration
D63: L'outil permet de renseigner jusqu'à 4 services!
C64: 🖨️ Ces 4 onglets sont calibrés pour être imprimés et/ou présentés en PDF
C66: ○ 1 Onglet de restitution automatisé
C67: 🖨️ Permettant un visionnage en mode diaporama une fois enregistré en PDF
B72: Modalités de participation
C74: ○ 2 Méthodologies possibles : observationnelle ou déclarative par interrogation des professionnels
C75: =IF('3 - Établissement'!K10="","","Méthodologie retenue : "&'3 - Établissement'!K10)
C77: ○ Audit renseigné :
C78: ="Le "&IF('3 - Établissement'!K9="","(date non précisée)",TEXT('3 - Établissement'!K9,"jj/mm/aaaa"))&IF('3 - Établissement'!E14=""," (nom de la personne ayant renseigné l'audit non précisé)",", par "&UPPER('3 - Établissement'!E14)&IF(IF('3 - Établissement'!E15='Liste '!A7,'3 - Établissement'!E16,'3 - Établissement'!E15)="",""," ("&IF('3 - Établissement'!E15='Liste '!A7,'3 - Établissement'!E16,'3 - Établissement'!E15)&")")) -> Le (date non précisée) (nom de la personne ayant renseigné l'audit non précisé)
C81: ○ Avec la participation des services et auditeurs suivants :
C83: service n°1 | K83: service n°2
C84: =IF('3 - Établissement'!E21="","Service non renseigné",'3 - Établissement'!E21) -> Service non renseigné | K84: =IF('3 - Établissement'!K21="","Service non renseigné",'3 - Établissement'!K21) -> Service non renseigné
C85: =IF('3 - Établissement'!E22="","",'3 - Établissement'!E22) | K85: =IF('3 - Établissement'!K22="","",'3 - Établissement'!K22)
C86: =IF('3 - Établissement'!E23="","",'3 - Établissement'!E23) | K86: =IF('3 - Établissement'!K23="","",'3 - Établissement'!K23)
C88: service n°3 | K88: service n°4
C89: =IF('3 - Établissement'!E25="","Service non renseigné",'3 - Établissement'!E25) -> Service non renseigné | K89: =IF('3 - Établissement'!K25="","Service non renseigné",'3 - Établissement'!K25) -> Service non renseigné
C90: =IF('3 - Établissement'!E26="","",'3 - Établissement'!E26) | K90: =IF('3 - Établissement'!K26="","",'3 - Établissement'!K26)
C91: =IF('3 - Établissement'!E27="","",'3 - Établissement'!E27) | K91: =IF('3 - Établissement'!K27="","",'3 - Établissement'!K27)
B93: =D35 -> Contexte de réalisation de l'audit
B95: Contexte | K95: Organisation du circuit des gaz à usage médical
C97: =IF('3 - Établissement'!C32="","non renseigné",'3 - Établissement'!C32) -> non renseigné | L97: =IF('3 - Établissement'!C38="","non renseigné",'3 - Établissement'!C38) -> non renseigné
B107: Risques identifiés a priori | K107: Risques identifiés a postériori (EI)
C109: =IF('3 - Établissement'!C44="","non renseigné",'3 - Établissement'!C44) -> non renseigné | L109: =IF('3 - Établissement'!C50="","non renseigné",'3 - Établissement'!C50) -> non renseigné
B116: =D36 -> Complétude de l'audit
B118: > Objectif : 100% pour permettre un état des lieux complet
B119: Méthode de calcul : (cellule renseignée = 1 + cellule vide = 0 ) / ensemble des critères | BA119: 0.5
BA120: 0.8
C121: Ensemble des critères | N121: =N434 -> 0
D122: Politique | N122: =N403 -> 0
D123: PUI | N123: =N410 -> 0
D124: =C84 -> Service non renseigné | N124: =IF(D124="Service non renseigné","",N414)
D125: =K84 -> Service non renseigné | N125: =IF(D125="Service non renseigné","",N415)
D126: =C89 -> Service non renseigné | N126: =IF(D126="Service non renseigné","",N416)
D127: =K89 -> Service non renseigné | N127: =IF(D127="Service non renseigné","",N417)
C129: Critères obligatoires | N129: =R434 -> 0
D130: =D122 -> Politique | N130: =R403 -> 0
D131: =D123 -> PUI | N131: =R410 -> 0
D132: =D124 -> Service non renseigné | N132: =IF(D124="Service non renseigné","",R414)
D133: =D125 -> Service non renseigné | N133: =IF(D125="Service non renseigné","",R415)
D134: =D126 -> Service non renseigné | N134: =IF(D126="Service non renseigné","",R416)
D135: =D127 -> Service non renseigné | N135: =IF(D127="Service non renseigné","",R417)
B140: =D37 -> Résultats de l'audit
B157: =E38 -> Synthèse
B160: > Modalités de calcul du numérateur : Oui = 1 ; Partiel = 0,5 ; Non = 0 ; Non répondu = 0
B161: L'absence de réponse (non répondu) = Non
B162: > Méthode de calcul du dénominateur : ensemble des critères, après exclusion des réponses "non applicables"
B164: Note : les résultats de ces évaluations incluent uniquement les services pour lesquels vous avez renseigné le nom, onglet établissement.
C165: ="Évaluation générale = "&TEXT(R329,"0%") -> Évaluation générale = 0%
C167: ="Évaluation générale, focus sur les critères obligatoires = "&TEXT(R376,"0%") -> Évaluation générale, focus sur les critères obligatoires = 0%
B173: Évaluation par thématique
C175: Rappel des modalités de calcul :
C176: (Oui = 1 + Partiel = 0,5 + Non = 0 + Non répondu = 0) / (total - non applicable)
AK184: tous les critères
AK185: thème | AM185: =L288 -> 0 | AN185: =M288 -> oui | AO185: =N288 -> non | AP185: =O288 -> partiel | AQ185: =P288 -> non applicable | AR185: non répondu | AS185: colonne vide | AT185: =R287 -> Évaluation | AU185: étiquette
AK191: Politique | AM191: =L291 -> 31 | AN191: =M291 -> 0 | AO191: =N291 -> 0 | AP191: =O291 -> 0 | AQ191: =P291 -> 0 | AR191: =AM191-SUM(AN191:AQ191) -> 31 | AS191: 0 | AT191: =R291 -> 0 | AU191: ="moy. = "&TEXT(AT191,"0%")&" ("&AN191+(AP191/2)&"/"&AM191-AQ191&")" -> moy. = 0% (0/31)
AK192: PUI et autre local | AM192: =L299 -> 18 | AN192: =M299 -> 0 | AO192: =N299 -> 0 | AP192: =O299 -> 0 | AQ192: =P299 -> 0 | AR192: =AM192-SUM(AN192:AQ192) -> 18 | AS192: 0 | AT192: =R299 -> 0 | AU192: ="moy. = "&TEXT(AT192,"0%")&" ("&AN192+(AP192/2)&"/"&AM192-AQ192&")" -> moy. = 0% (0/18)
AK193: Service 1 | AM193: =L308 -> 30 | AN193: =M308 -> 0 | AO193: =N308 -> 0 | AP193: =O308 -> 0 | AQ193: =P308 -> 0 | AR193: =AM193-SUM(AN193:AQ193) -> 30 | AS193: 0 | AT193: =R308 -> NC | AU193: ="moy. = "&TEXT(AT193,"0%")&" ("&AN193+(AP193/2)&"/"&AM193-AQ193&")" -> moy. = NC (0/30)
AK194: Service 2 | AM194: =L309 -> 30 | AN194: =M309 -> 0 | AO194: =N309 -> 0 | AP194: =O309 -> 0 | AQ194: =P309 -> 0 | AR194: =AM194-SUM(AN194:AQ194) -> 30 | AS194: 0 | AT194: =R309 -> NC | AU194: ="moy. = "&TEXT(AT194,"0%")&" ("&AN194+(AP194/2)&"/"&AM194-AQ194&")" -> moy. = NC (0/30)
AK195: Service 3 | AM195: =L310 -> 30 | AN195: =M310 -> 0 | AO195: =N310 -> 0 | AP195: =O310 -> 0 | AQ195: =P310 -> 0 | AR195: =AM195-SUM(AN195:AQ195) -> 30 | AS195: 0 | AT195: =R310 -> NC | AU195: ="moy. = "&TEXT(AT195,"0%")&" ("&AN195+(AP195/2)&"/"&AM195-AQ195&")" -> moy. = NC (0/30)
B196: ="Correspondance nom - numéro de service : "&'3 - Établissement'!AF21 -> Correspondance nom - numéro de service : | AK196: Service 4 | AM196: =L311 -> 30 | AN196: =M311 -> 0 | AO196: =N311 -> 0 | AP196: =O311 -> 0 | AQ196: =P311 -> 0 | AR196: =AM196-SUM(AN196:AQ196) -> 30 | AS196: 0 | AT196: =R311 -> NC | AU196: ="moy. = "&TEXT(AT196,"0%")&" ("&AN196+(AP196/2)&"/"&AM196-AQ196&")" -> moy. = NC (0/30)
AK197: total | AM197: =SUM(AM191:AM196) -> 169 | AN197: =SUM(AN191:AN196) -> 0 | AO197: =SUM(AO191:AO196) -> 0 | AP197: =SUM(AP191:AP196) -> 0 | AQ197: =SUM(AQ191:AQ196) -> 0 | AR197: =SUM(AR191:AR196) -> 169 | AS197: =SUM(AS191:AS196) -> 0 | AT197: =R329 -> 0 | AU197: ="moy. = "&TEXT(AT197,"0%")&" ("&AN197+(AP197/2)&"/"&AM197-AQ197&")" -> moy. = 0% (0/169)
B198: Évaluation par thématique : focus sur les critères obligatoires
C199: Rappel des modalités de calcul :
C200: (Oui = 1 + Partiel = 0,5 + Non = 0 + Non répondu = 0) / (total - non applicable)
AK207: Critères
AK208: thème | AM208: n | AN208: oui | AO208: non | AP208: partiel | AQ208: non applicable | AR208: non répondu | AS208: colonne vide | AT208: Taux de conformités | AU208: étiquette
...

Sheet BDD_pour_OMEDIT
AT1: Base de données (si maj > maj à reporter sur l'onglet TCD) | BL1: manuel
A2: onglet contexte ES | U2: complétude | Z2: =Z4 -> Évaluation de tous les critères - table détaillée | AJ2: =AJ4 -> Évaluation des critères obligatoires - table détaillée | AT2: formule | BO2: formule | BQ2: formule | BV2: formule différente
AX3: Tous les critères | BE3: Critères obligatoires
A4: ES | B4: dep | C4: date | D4: contexte | E4: organisation | F4: risques à priori | G4: ei | H4: renseignant 1 | I4: renseignant 2 | J4: service 1 | K4: service 2 | L4: service 3 | M4: service 4 | O4: Numéro de service | P4: Nom de service | Q4: statut | U4: ='7 - Résultats'!C121 -> Ensemble des critères | V4: ='7 - Résultats'!N121 -> 0 | W4: ='7 - Résultats'!C129 -> Critères obligatoires | X4: ='7 - Résultats'!N129 -> 0 | Z4: ='7 - Résultats'!B284 -> Évaluation de tous les critères - table détaillée | AB4: ='7 - Résultats'!L287 -> Nombre de critères | AC4: ='7 - Résultats'!M288 -> oui | AD4: ='7 - Résultats'!N288 -> non | AE4: ='7 - Résultats'!O288 -> partiel | AF4: ='7 - Résultats'!P288 -> non applicable | AG4: ='7 - Résultats'!Q288 -> non répondu | AH4: ='7 - Résultats'!R287 -> Évaluation | AJ4: ='7 - Résultats'!B331 -> Évaluation des critères obligatoires - table détaillée | AL4: Nombre de critères | AM4: oui | AN4: non | AO4: partiel | AP4: non applicable | AQ4: non répondu | AR4: Évaluation | AT4: =A4 -> ES | AU4: nombre de (nom de) service(s) renseigné(s) | AV4: complétude | AW4: complétude questions obligatoires | AX4: Nombre de critères Scores tous les critères | AY4: oui Scores tous les critères | AZ4: non Scores tous les critères | BA4: partiel Scores tous les critères | BB4: non applicable Scores tous les critères | BC4: non répondu Scores tous les critères | BD4: Évaluation Scores tous les critères | BE4: Nombre de critères Scores les critères obligatoires | BF4: oui Scores les critères obligatoires | BG4: non Scores les critères obligatoires | BH4: partiel Scores les critères obligatoires | BI4: non applicable Scores les critères obligatoires | BJ4: non répondu Scores les critères obligatoires | BK4: Évaluation Scores les critères obligatoires | BL4: Onglet | BM4: numéro de service | BN4: Chapitre | BO4: Unité à inclure ou exclure | BP4: Type de critère | BQ4: ='4 - Politique'!B16 -> Chapitre | BR4: ='4 - Politique'!C16 -> Thème | BS4: ='4 - Politique'!D16 -> N° de critère | BT4: ='4 - Politique'!E16 -> Source, si existante | BU4: Élements observés | BV4: ='4 - Politique'!J16 -> Réponse | BW4: ='4 - Politique'!K16 -> Commentaire
A5: ='3 - Établissement'!$E$9 -> 0 | B5: ='3 - Établissement'!$E$10 -> 0 | C5: ='3 - Établissement'!$K$9 -> 0 | D5: ='3 - Établissement'!$C$32 -> 0 | E5: ='3 - Établissement'!C38 -> 0 | F5: ='3 - Établissement'!C44 -> 0 | G5: ='3 - Établissement'!C50 -> 0 | H5: ='7 - Résultats'!C78 -> Le (date non précisée) (nom de la personne ayant renseigné l'audit non précisé) | I5: ='3 - Établissement'!K14 -> 0 | J5: ='7 - Résultats'!C84 -> Service non renseigné | K5: ='7 - Résultats'!K84 -> Service non renseigné | L5: ='7 - Résultats'!C89 -> Service non renseigné | M5: ='7 - Résultats'!K89 -> Service non renseigné | O5: service 1 | P5: ='3 - Établissement'!E21 -> 0 | Q5: =IF(P5=0,"à exclure, nom pas renseigné","à inclure, nom de service bien renseigné") -> à exclure, nom pas renseigné | U5: ='7 - Résultats'!D122 -> Politique | V5: ='7 - Résultats'!N122 -> 0 | W5: ='7 - Résultats'!D130 -> Politique | X5: ='7 - Résultats'!N130 -> 0 | Z5: ='7 - Résultats'!B291 -> Politique | AA5: chapitre | AB5: ='7 - Résultats'!L291 -> 31 | AC5: ='7 - Résultats'!M291 -> 0 | AD5: ='7 - Résultats'!N291 -> 0 | AE5: ='7 - Résultats'!O291 -> 0 | AF5: ='7 - Résultats'!P291 -> 0 | AG5: ='7 - Résultats'!Q291 -> 31 | AH5: ='7 - Résultats'!R291 -> 0 | AJ5: Politique | AK5: chapitre | AL5: ='7 - Résultats'!L338 -> 19 | AM5: ='7 - Résultats'!M338 -> 0 | AN5: ='7 - Résultats'!N338 -> 0 | AO5: ='7 - Résultats'!O338 -> 0 | AP5: ='7 - Résultats'!P338 -> 0 | AQ5: ='7 - Résultats'!Q338 -> 19 | AR5: ='7 - Résultats'!R338 -> 0 | AT5: =$A$5 -> 0 | AU5: =4-COUNTIF(P5:P8,0) -> 0 | AV5: =V4 -> 0 | AW5: =X4 -> 0 | AX5: =AB35 -> 49 | AY5: =AC35 -> 0 | AZ5: =AD35 -> 0 | BA5: =AE35 -> 0 | BB5: =AF35 -> 0 | BC5: =AG35 -> 49 | BD5: =AH35 -> 0 | BE5: =AL35 -> 26 | BF5: =AM35 -> 0 | BG5: =AN35 -> 0 | BH5: =AO35 -> 0 | BI5: =AP35 -> 0 | BJ5: =AQ35 -> 26 | BK5: =AR35 -> 0 | BL5: Politique | BN5: Politique générale | BP5: =IF(COUNTIF(BS5,"*~*")>0,"obligatoire","non-obligatoire") -> obligatoire | BQ5: ='4 - Politique'!B19 -> Politique des gaz médicaux et système documentaire | BR5: ='4 - Politique'!C19 -> Politique générale | BS5: ='4 - Politique'!D19 -> 1* | BT5: ='4 - Politique'!E19 -> Arrêté du 6 avril 2011 | BU5: ='4 - Politique'!F19 -> Il existe un document décrivant la politique qualité/sécurité/efficience des gaz à usage médical au sein de la structure | BV5: ='4 - Politique'!J19 -> 0 | BW5: ='4 - Politique'!K19 -> 0
A6: ='3 - Établissement'!$E$9 -> 0 | O6: service 2 | P6: ='3 - Établissement'!K21 -> 0 | Q6: =IF(P6=0,"à exclure, nom pas renseigné","à inclure, nom de service bien renseigné") -> à exclure, nom pas renseigné | U6: ='7 - Résultats'!D123 -> PUI | V6: ='7 - Résultats'!N123 -> 0 | W6: ='7 - Résultats'!D131 -> PUI | X6: ='7 - Résultats'!N131 -> 0 | Z6: ='7 - Résultats'!B292 -> Politique | AB6: ='7 - Résultats'!L292 -> 8 | AC6: ='7 - Résultats'!M292 -> 0 | AD6: ='7 - Résultats'!N292 -> 0 | AE6: ='7 - Résultats'!O292 -> 0 | AF6: ='7 - Résultats'!P292 -> 0 | AG6: ='7 - Résultats'!Q292 -> 8 | AH6: ='7 - Résultats'!R292 -> 0 | AJ6: Politique | AL6: ='7 - Résultats'!L339 -> 6 | AM6: ='7 - Résultats'!M339 -> 0 | AN6: ='7 - Résultats'!N339 -> 0 | AO6: ='7 - Résultats'!O339 -> 0 | AP6: ='7 - Résultats'!P339 -> 0 | AQ6: ='7 - Résultats'!Q339 -> 6 | AR6: ='7 - Résultats'!R339 -> 0 | AT6: =$A$5 -> 0 | BL6: Politique | BN6: Politique générale | BP6: =IF(COUNTIF(BS6,"*~*")>0,"obligatoire","non-obligatoire") -> obligatoire | BQ6: ='4 - Politique'!B20 -> 0 | BR6: ='4 - Politique'!C20 -> 0 | BS6: ='4 - Politique'!D20 -> 2* | BT6: ='4 - Politique'!E20 -> Arrêté du 6 avril 2011 | BU6: ='4 - Politique'!F20 -> Il existe un programme d'actions qualité/sécurité/efficience qui intègre les actions, les pilotes, le calendrier et les modalités de suivi (indicateurs, audits, …) | BV6: ='4 - Politique'!J20 -> 0 | BW6: ='4 - Politique'!K20 -> 0
A7: ='3 - Établissement'!$E$9 -> 0 | O7: service 3 | P7: ='3 - Établissement'!E25 -> 0 | Q7: =IF(P7=0,"à exclure, nom pas renseigné","à inclure, nom de service bien renseigné") -> à exclure, nom pas renseigné | U7: service 1 | V7: ='7 - Résultats'!N124 | W7: service 1 | X7: ='7 - Résultats'!N132 | Z7: ='7 - Résultats'!B293 -> Gestion documentaire | AB7: ='7 - Résultats'!L293 -> 7 | AC7: ='7 - Résultats'!M293 -> 0 | AD7: ='7 - Résultats'!N293 -> 0 | AE7: ='7 - Résultats'!O293 -> 0 | AF7: ='7 - Résultats'!P293 -> 0 | AG7: ='7 - Résultats'!Q293 -> 7 | AH7: ='7 - Résultats'!R293 -> 0 | AJ7: Gestion documentaire | AL7: ='7 - Résultats'!L340 -> 4 | AM7: ='7 - Résultats'!M340 -> 0 | AN7: ='7 - Résultats'!N340 -> 0 | AO7: ='7 - Résultats'!O340 -> 0 | AP7: ='7 - Résultats'!P340 -> 0 | AQ7: ='7 - Résultats'!Q340 -> 4 | AR7: ='7 - Résultats'!R340 -> 0 | AT7: =$A$5 -> 0 | BL7: Politique | BN7: Politique générale | BP7: =IF(COUNTIF(BS7,"*~*")>0,"obligatoire","non-obligatoire") -> obligatoire | BQ7: ='4 - Politique'!B21 -> 0 | BR7: ='4 - Politique'!C21 -> 0 | BS7: ='4 - Politique'!D21 -> 3* | BT7: ='4 - Politique'!E21 -> Arrêté du 6 avril 2011 | BU7: ='4 - Politique'!F21 -> Un plan de formation pluriannuel, pluriprofessionnel et pluridisciplinaire est défini sur le circuit et l'utilisation des gaz à usage médical | BV7: ='4 - Politique'!J21 -> 0 | BW7: ='4 - Politique'!K21 -> 0
A8: ='3 - Établissement'!$E$9 -> 0 | O8: service 4 | P8: ='3 - Établissement'!K25 -> 0 | Q8: =IF(P8=0,"à exclure, nom pas renseigné","à inclure, nom de service bien renseigné") -> à exclure, nom pas renseigné | U8: service 2 | V8: ='7 - Résultats'!N125 | W8: service 2 | X8: ='7 - Résultats'!N133 | Z8: ='7 - Résultats'!B294 -> Formation | AB8: ='7 - Résultats'!L294 -> 5 | AC8: ='7 - Résultats'!M294 -> 0 | AD8: ='7 - Résultats'!N294 -> 0 | AE8: ='7 - Résultats'!O294 -> 0 | AF8: ='7 - Résultats'!P294 -> 0 | AG8: ='7 - Résultats'!Q294 -> 5 | AH8: ='7 - Résultats'!R294 -> 0 | AJ8: Formation | AL8: ='7 - Résultats'!L341 -> 3 | AM8: ='7 - Résultats'!M341 -> 0 | AN8: ='7 - Résultats'!N341 -> 0 | AO8: ='7 - Résultats'!O341 -> 0 | AP8: ='7 - Résultats'!P341 -> 0 | AQ8: ='7 - Résultats'!Q341 -> 3 | AR8: ='7 - Résultats'!R341 -> 0 | AT8: =$A$5 -> 0 | BL8: Politique | BN8: Politique générale | BP8: =IF(COUNTIF(BS8,"*~*")>0,"obligatoire","non-obligatoire") -> obligatoire | BQ8: ='4 - Politique'!B22 -> 0 | BR8: ='4 - Politique'!C22 -> 0 | BS8: ='4 - Politique'!D22 -> 4* | BT8: ='4 - Politique'!E22 -> Circulaire DGS/3A/667 bis du 10 octobre 1985 | BU8: ='4 - Politique'!F22 -> Il existe une commission des gaz dans l'ES et elle se réunit régulièrement | BV8: ='4 - Politique'!J22 -> 0 | BW8: ='4 - Politique'!K22 -> 0
A9: ='3 - Établissement'!$E$9 -> 0 | U9: service 3 | V9: ='7 - Résultats'!N126 | W9: service 3 | X9: ='7 - Résultats'!N134 | Z9: ='7 - Résultats'!B295 -> Autoévaluation | AB9: ='7 - Résultats'!L295 -> 1 | AC9: ='7 - Résultats'!M295 -> 0 | AD9: ='7 - Résultats'!N295 -> 0 | AE9: ='7 - Résultats'!O295 -> 0 | AF9: ='7 - Résultats'!P295 -> 0 | AG9: ='7 - Résultats'!Q295 -> 1 | AH9: ='7 - Résultats'!R295 -> 0 | AJ9: Autoévaluation | AL9: ='7 - Résultats'!L342 -> 0 | AM9: ='7 - Résultats'!M342 -> 0 | AN9: ='7 - Résultats'!N342 -> 0 | AO9: ='7 - Résultats'!O342 -> 0 | AP9: ='7 - Résultats'!P342 -> 0 | AQ9: ='7 - Résultats'!Q342 -> 0 | AR9: ='7 - Résultats'!R342 -> NC | AT9: =$A$5 -> 0 | BL9: Politique | BN9: Politique générale | BP9: =IF(COUNTIF(BS9,"*~*")>0,"obligatoire","non-obligatoire") -> non-obligatoire | BQ9: ='4 - Politique'!B23 -> 0 | BR9: ='4 - Politique'!C23 -> 0 | BS9: ='4 - Politique'!D23 -> 5 | BT9: ='4 - Politique'!E23 -> 0 | BU9: ='4 - Politique'!F23 -> Il y a un pharmacien référent des fluides médicaux dans l'établissement et il est connu de tous les intervenants concernés (utilisateurs, soignants, directeurs, services techniques,…) | BV9: ='4 - Politique'!J23 -> 0 | BW9: ='4 - Politique'!K23 -> 0
A10: ='3 - Établissement'!$E$9 -> 0 | U10: service 4 | V10: ='7 - Résultats'!N127 | W10: service 4 | X10: ='7 - Résultats'!N135 | Z10: ='7 - Résultats'!B296 -> Gestion des risques | AB10: ='7 - Résultats'!L296 -> 6 | AC10: ='7 - Résultats'!M296 -> 0 | AD10: ='7 - Résultats'!N296 -> 0 | AE10: ='7 - Résultats'!O296 -> 0 | AF10: ='7 - Résultats'!P296 -> 0 | AG10: ='7 - Résultats'!Q296 -> 6 | AH10: ='7 - Résultats'!R296 -> 0 | AJ10: Gestion des risques | AL10: ='7 - Résultats'!L343 -> 4 | AM10: ='7 - Résultats'!M343 -> 0 | AN10: ='7 - Résultats'!N343 -> 0 | AO10: ='7 - Résultats'!O343 -> 0 | AP10: ='7 - Résultats'!P343 -> 0 | AQ10: ='7 - Résultats'!Q343 -> 4 | AR10: ='7 - Résultats'!R343 -> 0 | AT10: =$A$5 -> 0 | BL10: Politique | BN10: Politique générale | BP10: =IF(COUNTIF(BS10,"*~*")>0,"obligatoire","non-obligatoire") -> non-obligatoire | BQ10: ='4 - Politique'!B24 -> 0 | BR10: ='4 - Politique'!C24 -> 0 | BS10: ='4 - Politique'!D24 -> 6 | BT10: ='4 - Politique'!E24 -> Société Française d'Anesthésie Réanimation | BU10: ='4 - Politique'!F24 -> Les réseaux de protoxyde d'azote (N2O) ont été arrêtés | BV10: ='4 - Politique'!J24 -> 0 | BW10: ='4 - Politique'!K24 -> 0
A11: ='3 - Établissement'!$E$9 -> 0 | Z11: ='7 - Résultats'!B297 -> Prescription | AB11: ='7 - Résultats'!L297 -> 4 | AC11: ='7 - Résultats'!M297 -> 0 | AD11: ='7 - Résultats'!N297 -> 0 | AE11: ='7 - Résultats'!O297 -> 0 | AF11: ='7 - Résultats'!P297 -> 0 | AG11: ='7 - Résultats'!Q297 -> 4 | AH11: ='7 - Résultats'!R297 -> 0 | AJ11: Prescription | AL11: ='7 - Résultats'!L344 -> 2 | AM11: ='7 - Résultats'!M344 -> 0 | AN11: ='7 - Résultats'!N344 -> 0 | AO11: ='7 - Résultats'!O344 -> 0 | AP11: ='7 - Résultats'!P344 -> 0 | AQ11: ='7 - Résultats'!Q344 -> 2 | AR11: ='7 - Résultats'!R344 -> 0 | AT11: =$A$5 -> 0 | BL11: Politique | BN11: Politique générale | BP11: =IF(COUNTIF(BS11,"*~*")>0,"obligatoire","non-obligatoire") -> obligatoire | BQ11: ='4 - Politique'!B25 -> 0 | BR11: ='4 - Politique'!C25 -> 0 | BS11: ='4 - Politique'!D25 -> 7* | BT11: ='4 - Politique'!E25 -> Article L3131-11 du CSP | BU11: ='4 - Politique'!F25 -> Des modalités d'organisation spécifiques sont prévues en cas de situations exceptionnelles (commandes des services de soins, PUI, …) | BV11: ='4 - Politique'!J25 -> 0 | BW11: ='4 - Politique'!K25 -> 0
A12: ='3 - Établissement'!$E$9 -> 0 | AT12: =$A$5 -> 0 | BL12: Politique | BN12: Politique générale | BP12: =IF(COUNTIF(BS12,"*~*")>0,"obligatoire","non-obligatoire") -> obligatoire | BQ12: ='4 - Politique'!B26 -> 0 | BR12: ='4 - Politique'!C26 -> 0 | BS12: ='4 - Politique'!D26 -> 8* | BT12: ='4 - Politique'!E26 -> Article L3131-7 du CSP | BU12: ='4 - Politique'!F26 -> L'établissement dispose d'un Plan de Continuité et de Reprise d'Activité (PCRA) | BV12: ='4 - Politique'!J26 -> 0 | BW12: ='4 - Politique'!K26 -> 0
A13: ='3 - Établissement'!$E$9 -> 0 | Z13: ='7 - Résultats'!B299 -> PUI et autre local | AA13: chapitre | AB13: ='7 - Résultats'!L299 -> 18 | AC13: ='7 - Résultats'!M299 -> 0 | AD13: ='7 - Résultats'!N299 -> 0 | AE13: ='7 - Résultats'!O299 -> 0 | AF13: ='7 - Résultats'!P299 -> 0 | AG13: ='7 - Résultats'!Q299 -> 18 | AH13: ='7 - Résultats'!R299 -> 0 | AJ13: PUI et autre local | AK13: chapitre | AL13: ='7 - Résultats'!L346 -> 7 | AM13: ='7 - Résultats'!M346 -> 0 | AN13: ='7 - Résultats'!N346 -> 0 | AO13: ='7 - Résultats'!O346 -> 0 | AP13: ='7 - Résultats'!P346 -> 0 | AQ13: ='7 - Résultats'!Q346 -> 7 | AR13: ='7 - Résultats'!R346 -> 0 | AT13: =$A$5 -> 0 | BL13: Politique | BP13: =IF(COUNTIF(BS13,"*~*")>0,"obligatoire","non-obligatoire") -> non-obligatoire | BQ13: ='4 - Politique'!B27 -> 0 | BR13: ='4 - Politique'!C27 -> Thématique : Gestion documentaire | BS13: ='4 - Politique'!D27 -> 0 | BT13: ='4 - Politique'!E27 -> 0 | BU13: ='4 - Politique'!F27 -> 0 | BV13: ='4 - Politique'!J27 -> 0 | BW13: ='4 - Politique'!K27 -> 0
A14: ='3 - Établissement'!$E$9 -> 0 | Z14: ='7 - Résultats'!B300 -> Stockage | AB14: ='7 - Résultats'!L300 -> 12 | AC14: ='7 - Résultats'!M300 -> 0 | AD14: ='7 - Résultats'!N300 -> 0 | AE14: ='7 - Résultats'!O300 -> 0 | AF14: ='7 - Résultats'!P300 -> 0 | AG14: ='7 - Résultats'!Q300 -> 12 | AH14: ='7 - Résultats'!R300 -> 0 | AJ14: Stockage | AL14: ='7 - Résultats'!L347 -> 6 | AM14: ='7 - Résultats'!M347 -> 0 | AN14: ='7 - Résultats'!N347 -> 0 | AO14: ='7 - Résultats'!O347 -> 0 | AP14: ='7 - Résultats'!P347 -> 0 | AQ14: ='7 - Résultats'!Q347 -> 6 | AR14: ='7 - Résultats'!R347 -> 0 | AT14: =$A$5 -> 0 | BL14: Politique | BN14: Gestion documentaire | BP14: =IF(COUNTIF(BS14,"*~*")>0,"obligatoire","non-obligatoire") -> obligatoire | BQ14: ='4 - Politique'!B28 -> 0 | BR14: ='4 - Politique'!C28 -> Gestion documentaire | BS14: ='4 - Politique'!D28 -> 9* | BT14: ='4 - Politique'!E28 -> Arrêté du 6 avril 2011 | BU14: ='4 - Politique'!F28 -> Il existe un manuel qualité général de la prise en charge médicamenteuse, qui intègre les éléments en lien avec les gaz à usage médical ou un manuel qualité spécifique intégrant des documents décrivant l'approvisionnement, la gestion, les règles d'utilisation (…) des gaz à usage médical | BV14: ='4 - Politique'!J28 -> 0 | BW14: ='4 - Politique'!K28 -> 0
A15: ='3 - Établissement'!$E$9 -> 0 | Z15: ='7 - Résultats'!B301 -> Installation de gaz | AB15: ='7 - Résultats'!L301 -> 6 | AC15: ='7 - Résultats'!M301 -> 0 | AD15: ='7 - Résultats'!N301 -> 0 | AE15: ='7 - Résultats'!O301 -> 0 | AF15: ='7 - Résultats'!P301 -> 0 | AG15: ='7 - Résultats'!Q301 -> 6 | AH15: ='7 - Résultats'!R301 -> 0 | AJ15: Installation de gaz | AL15: ='7 - Résultats'!L348 -> 1 | AM15: ='7 - Résultats'!M348 -> 0 | AN15: ='7 - Résultats'!N348 -> 0 | AO15: ='7 - Résultats'!O348 -> 0 | AP15: ='7 - Résultats'!P348 -> 0 | AQ15: ='7 - Résultats'!Q348 -> 1 | AR15: ='7 - Résultats'!R348 -> 0 | AT15: =$A$5 -> 0 | BL15: Politique | BN15: Gestion documentaire | BP15: =IF(COUNTIF(BS15,"*~*")>0,"obligatoire","non-obligatoire") -> obligatoire | BQ15: ='4 - Politique'!B29 -> 0 | BR15: ='4 - Politique'!C29 -> 0 | BS15: ='4 - Politique'!D29 -> 10* | BT15: ='4 - Politique'!E29 -> Arrêté du 6 avril 2011 | BU15: ='4 - Politique'!F29 -> Il existe une procédure générale décrivant le circuit des gaz à usage médical et les responsabilités des différents acteurs participant à la gestion du circuit des gaz à usage médical | BV15: ='4 - Politique'!J29 -> 0 | BW15: ='4 - Politique'!K29 -> 0
A16: ='3 - Établissement'!$E$9 -> 0 | AT16: =$A$5 -> 0 | BL16: Politique | BN16: Gestion documentaire | BP16: =IF(COUNTIF(BS16,"*~*")>0,"obligatoire","non-obligatoire") -> obligatoire | BQ16: ='4 - Politique'!B30 -> 0 | BR16: ='4 - Politique'!C30 -> 0 | BS16: ='4 - Politique'!D30 -> 11* | BT16: ='4 - Politique'!E30 -> Arrêté du 6 avril 2011 | BU16: ='4 - Politique'!F30 -> Les documents relatifs aux gaz à usage médical et modes opératoires de votre établissement sont accessibles et connus des différents acteurs participant à, ou impliqués dans la gestion du circuit des gaz à usage médical | BV16: ='4 - Politique'!J30 -> 0 | BW16: ='4 - Politique'!K30 -> 0
A17: ='3 - Établissement'!$E$9 -> 0 | Z17: ='7 - Résultats'!B303 -> Services et unités de soins | AA17: chapitre | AB17: ='7 - Résultats'!L303 -> 0 | AC17: ='7 - Résultats'!M303 -> 0 | AD17: ='7 - Résultats'!N303 -> 0 | AE17: ='7 - Résultats'!O303 -> 0 | AF17: ='7 - Résultats'!P303 -> 0 | AG17: ='7 - Résultats'!Q303 -> 0 | AH17: ='7 - Résultats'!R303 -> #DIV/0! | AJ17: Services et unités de soins | AK17: chapitre | AL17: ='7 - Résultats'!L350 -> 0 | AM17: ='7 - Résultats'!M350 -> 0 | AN17: ='7 - Résultats'!N350 -> 0 | AO17: ='7 - Résultats'!O350 -> 0 | AP17: ='7 - Résultats'!P350 -> 0 | AQ17: ='7 - Résultats'!Q350 -> 0 | AR17: ='7 - Résultats'!R350 -> NC | AT17: =$A$5 -> 0 | BL17: Politique | BN17: Gestion documentaire | BP17: =IF(COUNTIF(BS17,"*~*")>0,"obligatoire","non-obligatoire") -> non-obligatoire | BQ17: ='4 - Politique'!B31 -> 0 | BR17: ='4 - Politique'!C31 -> 0 | BS17: ='4 - Politique'!D31 -> 12 | BT17: ='4 - Politique'!E31 -> 0 | BU17: ='4 - Politique'!F31 -> Il existe une procédure relative à la dispensation d'un gaz à usage médical en urgence et en dehors des horaires d'ouverture de la pharmacie | BV17: ='4 - Politique'!J31 -> 0 | BW17: ='4 - Politique'!K31 -> 0
A18: ='3 - Établissement'!$E$9 -> 0 | Z18: ='7 - Résultats'!B312 -> Stockage | AA18: service 1 | AB18: ='7 - Résultats'!L312 -> 15 | AC18: ='7 - Résultats'!M312 -> 0 | AD18: ='7 - Résultats'!N312 -> 0 | AE18: ='7 - Résultats'!O312 -> 0 | AF18: ='7 - Résultats'!P312 -> 0 | AG18: ='7 - Résultats'!Q312 -> 15 | AH18: ='7 - Résultats'!R312 -> NC | AJ18: Stockage | AK18: service 1 | AL18: ='7 - Résultats'!L359 -> 6 | AM18: ='7 - Résultats'!M359 -> 0 | AN18: ='7 - Résultats'!N359 -> 0 | AO18: ='7 - Résultats'!O359 -> 0 | AP18: ='7 - Résultats'!P359 -> 0 | AQ18: ='7 - Résultats'!Q359 -> 6 | AR18: ='7 - Résultats'!R359 -> NC | AT18: =$A$5 -> 0 | BL18: Politique | BN18: Gestion documentaire | BP18: =IF(COUNTIF(BS18,"*~*")>0,"obligatoire","non-obligatoire") -> non-obligatoire | BQ18: ='4 - Politique'!B32 -> 0 | BR18: ='4 - Politique'!C32 -> 0 | BS18: ='4 - Politique'!D32 -> 13 | BT18: ='4 - Politique'!E32 -> 0 | BU18: ='4 - Politique'!F32 -> Il existe une procédure sur les modalités de gestion en cas de températures inférieures à 0°C dans le local de stockage des bouteilles de MEOPA | BV18: ='4 - Politique'!J32 -> 0 | BW18: ='4 - Politique'!K32 -> 0
A19: ='3 - Établissement'!$E$9 -> 0 | AA19: service 2 | AB19: ='7 - Résultats'!L313 -> 15 | AC19: ='7 - Résultats'!M313 -> 0 | AD19: ='7 - Résultats'!N313 -> 0 | AE19: ='7 - Résultats'!O313 -> 0 | AF19: ='7 - Résultats'!P313 -> 0 | AG19: ='7 - Résultats'!Q313 -> 15 | AH19: ='7 - Résultats'!R313 -> NC | AK19: service 2 | AL19: ='7 - Résultats'!L360 -> 6 | AM19: ='7 - Résultats'!M360 -> 0 | AN19: ='7 - Résultats'!N360 -> 0 | AO19: ='7 - Résultats'!O360 -> 0 | AP19: ='7 - Résultats'!P360 -> 0 | AQ19: ='7 - Résultats'!Q360 -> 6 | AR19: ='7 - Résultats'!R360 -> NC | AT19: =$A$5 -> 0 | BL19: Politique | BN19: Gestion documentaire | BP19: =IF(COUNTIF(BS19,"*~*")>0,"obligatoire","non-obligatoire") -> obligatoire | BQ19: ='4 - Politique'!B33 -> 0 | BR19: ='4 - Politique'!C33 -> 0 | BS19: ='4 - Politique'!D33 -> 14* | BT19: ='4 - Politique'!E33 -> Arrêté du 6 avril 2011 | BU19: ='4 - Politique'!F33 -> Les documents relatifs aux gaz à usage médical et modes opératoires de votre établissement sont actualisés/revalidés à périodicité définie en lien avec la procédure de gestion documentaire de l'établissement, autant que de besoin | BV19: ='4 - Politique'!J33 -> 0 | BW19: ='4 - Politique'!K33 -> 0
A20: ='3 - Établissement'!$E$9 -> 0 | AA20: service 3 | AB20: ='7 - Résultats'!L314 -> 15 | AC20: ='7 - Résultats'!M314 -> 0 | AD20: ='7 - Résultats'!N314 -> 0 | AE20: ='7 - Résultats'!O314 -> 0 | AF20: ='7 - Résultats'!P314 -> 0 | AG20: ='7 - Résultats'!Q314 -> 15 | AH20: ='7 - Résultats'!R314 -> NC | AK20: service 3 | AL20: ='7 - Résultats'!L361 -> 6 | AM20: ='7 - Résultats'!M361 -> 0 | AN20: ='7 - Résultats'!N361 -> 0 | AO20: ='7 - Résultats'!O361 -> 0 | AP20: ='7 - Résultats'!P361 -> 0 | AQ20: ='7 - Résultats'!Q361 -> 6 | AR20: ='7 - Résultats'!R361 -> NC | AT20: =$A$5 -> 0 | BL20: Politique | BN20: Gestion documentaire | BP20: =IF(COUNTIF(BS20,"*~*")>0,"obligatoire","non-obligatoire") -> non-obligatoire | BQ20: ='4 - Politique'!B34 -> 0 | BR20: ='4 - Politique'!C34 -> 0 | BS20: ='4 - Politique'!D34 -> 15 | BT20: ='4 - Politique'!E34 -> 0 | BU20: ='4 - Politique'!F34 -> Il existe un protocole relatif aux conduites à tenir en cas d'erreur d'administration de gaz à usage médical, notamment de MEOPA à la place de l'oxygène | BV20: ='4 - Politique'!J34 -> 0 | BW20: ='4 - Politique'!K34 -> 0
A21: ='3 - Établissement'!$E$9 -> 0 | AA21: service 4 | AB21: ='7 - Résultats'!L315 -> 15 | AC21: ='7 - Résultats'!M315 -> 0 | AD21: ='7 - Résultats'!N315 -> 0 | AE21: ='7 - Résultats'!O315 -> 0 | AF21: ='7 - Résultats'!P315 -> 0 | AG21: ='7 - Résultats'!Q315 -> 15 | AH21: ='7 - Résultats'!R315 -> NC | AK21: service 4 | AL21: ='7 - Résultats'!L362 -> 6 | AM21: ='7 - Résultats'!M362 -> 0 | AN21: ='7 - Résultats'!N362 -> 0 | AO21: ='7 - Résultats'!O362 -> 0 | AP21: ='7 - Résultats'!P362 -> 0 | AQ21: ='7 - Résultats'!Q362 -> 6 | AR21: ='7 - Résultats'!R362 -> NC | AT21: =$A$5 -> 0 | BL21: Politique | BP21: =IF(COUNTIF(BS21,"*~*")>0,"obligatoire","non-obligatoire") -> non-obligatoire | BQ21: ='4 - Politique'!B35 -> 0 | BR21: ='4 - Politique'!C35 -> Thématique : Formation | BS21: ='4 - Politique'!D35 -> 0 | BT21: ='4 - Politique'!E35 -> 0 | BU21: ='4 - Politique'!F35 -> 0 | BV21: ='4 - Politique'!J35 -> 0 | BW21: ='4 - Politique'!K35 -> 0
A22: ='3 - Établissement'!$E$9 -> 0 | Z22: ='7 - Résultats'!B316 -> Stockage des bouteilles d'oxygène | AA22: service 1 | AB22: ='7 - Résultats'!L316 -> 2 | AC22: ='7 - Résultats'!M316 -> 0 | AD22: ='7 - Résultats'!N316 -> 0 | AE22: ='7 - Résultats'!O316 -> 0 | AF22: ='7 - Résultats'!P316 -> 0 | AG22: ='7 - Résultats'!Q316 -> 2 | AH22: ='7 - Résultats'!R316 -> NC | AJ22: Stockage des bouteilles d'oxygène | AK22: service 1 | AL22: ='7 - Résultats'!L363 -> 0 | AM22: ='7 - Résultats'!M363 -> 0 | AN22: ='7 - Résultats'!N363 -> 0 | AO22: ='7 - Résultats'!O363 -> 0 | AP22: ='7 - Résultats'!P363 -> 0 | AQ22: ='7 - Résultats'!Q363 -> 0 | AR22: ='7 - Résultats'!R363 -> non applicable | AT22: =$A$5 -> 0 | BL22: Politique | BN22: Formation | BP22: =IF(COUNTIF(BS22,"*~*")>0,"obligatoire","non-obligatoire") -> obligatoire | BQ22: ='4 - Politique'!B36 -> 0 | BR22: ='4 - Politique'!C36 -> Formation | BS22: ='4 - Politique'!D36 -> 16* | BT22: ='4 - Politique'!E36 -> Arrêté du 25 juin 1980 | BU22: ='4 - Politique'!F36 -> Tous les acteurs du circuit des gaz à usage médical (médecins, pharmaciens, préparateurs, IDE…) sont formés à leur utilisation (transport, stockage, manipulation, administration…), selon l'étape d'intervention et l'action qu'ils réalisent, à intervalle régulier et en cas de changement de matériel | BV22: ='4 - Politique'!J36 -> 0 | BW22: ='4 - Politique'!K36 -> 0
A23: ='3 - Établissement'!$E$9 -> 0 | AA23: service 2 | AB23: ='7 - Résultats'!L317 -> 2 | AC23: ='7 - Résultats'!M317 -> 0 | AD23: ='7 - Résultats'!N317 -> 0 | AE23: ='7 - Résultats'!O317 -> 0 | AF23: ='7 - Résultats'!P317 -> 0 | AG23: ='7 - Résultats'!Q317 -> 2 | AH23: ='7 - Résultats'!R317 -> NC | AK23: service 2 | AL23: ='7 - Résultats'!L364 -> 0 | AM23: ='7 - Résultats'!M364 -> 0 | AN23: ='7 - Résultats'!N364 -> 0 | AO23: ='7 - Résultats'!O364 -> 0 | AP23: ='7 - Résultats'!P364 -> 0 | AQ23: ='7 - Résultats'!Q364 -> 0 | AR23: ='7 - Résultats'!R364 -> non applicable | AT23: =$A$5 -> 0 | BL23: Politique | BN23: Formation | BP23: =IF(COUNTIF(BS23,"*~*")>0,"obligatoire","non-obligatoire") -> non-obligatoire | BQ23: ='4 - Politique'!B37 -> 0 | BR23: ='4 - Politique'!C37 -> 0 | BS23: ='4 - Politique'!D37 -> 17 | BT23: ='4 - Politique'!E37 -> 0 | BU23: ='4 - Politique'!F37 -> La traçabilité des formations réalisées et des personnes/qualifications, tout personnel et services confondus, est assurée en temps réel et continuellement | BV23: ='4 - Politique'!J37 -> 0 | BW23: ='4 - Politique'!K37 -> 0
A24: ='3 - Établissement'!$E$9 -> 0 | AA24: service 3 | AB24: ='7 - Résultats'!L318 -> 2 | AC24: ='7 - Résultats'!M318 -> 0 | AD24: ='7 - Résultats'!N318 -> 0 | AE24: ='7 - Résultats'!O318 -> 0 | AF24: ='7 - Résultats'!P318 -> 0 | AG24: ='7 - Résultats'!Q318 -> 2 | AH24: ='7 - Résultats'!R318 -> NC | AK24: service 3 | AL24: ='7 - Résultats'!L365 -> 0 | AM24: ='7 - Résultats'!M365 -> 0 | AN24: ='7 - Résultats'!N365 -> 0 | AO24: ='7 - Résultats'!O365 -> 0 | AP24: ='7 - Résultats'!P365 -> 0 | AQ24: ='7 - Résultats'!Q365 -> 0 | AR24: ='7 - Résultats'!R365 -> non applicable | AT24: =$A$5 -> 0 | BL24: Politique | BN24: Formation | BP24: =IF(COUNTIF(BS24,"*~*")>0,"obligatoire","non-obligatoire") -> non-obligatoire | BQ24: ='4 - Politique'!B38 -> 0 | BR24: ='4 - Politique'!C38 -> 0 | BS24: ='4 - Politique'!D38 -> 18 | BT24: ='4 - Politique'!E38 -> 0 | BU24: ='4 - Politique'!F38 -> Les équipes utilisatrices sont informées de la liste des gaz médicaux ayant le statut de médicament (Oxygène, MEOPA, protoxyde d'azote, monoxyde d'azote, xénon) | BV24: ='4 - Politique'!J38 -> 0 | BW24: ='4 - Politique'!K38 -> 0
A25: ='3 - Établissement'!$E$9 -> 0 | AA25: service 4 | AB25: ='7 - Résultats'!L319 -> 2 | AC25: ='7 - Résultats'!M319 -> 0 | AD25: ='7 - Résultats'!N319 -> 0 | AE25: ='7 - Résultats'!O319 -> 0 | AF25: ='7 - Résultats'!P319 -> 0 | AG25: ='7 - Résultats'!Q319 -> 2 | AH25: ='7 - Résultats'!R319 -> NC | AK25: service 4 | AL25: ='7 - Résultats'!L366 -> 0 | AM25: ='7 - Résultats'!M366 -> 0 | AN25: ='7 - Résultats'!N366 -> 0 | AO25: ='7 - Résultats'!O366 -> 0 | AP25: ='7 - Résultats'!P366 -> 0 | AQ25: ='7 - Résultats'!Q366 -> 0 | AR25: ='7 - Résultats'!R366 -> non applicable | AT25: =$A$5 -> 0 | BL25: Politique | BN25: Formation | BP25: =IF(COUNTIF(BS25,"*~*")>0,"obligatoire","non-obligatoire") -> obligatoire | BQ25: ='4 - Politique'!B39 -> 0 | BR25: ='4 - Politique'!C39 -> 0 | BS25: ='4 - Politique'!D39 -> 19* | BT25: ='4 - Politique'!E39 -> ANSM - Liste des never events | BU25: ='4 - Politique'!F39 -> Les équipes en charge de la manipulation des gaz à usage médical sont informées que les erreurs liés à ces produits sont inscrites sur la liste des never events | BV25: ='4 - Politique'!J39 -> 0 | BW25: ='4 - Politique'!K39 -> 0
A26: ='3 - Établissement'!$E$9 -> 0 | Z26: ='7 - Résultats'!B320 -> Stockage des bouteilles de MEOPA | AA26: service 1 | AB26: ='7 - Résultats'!L320 -> 2 | AC26: ='7 - Résultats'!M320 -> 0 | AD26: ='7 - Résultats'!N320 -> 0 | AE26: ='7 - Résultats'!O320 -> 0 | AF26: ='7 - Résultats'!P320 -> 0 | AG26: ='7 - Résultats'!Q320 -> 2 | AH26: ='7 - Résultats'!R320 -> NC | AJ26: Stockage des bouteilles de MEOPA | AK26: service 1 | AL26: ='7 - Résultats'!L367 -> 1 | AM26: ='7 - Résultats'!M367 -> 0 | AN26: ='7 - Résultats'!N367 -> 0 | AO26: ='7 - Résultats'!O367 -> 0 | AP26: ='7 - Résultats'!P367 -> 0 | AQ26: ='7 - Résultats'!Q367 -> 1 | AR26: ='7 - Résultats'!R367 -> NC | AT26: =$A$5 -> 0 | BL26: Politique | BN26: Formation | BP26: =IF(COUNTIF(BS26,"*~*")>0,"obligatoire","non-obligatoire") -> obligatoire | BQ26: ='4 - Politique'!B40 -> 0 | BR26: ='4 - Politique'!C40 -> 0 | BS26: ='4 - Politique'!D40 -> 20* | BT26: ='4 - Politique'!E40 -> ANSM - MEOPA | BU26: ='4 - Politique'!F40 -> Une formation spécifique au MEOPA est dispensée au personnel concerné par sa réception et son administration. Cette formation est réalisée à périodicité donnée et tracée | BV26: ='4 - Politique'!J40 -> 0 | BW26: ='4 - Politique'!K40 -> 0
A27: ='3 - Établissement'!$E$9 -> 0 | AA27: service 2 | AB27: ='7 - Résultats'!L321 -> 2 | AC27: ='7 - Résultats'!M321 -> 0 | AD27: ='7 - Résultats'!N321 -> 0 | AE27: ='7 - Résultats'!O321 -> 0 | AF27: ='7 - Résultats'!P321 -> 0 | AG27: ='7 - Résultats'!Q321 -> 2 | AH27: ='7 - Résultats'!R321 -> NC | AK27: service 2 | AL27: ='7 - Résultats'!L368 -> 1 | AM27: ='7 - Résultats'!M368 -> 0 | AN27: ='7 - Résultats'!N368 -> 0 | AO27: ='7 - Résultats'!O368 -> 0 | AP27: ='7 - Résultats'!P368 -> 0 | AQ27: ='7 - Résultats'!Q368 -> 1 | AR27: ='7 - Résultats'!R368 -> NC | AT27: =$A$5 -> 0 | BL27: Politique | BP27: =IF(COUNTIF(BS27,"*~*")>0,"obligatoire","non-obligatoire") -> non-obligatoire | BQ27: ='4 - Politique'!B41 -> 0 | BR27: ='4 - Politique'!C41 -> Thématique : Auto-évaluation | BS27: ='4 - Politique'!D41 -> 0 | BT27: ='4 - Politique'!E41 -> 0 | BU27: ='4 - Politique'!F41 -> 0 | BV27: ='4 - Politique'!J41 -> 0 | BW27: ='4 - Politique'!K41 -> 0
A28: ='3 - Établissement'!$E$9 -> 0 | AA28: service 3 | AB28: ='7 - Résultats'!L322 -> 2 | AC28: ='7 - Résultats'!M322 -> 0 | AD28: ='7 - Résultats'!N322 -> 0 | AE28: ='7 - Résultats'!O322 -> 0 | AF28: ='7 - Résultats'!P322 -> 0 | AG28: ='7 - Résultats'!Q322 -> 2 | AH28: ='7 - Résultats'!R322 -> NC | AK28: service 3 | AL28: ='7 - Résultats'!L369 -> 1 | AM28: ='7 - Résultats'!M369 -> 0 | AN28: ='7 - Résultats'!N369 -> 0 | AO28: ='7 - Résultats'!O369 -> 0 | AP28: ='7 - Résultats'!P369 -> 0 | AQ28: ='7 - Résultats'!Q369 -> 1 | AR28: ='7 - Résultats'!R369 -> NC | AT28: =$A$5 -> 0 | BL28: Politique | BN28: Auto-évaluation | BP28: =IF(COUNTIF(BS28,"*~*")>0,"obligatoire","non-obligatoire") -> non-obligatoire | BQ28: ='4 - Politique'!B42 -> 0 | BR28: ='4 - Politique'!C42 -> Auto-évaluation | BS28: ='4 - Politique'!D42 -> 21 | BT28: ='4 - Politique'!E42 -> 0 | BU28: ='4 - Politique'!F42 -> La structure réalise des évaluations internes du circuit des gaz à usage médical (réception, stockage, dispensation, administration) annuellement dans le cadre du programme d'action | BV28: ='4 - Politique'!J42 -> 0 | BW28: ='4 - Politique'!K42 -> 0
A29: ='3 - Établissement'!$E$9 -> 0 | AA29: service 4 | AB29: ='7 - Résultats'!L323 -> 2 | AC29: ='7 - Résultats'!M323 -> 0 | AD29: ='7 - Résultats'!N323 -> 0 | AE29: ='7 - Résultats'!O323 -> 0 | AF29: ='7 - Résultats'!P323 -> 0 | AG29: ='7 - Résultats'!Q323 -> 2 | AH29: ='7 - Résultats'!R323 -> NC | AK29: service 4 | AL29: ='7 - Résultats'!L370 -> 1 | AM29: ='7 - Résultats'!M370 -> 0 | AN29: ='7 - Résultats'!N370 -> 0 | AO29: ='7 - Résultats'!O370 -> 0 | AP29: ='7 - Résultats'!P370 -> 0 | AQ29: ='7 - Résultats'!Q370 -> 1 | AR29: ='7 - Résultats'!R370 -> NC | AT29: =$A$5 -> 0 | BL29: Politique | BP29: =IF(COUNTIF(BS29,"*~*")>0,"obligatoire","non-obligatoire") -> non-obligatoire | BQ29: ='4 - Politique'!B43 -> Chapitre 2. Mise en œuvre de la gestion des risques liés aux gaz à usage médical | BR29: ='4 - Politique'!C43 -> 0 | BS29: ='4 - Politique'!D43 -> 0 | BT29: ='4 - Politique'!E43 -> 0 | BU29: ='4 - Politique'!F43 -> 0 | BV29: ='4 - Politique'!J43 -> 0 | BW29: ='4 - Politique'!K43 -> 0
A30: ='3 - Établissement'!$E$9 -> 0 | Z30: ='7 - Résultats'!B324 -> Administration | AA30: service 1 | AB30: ='7 - Résultats'!L324 -> 11 | AC30: ='7 - Résultats'!M324 -> 0 | AD30: ='7 - Résultats'!N324 -> 0 | AE30: ='7 - Résultats'!O324 -> 0 | AF30: ='7 - Résultats'!P324 -> 0 | AG30: ='7 - Résultats'!Q324 -> 11 | AH30: ='7 - Résultats'!R324 -> NC | AJ30: Administration | AK30: service 1 | AL30: ='7 - Résultats'!L371 -> 4 | AM30: ='7 - Résultats'!M371 -> 0 | AN30: ='7 - Résultats'!N371 -> 0 | AO30: ='7 - Résultats'!O371 -> 0 | AP30: ='7 - Résultats'!P371 -> 0 | AQ30: ='7 - Résultats'!Q371 -> 4 | AR30: ='7 - Résultats'!R371 -> NC | AT30: =$A$5 -> 0 | BL30: Politique | BN30: Gestion des risques | BP30: =IF(COUNTIF(BS30,"*~*")>0,"obligatoire","non-obligatoire") -> obligatoire | BQ30: ='4 - Politique'!B44 -> Mise en œuvre de la gestion des risques liés aux gaz à usage médical | BR30: ='4 - Politique'!C44 -> 0 | BS30: ='4 - Politique'!D44 -> 22* | BT30: ='4 - Politique'!E44 -> Arrêté du 6 avril 2011 | BU30: ='4 - Politique'!F44 -> La structure a mis en place un système de déclaration interne des presque accidents, évènements et effets indésirables liés à l'utilisation des gaz | BV30: ='4 - Politique'!J44 -> 0 | BW30: ='4 - Politique'!K44 -> 0
A31: ='3 - Établissement'!$E$9 -> 0 | AA31: service 2 | AB31: ='7 - Résultats'!L325 -> 11 | AC31: ='7 - Résultats'!M325 -> 0 | AD31: ='7 - Résultats'!N325 -> 0 | AE31: ='7 - Résultats'!O325 -> 0 | AF31: ='7 - Résultats'!P325 -> 0 | AG31: ='7 - Résultats'!Q325 -> 11 | AH31: ='7 - Résultats'!R325 -> NC | AK31: service 2 | AL31: ='7 - Résultats'!L372 -> 4 | AM31: ='7 - Résultats'!M372 -> 0 | AN31: ='7 - Résultats'!N372 -> 0 | AO31: ='7 - Résultats'!O372 -> 0 | AP31: ='7 - Résultats'!P372 -> 0 | AQ31: ='7 - Résultats'!Q372 -> 4 | AR31: ='7 - Résultats'!R372 -> NC | AT31: =$A$5 -> 0 | BL31: Politique | BN31: Gestion des risques | BP31: =IF(COUNTIF(BS31,"*~*")>0,"obligatoire","non-obligatoire") -> non-obligatoire | BQ31: ='4 - Politique'!B45 -> 0 | BR31: ='4 - Politique'!C45 -> 0 | BS31: ='4 - Politique'!D45 -> 23 | BT31: ='4 - Politique'!E45 -> 0 | BU31: ='4 - Politique'!F45 -> Une fiche de déclaration d'évènement indésirable est mise à la disposition des équipes dans votre établissement | BV31: ='4 - Politique'!J45 -> 0 | BW31: ='4 - Politique'!K45 -> 0
A32: ='3 - Établissement'!$E$9 -> 0 | AA32: service 3 | AB32: ='7 - Résultats'!L326 -> 11 | AC32: ='7 - Résultats'!M326 -> 0 | AD32: ='7 - Résultats'!N326 -> 0 | AE32: ='7 - Résultats'!O326 -> 0 | AF32: ='7 - Résultats'!P326 -> 0 | AG32: ='7 - Résultats'!Q326 -> 11 | AH32: ='7 - Résultats'!R326 -> NC | AK32: service 3 | AL32: ='7 - Résultats'!L373 -> 4 | AM32: ='7 - Résultats'!M373 -> 0 | AN32: ='7 - Résultats'!N373 -> 0 | AO32: ='7 - Résultats'!O373 -> 0 | AP32: ='7 - Résultats'!P373 -> 0 | AQ32: ='7 - Résultats'!Q373 -> 4 | AR32: ='7 - Résultats'!R373 -> NC | AT32: =$A$5 -> 0 | BL32: Politique | BN32: Gestion des risques | BP32: =IF(COUNTIF(BS32,"*~*")>0,"obligatoire","non-obligatoire") -> non-obligatoire | BQ32: ='4 - Politique'!B46 -> 0 | BR32: ='4 - Politique'!C46 -> 0 | BS32: ='4 - Politique'!D46 -> 24 | BT32: ='4 - Politique'!E46 -> 0 | BU32: ='4 - Politique'!F46 -> Les professionnels savent déclarer les évènements indésirables | BV32: ='4 - Politique'!J46 -> 0 | BW32: ='4 - Politique'!K46 -> 0
A33: ='3 - Établissement'!$E$9 -> 0 | AA33: service 4 | AB33: ='7 - Résultats'!L327 -> 11 | AC33: ='7 - Résultats'!M327 -> 0 | AD33: ='7 - Résultats'!N327 -> 0 | AE33: ='7 - Résultats'!O327 -> 0 | AF33: ='7 - Résultats'!P327 -> 0 | AG33: ='7 - Résultats'!Q327 -> 11 | AH33: ='7 - Résultats'!R327 -> NC | AK33: service 4 | AL33: ='7 - Résultats'!L374 -> 4 | AM33: ='7 - Résultats'!M374 -> 0 | AN33: ='7 - Résultats'!N374 -> 0 | AO33: ='7 - Résultats'!O374 -> 0 | AP33: ='7 - Résultats'!P374 -> 0 | AQ33: ='7 - Résultats'!Q374 -> 4 | AR33: ='7 - Résultats'!R374 -> NC | AT33: =$A$5 -> 0 | BL33: Politique | BN33: Gestion des risques | BP33: =IF(COUNTIF(BS33,"*~*")>0,"obligatoire","non-obligatoire") -> obligatoire | BQ33: ='4 - Politique'!B47 -> 0 | BR33: ='4 - Politique'!C47 -> 0 | BS33: ='4 - Politique'!D47 -> 25* | BT33: ='4 - Politique'!E47 -> Arrêté du 6 avril 2011 | BU33: ='4 - Politique'!F47 -> L'analyse des évènements indésirables liés aux gaz médicaux est organisée lors de réunions pluriprofessionnelles | BV33: ='4 - Politique'!J47 -> 0 | BW33: ='4 - Politique'!K47 -> 0
A34: ='3 - Établissement'!$E$9 -> 0 | AT34: =$A$5 -> 0 | BL34: Politique | BN34: Gestion des risques | BP34: =IF(COUNTIF(BS34,"*~*")>0,"obligatoire","non-obligatoire") -> obligatoire | BQ34: ='4 - Politique'!B48 -> 0 | BR34: ='4 - Politique'!C48 -> 0 | BS34: ='4 - Politique'!D48 -> 26* | BT34: ='4 - Politique'!E48 -> Arrêté du 6 avril 2011 | BU34: ='4 - Politique'!F48 -> Les conclusions et décisions prises suite à l'analyse de ces évènements indésirables sont communiquées aux professionnels impliqués dans le circuit des gaz à usage médical | BV34: ='4 - Politique'!J48 -> 0 | BW34: ='4 - Politique'!K48 -> 0
A35: ='3 - Établissement'!$E$9 -> 0 | Z35: total | AB35: ='7 - Résultats'!L329 -> 49 | AC35: ='7 - Résultats'!M329 -> 0 | AD35: ='7 - Résultats'!N329 -> 0 | AE35: ='7 - Résultats'!O329 -> 0 | AF35: ='7 - Résultats'!P329 -> 0 | AG35: ='7 - Résultats'!Q329 -> 49 | AH35: ='7 - Résultats'!R329 -> 0 | AJ35: total | AL35: ='7 - Résultats'!L376 -> 26 | AM35: ='7 - Résultats'!M376 -> 0 | AN35: ='7 - Résultats'!N376 -> 0 | AO35: ='7 - Résultats'!O376 -> 0 | AP35: ='7 - Résultats'!P376 -> 0 | AQ35: ='7 - Résultats'!Q376 -> 26 | AR35: ='7 - Résultats'!R376 -> 0 | AT35: =$A$5 -> 0 | BL35: Politique | BN35: Gestion des risques | BP35: =IF(COUNTIF(BS35,"*~*")>0,"obligatoire","non-obligatoire") -> obligatoire | BQ35: ='4 - Politique'!B49 -> 0 | BR35: ='4 - Politique'!C49 -> 0 | BS35: ='4 - Politique'!D49 -> 27* | BT35: ='4 - Politique'!E49 -> Arrêté du 6 avril 2011 | BU35: ='4 - Politique'!F49 -> Des actions correctives sont décidées durant ces réunions, intégrées dans le programme d'actions, mises en place et évaluées | BV35: ='4 - Politique'!J49 -> 0 | BW35: ='4 - Politique'!K49 -> 0
A36: ='3 - Établissement'!$E$9 -> 0 | AT36: =$A$5 -> 0 | BL36: Politique | BP36: =IF(COUNTIF(BS36,"*~*")>0,"obligatoire","non-obligatoire") -> non-obligatoire | BQ36: ='4 - Politique'!B50 -> Chapitre 3. Prescription des gaz à usage médical | BR36: ='4 - Politique'!C50 -> 0 | BS36: ='4 - Politique'!D50 -> 0 | BT36: ='4 - Politique'!E50 -> 0 | BU36: ='4 - Politique'!F50 -> 0 | BV36: ='4 - Politique'!J50 -> 0 | BW36: ='4 - Politique'!K50 -> 0
A37: ='3 - Établissement'!$E$9 -> 0 | AT37: =$A$5 -> 0 | BL37: Politique | BN37: Prescription | BP37: =IF(COUNTIF(BS37,"*~*")>0,"obligatoire","non-obligatoire") -> obligatoire | BQ37: ='4 - Politique'!B51 -> Prescription des gaz à usage médical | BR37: ='4 - Politique'!C51 -> 0 | BS37: ='4 - Politique'!D51 -> 28* | BT37: ='4 - Politique'!E51 -> Article R5132-3 du CSP | BU37: ='4 - Politique'!F51 -> Les prescripteurs connaissent la liste des gaz médicaux ayant le statut de médicament et nécessitant une prescription (Oxygène, MEOPA, protoxyde d'azote, monoxyde d'azote, xénon) La réponse à cette question est calculée automatiquement pour être identique à la 18. Vous pouvez compléter d'un commentaire | BV37: ='4 - Politique'!J51 | BW37: ='4 - Politique'!K51 -> 0
A38: ='3 - Établissement'!$E$9 -> 0 | AT38: =$A$5 -> 0 | BL38: Politique | BN38: Prescription | BP38: =IF(COUNTIF(BS38,"*~*")>0,"obligatoire","non-obligatoire") -> obligatoire | BQ38: ='4 - Politique'!B52 -> 0 | BR38: ='4 - Politique'!C52 -> 0 | BS38: ='4 - Politique'!D52 -> 29* | BT38: ='4 - Politique'!E52 -> Article R5132-3 du CSP | BU38: ='4 - Politique'!F52 -> Les gaz médicaux avec statut de médicament font l'objet systématiquement d'une prescription écrite (papier ou informatique) | BV38: ='4 - Politique'!J52 -> 0 | BW38: ='4 - Politique'!K52 -> 0
A39: ='3 - Établissement'!$E$9 -> 0 | AT39: =$A$5 -> 0 | BL39: Politique | BN39: Prescription | BP39: =IF(COUNTIF(BS39,"*~*")>0,"obligatoire","non-obligatoire") -> non-obligatoire | BQ39: ='4 - Politique'!B53 -> 0 | BR39: ='4 - Politique'!C53 -> 0 | BS39: ='4 - Politique'!D53 -> 30 | BT39: ='4 - Politique'!E53 -> 0 | BU39: ='4 - Politique'!F53 -> Les prescriptions contiennent le nom du gaz médicinal, le débit en L/min (hors MEOPA), la durée d'administration, durée du traitement et le mode d'administration | BV39: ='4 - Politique'!J53 -> 0 | BW39: ='4 - Politique'!K53 -> 0
A40: ='3 - Établissement'!$E$9 -> 0 | AT40: =$A$5 -> 0 | BL40: Politique | BN40: Prescription | BP40: =IF(COUNTIF(BS40,"*~*")>0,"obligatoire","non-obligatoire") -> non-obligatoire | BQ40: ='4 - Politique'!B54 -> 0 | BR40: ='4 - Politique'!C54 -> 0 | BS40: ='4 - Politique'!D54 -> 31 | BT40: ='4 - Politique'!E54 -> 0 | BU40: ='4 - Politique'!F54 -> Les prescriptions de MEOPA précisent s'il s'agit d'une administration en débit continu ou à la demande (débit discontinu avec une valve) | BV40: ='4 - Politique'!J54 -> 0 | BW40: ='4 - Politique'!K54 -> 0
A41: ='3 - Établissement'!$E$9 -> 0 | AT41: =$A$5 -> 0 | BL41: PUI | BP41: =IF(COUNTIF(BS41,"*~*")>0,"obligatoire","non-obligatoire") -> non-obligatoire | BQ41: ='5 - PUI et autre local'!B18 -> Chapitre 4. Stockage des gaz médicaux en PUI ou en local de l'atelier des fluides médicaux
A42: ='3 - Établissement'!$E$9 -> 0 | AT42: =$A$5 -> 0 | BL42: PUI | BP42: =IF(COUNTIF(BS42,"*~*")>0,"obligatoire","non-obligatoire") -> non-obligatoire | BQ42: ='5 - PUI et autre local'!B19 -> Thématique : Généralités
A43: ='3 - Établissement'!$E$9 -> 0 | AT43: =$A$5 -> 0 | BL43: PUI | BN43: Stockage | BP43: =IF(COUNTIF(BS43,"*~*")>0,"obligatoire","non-obligatoire") -> obligatoire | BQ43: ='5 - PUI et autre local'!B20 -> Stockage des gaz médicaux en PUI ou en local de l'atelier des fluides médicaux | BR43: ='5 - PUI et autre local'!C20 -> Généralités | BS43: ='5 - PUI et autre local'!D20 -> 32* | BT43: ='5 - PUI et autre local'!E20 -> ANSM - Risques et précautions d'emploi liés à l'utilisation des gaz à usage médical | BU43: ='5 - PUI et autre local'!F20 -> A la réception, les équipes (pharmacien, préparateur...) vérifient la nature du gaz par lecture de l'étiquette, l'intégrité de la bouteille (absence de fuite, de choc, présence du système d'inviolabilité) et la pression pour les bouteilles à manodétendeur intégré | BV43: ='5 - PUI et autre local'!J20 -> 0 | BW43: ='5 - PUI et autre local'!K20 -> 0
A44: ='3 - Établissement'!$E$9 -> 0 | AT44: =$A$5 -> 0 | BL44: PUI | BN44: Stockage | BP44: =IF(COUNTIF(BS44,"*~*")>0,"obligatoire","non-obligatoire") -> non-obligatoire | BQ44: ='5 - PUI et autre local'!B21 -> 0 | BR44: ='5 - PUI et autre local'!C21 -> 0 | BS44: ='5 - PUI et autre local'!D21 -> 33 | BT44: ='5 - PUI et autre local'!E21 -> 0 | BU44: ='5 - PUI et autre local'!F21 -> En cas de microfuite suspectée à la réception ainsi que pour tout dysfonctionnement ou non-conformité, le pharmacien contacte le fournisseur des bouteilles de gaz pour réclamer une expertise sur la bouteille | BV44: ='5 - PUI et autre local'!J21 -> 0 | BW44: ='5 - PUI et autre local'!K21 -> 0
A45: ='3 - Établissement'!$E$9 -> 0 | AT45: =$A$5 -> 0 | BL45: PUI | BN45: Stockage | BP45: =IF(COUNTIF(BS45,"*~*")>0,"obligatoire","non-obligatoire") -> obligatoire | BQ45: ='5 - PUI et autre local'!B22 -> 0 | BR45: ='5 - PUI et autre local'!C22 -> 0 | BS45: ='5 - PUI et autre local'!D22 -> 34* | BT45: ='5 - PUI et autre local'!E22 -> Arrêté du 25 juin 1980 | BU45: ='5 - PUI et autre local'!F22 -> La ou les pièces de stockage des gaz à usage médical sont clairement identifiées, sécurisées, propres, ventilées (ventilation haute et basse sur la porte), à l'abri des intempéries et ne contiennent pas de source de chaleur | BV45: ='5 - PUI et autre local'!J22 -> 0 | BW45: ='5 - PUI et autre local'!K22 -> 0
A46: ='3 - Établissement'!$E$9 -> 0 | AT46: =$A$5 -> 0 | BL46: PUI | BN46: Stockage | BP46: =IF(COUNTIF(BS46,"*~*")>0,"obligatoire","non-obligatoire") -> non-obligatoire | BQ46: ='5 - PUI et autre local'!B23 -> 0 | BR46: ='5 - PUI et autre local'!C23 -> 0 | BS46: ='5 - PUI et autre local'!D23 -> 35 | BT46: ='5 - PUI et autre local'!E23 -> ANSM - Risques et précautions d'emploi liés à l'utilisation des gaz à usage médical | BU46: ='5 - PUI et autre local'!F23 -> La ou les pièces de stockage des gaz à usage médical contiennent les informations relatives à la sécurité de stockage des bouteilles de gaz (interdiction de fumer, mesures de sécurité) facilement visibles | BV46: ='5 - PUI et autre local'!J23 -> 0 | BW46: ='5 - PUI et autre local'!K23 -> 0
A47: ='3 - Établissement'!$E$9 -> 0 | AT47: =$A$5 -> 0 | BL47: PUI | BN47: Stockage | BP47: =IF(COUNTIF(BS47,"*~*")>0,"obligatoire","non-obligatoire") -> obligatoire | BQ47: ='5 - PUI et autre local'!B24 -> 0 | BR47: ='5 - PUI et autre local'!C24 -> 0 | BS47: ='5 - PUI et autre local'!D24 -> 36* | BT47: ='5 - PUI et autre local'!E24 -> Arrêté du 25 juin 1980 | BU47: ='5 - PUI et autre local'!F24 -> En cas d'emplacement intérieur de la/des pièces de stockage des bouteilles de gaz à usage médical, il n'y a pas de communication directe avec les locaux ni de dégagements accessibles au public | BV47: ='5 - PUI et autre local'!J24 -> 0 | BW47: ='5 - PUI et autre local'!K24 -> 0
A48: ='3 - Établissement'!$E$9 -> 0 | AT48: =$A$5 -> 0 | BL48: PUI | BN48: Stockage | BP48: =IF(COUNTIF(BS48,"*~*")>0,"obligatoire","non-obligatoire") -> non-obligatoire | BQ48: ='5 - PUI et autre local'!B25 -> 0 | BR48: ='5 - PUI et autre local'!C25 -> 0 | BS48: ='5 - PUI et autre local'!D25 -> 37 | BT48: ='5 - PUI et autre local'!E25 -> ANSM - Risques et précautions d'emploi liés à l'utilisation des gaz à usage médical | BU48: ='5 - PUI et autre local'!F25 -> Les zones de stockage de chaque bouteille de gaz sont clairement identifiées : les bouteilles vides sont séparées des bouteilles pleines ; les bouteilles de gaz à statut différent (usage médical et non médical) sont séparées et identifiées | BV48: ='5 - PUI et autre local'!J25 -> 0 | BW48: ='5 - PUI et autre local'!K25 -> 0
A49: ='3 - Établissement'!$E$9 -> 0 | AT49: =$A$5 -> 0 | BL49: PUI | BN49: Stockage | BP49: =IF(COUNTIF(BS49,"*~*")>0,"obligatoire","non-obligatoire") -> non-obligatoire | BQ49: ='5 - PUI et autre local'!B26 -> 0 | BR49: ='5 - PUI et autre local'!C26 -> 0 | BS49: ='5 - PUI et autre local'!D26 -> 38 | BT49: ='5 - PUI et autre local'!E26 -> ANSM - Risques et précautions d'emploi liés à l'utilisation des gaz à usage médical | BU49: ='5 - PUI et autre local'!F26 -> Les zones de stockage des différentes bouteilles de gaz à usage médical et de gaz médicinaux (oxygène, MEOPA…) sont, pour chaque gaz, clairement identifiées et séparées les unes des autres | BV49: ='5 - PUI et autre local'!J26 -> 0 | BW49: ='5 - PUI et autre local'!K26 -> 0
A50: ='3 - Établissement'!$E$9 -> 0 | AT50: =$A$5 -> 0 | BL50: PUI | BN50: Stockage | BP50: =IF(COUNTIF(BS50,"*~*")>0,"obligatoire","non-obligatoire") -> obligatoire | BQ50: ='5 - PUI et autre local'!B27 -> 0 | BR50: ='5 - PUI et autre local'!C27 -> 0 | BS50: ='5 - PUI et autre local'!D27 -> 39* | BT50: ='5 - PUI et autre local'!E27 -> Résumé des caractéristiques du produit | BU50: ='5 - PUI et autre local'!F27 -> Les bouteilles de gaz à usage médical sont stockées robinet fermé, en position verticale et arrimées par tout moyen approprié (chaînes, crochets, bac ou casier dédié au stockage des bouteilles de gaz…) afin de les protéger des risques de chute et de choc | BV50: ='5 - PUI et autre local'!J27 -> 0 | BW50: ='5 - PUI et autre local'!K27 -> 0
A51: ='3 - Établissement'!$E$9 -> 0 | AT51: =$A$5 -> 0 | BL51: PUI | BN51: Stockage | BP51: =IF(COUNTIF(BS51,"*~*")>0,"obligatoire","non-obligatoire") -> obligatoire | BQ51: ='5 - PUI et autre local'!B28 -> 0 | BR51: ='5 - PUI et autre local'!C28 -> 0 | BS51: ='5 - PUI et autre local'!D28 -> 40* | BT51: ='5 - PUI et autre local'!E28 -> Résumé des caractéristiques du produit - MEOPA | BU51: ='5 - PUI et autre local'!F28 -> Les bouteilles de MEOPA sont stockées pendant 48 heures après réception en position horizontale en zone tampon identifiée, à une température comprise entre 10°C et 30°C puis, passé ce délai, en position verticale et arrimées. Ce délai de 48h est tracé par le gestionnaire de stock. | BV51: ='5 - PUI et autre local'!J28 -> 0 | BW51: ='5 - PUI et autre local'!K28 -> 0
A52: ='3 - Établissement'!$E$9 -> 0 | AT52: =$A$5 -> 0 | BL52: PUI | BN52: Stockage | BP52: =IF(COUNTIF(BS52,"*~*")>0,"obligatoire","non-obligatoire") -> non-obligatoire | BQ52: ='5 - PUI et autre local'!B29 -> 0 | BR52: ='5 - PUI et autre local'!C29 -> 0 | BS52: ='5 - PUI et autre local'!D29 -> 41 | BT52: ='5 - PUI et autre local'!E29 -> 0 | BU52: ='5 - PUI et autre local'!F29 -> Une délégation de la gestion, sous la responsabilité du pharmacien est prévue pour la réception, le transport des bouteilles mises à disposition et le retour des bouteilles vides | BV52: ='5 - PUI et autre local'!J29 -> 0 | BW52: ='5 - PUI et autre local'!K29 -> 0
A53: ='3 - Établissement'!$E$9 -> 0 | AT53: =$A$5 -> 0 | BL53: PUI | BN53: Stockage | BP53: =IF(COUNTIF(BS53,"*~*")>0,"obligatoire","non-obligatoire") -> obligatoire | BQ53: ='5 - PUI et autre local'!B30 -> 0 | BR53: ='5 - PUI et autre local'!C30 -> 0 | BS53: ='5 - PUI et autre local'!D30 -> 42* | BT53: ='5 - PUI et autre local'!E30 -> Résumé des caractéristiques du produit - MEOPA | BU53: ='5 - PUI et autre local'!F30 -> Les bouteilles de MEOPA ne sont délivrées que pour la durée précisée sur l'ordonnance préalablement réalisée (liste I) | BV53: ='5 - PUI et autre local'!J30 -> 0 | BW53: ='5 - PUI et autre local'!K30 -> 0
A54: ='3 - Établissement'!$E$9 -> 0 | AT54: =$A$5 -> 0 | BL54: PUI | BN54: Stockage | BP54: =IF(COUNTIF(BS54,"*~*")>0,"obligatoire","non-obligatoire") -> non-obligatoire | BQ54: ='5 - PUI et autre local'!B31 -> 0 | BR54: ='5 - PUI et autre local'!C31 -> 0 | BS54: ='5 - PUI et autre local'!D31 -> 43 | BT54: ='5 - PUI et autre local'!E31 -> 0 | BU54: ='5 - PUI et autre local'!F31 -> Le fractionnement de l'oxygène est réalisé par du personnel, autorisé (pharmacien), formé et habilité, sous la responsabilité du pharmacien gérant, s'il ne réalise pas lui-même cette action | BV54: ='5 - PUI et autre local'!J31 -> 0 | BW54: ='5 - PUI et autre local'!K31 -> 0
A55: ='3 - Établissement'!$E$9 -> 0 | AT55: =$A$5 -> 0 | BL55: PUI | BP55: =IF(COUNTIF(BS55,"*~*")>0,"obligatoire","non-obligatoire") -> non-obligatoire | BQ55: ='5 - PUI et autre local'!B32 -> 0 | BR55: ='5 - PUI et autre local'!C32 -> Focus : installation de gaz | BS55: ='5 - PUI et autre local'!D32 -> 0 | BT55: ='5 - PUI et autre local'!E32 -> 0 | BU55: ='5 - PUI et autre local'!F32 -> 0 | BV55: ='5 - PUI et autre local'!J32 -> 0 | BW55: ='5 - PUI et autre local'!K32 -> 0
A56: ='3 - Établissement'!$E$9 -> 0 | AT56: =$A$5 -> 0 | BL56: PUI | BN56: Instalation | BP56: =IF(COUNTIF(BS56,"*~*")>0,"obligatoire","non-obligatoire") -> non-obligatoire | BQ56: ='5 - PUI et autre local'!B33 -> 0 | BR56: ='5 - PUI et autre local'!C33 -> Focus : installation de gaz | BS56: ='5 - PUI et autre local'!D33 -> 44 | BT56: ='5 - PUI et autre local'!E33 -> 0 | BU56: ='5 - PUI et autre local'!F33 -> Lors de modifications d'un réseau de fluides médicaux, un contrôle est systématiquement réalisé par un pharmacien et un analyseur de gaz | BV56: ='5 - PUI et autre local'!J33 -> 0 | BW56: ='5 - PUI et autre local'!K33 -> 0
A57: ='3 - Établissement'!$E$9 -> 0 | AT57: =$A$5 -> 0 | BL57: PUI | BN57: Instalation | BP57: =IF(COUNTIF(BS57,"*~*")>0,"obligatoire","non-obligatoire") -> non-obligatoire | BQ57: ='5 - PUI et autre local'!B34 -> 0 | BR57: ='5 - PUI et autre local'!C34 -> 0 | BS57: ='5 - PUI et autre local'!D34 -> 45 | BT57: ='5 - PUI et autre local'!E34 -> 0 | BU57: ='5 - PUI et autre local'!F34 -> Les flexibles des fluides médicaux des bras d'anesthésie (bloc/réanimation/SSPI) sont changés tous les 10 ans et contrôlés par un pharmacien | BV57: ='5 - PUI et autre local'!J34 -> 0 | BW57: ='5 - PUI et autre local'!K34 -> 0
A58: ='3 - Établissement'!$E$9 -> 0 | AT58: =$A$5 -> 0 | BL58: PUI | BN58: Instalation | BP58: =IF(COUNTIF(BS58,"*~*")>0,"obligatoire","non-obligatoire") -> non-obligatoire | BQ58: ='5 - PUI et autre local'!B35 -> 0 | BR58: ='5 - PUI et autre local'!C35 -> 0 | BS58: ='5 - PUI et autre local'!D35 -> 46 | BT58: ='5 - PUI et autre local'!E35 -> 0 | BU58: ='5 - PUI et autre local'!F35 -> Les numéros des opérateurs réalisant la télémaintenance des installations sont accessibles et joignables 24h/24 et 7j/7 auprès des équipes de sécurité de chaque site et du pharmacien d'astreinte | BV58: ='5 - PUI et autre local'!J35 -> 0 | BW58: ='5 - PUI et autre local'!K35 -> 0
A59: ='3 - Établissement'!$E$9 -> 0 | AT59: =$A$5 -> 0 | BL59: PUI | BN59: Instalation | BP59: =IF(COUNTIF(BS59,"*~*")>0,"obligatoire","non-obligatoire") -> non-obligatoire | BQ59: ='5 - PUI et autre local'!B36 -> 0 | BR59: ='5 - PUI et autre local'!C36 -> 0 | BS59: ='5 - PUI et autre local'!D36 -> 47 | BT59: ='5 - PUI et autre local'!E36 -> 0 | BU59: ='5 - PUI et autre local'!F36 -> Le réseau de fluides médicaux est dimensionné aux besoins de l'établissement (oxygène en particulier) | BV59: ='5 - PUI et autre local'!J36 -> 0 | BW59: ='5 - PUI et autre local'!K36 -> 0
A60: ='3 - Établissement'!$E$9 -> 0 | AT60: =$A$5 -> 0 | BL60: PUI | BN60: Instalation | BP60: =IF(COUNTIF(BS60,"*~*")>0,"obligatoire","non-obligatoire") -> obligatoire | BQ60: ='5 - PUI et autre local'!B37 -> 0 | BR60: ='5 - PUI et autre local'!C37 -> 0 | BS60: ='5 - PUI et autre local'!D37 -> 48* | BT60: ='5 - PUI et autre local'!E37 -> Arrêté du 25 juin 1980 | BU60: ='5 - PUI et autre local'!F37 -> Les installations (évaporateur, cuve de stockage, …) sont contrôlées annuellement et un rapport de maintenance est réalisé | BV60: ='5 - PUI et autre local'!J37 -> 0 | BW60: ='5 - PUI et autre local'!K37 -> 0
A61: ='3 - Établissement'!$E$9 -> 0 | AT61: =$A$5 -> 0 | BL61: PUI | BN61: Instalation | BP61: =IF(COUNTIF(BS61,"*~*")>0,"obligatoire","non-obligatoire") -> non-obligatoire | BQ61: ='5 - PUI et autre local'!B38 -> 0 | BR61: ='5 - PUI et autre local'!C38 -> 0 | BS61: ='5 - PUI et autre local'!D38 -> 49 | BT61: ='5 - PUI et autre local'!E38 -> ANSM - Risques et précautions d'emploi liés à l'utilisation des gaz à usage médical | BU61: ='5 - PUI et autre local'!F38 -> La qualité des gaz médicaux dispensés sur le réseau est contrôlée annuellement au regard de la Pharmacopée Européenne en vigueur | BV61: ='5 - PUI et autre local'!J38 -> 0 | BW61: ='5 - PUI et autre local'!K38 -> 0
A62: ='3 - Établissement'!$E$9 -> 0 | AT62: =$A$5 -> 0 | BL62: Unité de soins | BM62: service 1 | BP62: =IF(COUNTIF(BS62,"*~*")>0,"obligatoire","non-obligatoire") -> non-obligatoire | BQ62: ='6 - Services_Unités de soins'!B24 -> Chapitre 5. Stockage des gaz médicaux en services utilisateurs
A63: ='3 - Établissement'!$E$9 -> 0 | AT63: =$A$5 -> 0 | BL63: Unité de soins | BM63: service 1 | BP63: =IF(COUNTIF(BS63,"*~*")>0,"obligatoire","non-obligatoire") -> non-obligatoire | BQ63: ='6 - Services_Unités de soins'!B25 -> Thématique : stockage
A64: ='3 - Établissement'!$E$9 -> 0 | AT64: =$A$5 -> 0 | BL64: Unité de soins | BM64: service 1 | BN64: Stockage | BO64: =_xlfn.XLOOKUP(BM64,$O$4:$O$8,$Q$4:$Q$8) -> à exclure, nom pas renseigné | BP64: =IF(COUNTIF(BS64,"*~*")>0,"obligatoire","non-obligatoire") -> obligatoire | BQ64: ='6 - Services_Unités de soins'!B26 -> Stockage des gaz médicaux en services utilisateurs | BR64: ='6 - Services_Unités de soins'!C26 -> Stockage | BS64: ='6 - Services_Unités de soins'!D26 -> 50* | BT64: ='6 - Services_Unités de soins'!E26 -> Arrêté du 25 juin 1980 | BU64: ='6 - Services_Unités de soins'!F26 -> Les bouteilles de gaz à usage médical sont transportées dans les services utilisateurs et auprès des patients à l'aide de moyen approprié (chariots), en position verticale | BV64: ='6 - Services_Unités de soins'!J26 -> 0 | BW64: ='6 - Services_Unités de soins'!N26 -> 0
A65: ='3 - Établissement'!$E$9 -> 0 | AT65: =$A$5 -> 0 | BL65: Unité de soins | BM65: service 1 | BN65: Stockage | BO65: =_xlfn.XLOOKUP(BM65,$O$4:$O$8,$Q$4:$Q$8) -> à exclure, nom pas renseigné | BP65: =IF(COUNTIF(BS65,"*~*")>0,"obligatoire","non-obligatoire") -> non-obligatoire | BQ65: ='6 - Services_Unités de soins'!B27 -> 0 | BR65: ='6 - Services_Unités de soins'!C27 -> 0 | BS65: ='6 - Services_Unités de soins'!D27 -> 51 | BT65: ='6 - Services_Unités de soins'!E27 -> 0 | BU65: ='6 - Services_Unités de soins'!F27 -> Les bouteilles de gaz à usage médical sont transportées dans les services utilisateurs et auprès des patients, dans le cadre d'une prescription médicale, par des personnes formées aux gaz médicaux (transport, manipulation, administration…), selon l'étape d'intervention et l'action qu'ils réalisent (médecin, pharmacien, IDE...) | BV65: ='6 - Services_Unités de soins'!J27 -> 0 | BW65: ='6 - Services_Unités de soins'!N27 -> 0
A66: ='3 - Établissement'!$E$9 -> 0 | AT66: =$A$5 -> 0 | BL66: Unité de soins | BM66: service 1 | BN66: Stockage | BO66: =_xlfn.XLOOKUP(BM66,$O$4:$O$8,$Q$4:$Q$8) -> à exclure, nom pas renseigné | BP66: =IF(COUNTIF(BS66,"*~*")>0,"obligatoire","non-obligatoire") -> non-obligatoire | BQ66: ='6 - Services_Unités de soins'!B28 -> 0 | BR66: ='6 - Services_Unités de soins'!C28 -> 0 | BS66: ='6 - Services_Unités de soins'!D28 -> 52 | BT66: ='6 - Services_Unités de soins'!E28 -> ANSM - Risques et précautions d'emploi liés à l'utilisation des gaz à usage médical | BU66: ='6 - Services_Unités de soins'!F28 -> A la réception, les équipes vérifient systématiquement la nature du gaz par lecture de l'étiquette, l'intégrité de la bouteille (absence de fuites, de choc, présence du système d'inviolabilité) et la pression pour les bouteilles à manodétendeur intégré | BV66: ='6 - Services_Unités de soins'!J28 -> 0 | BW66: ='6 - Services_Unités de soins'!N28 -> 0
A67: ='3 - Établissement'!$E$9 -> 0 | AT67: =$A$5 -> 0 | BL67: Unité de soins | BM67: service 1 | BN67: Stockage | BO67: =_xlfn.XLOOKUP(BM67,$O$4:$O$8,$Q$4:$Q$8) -> à exclure, nom pas renseigné | BP67: =IF(COUNTIF(BS67,"*~*")>0,"obligatoire","non-obligatoire") -> non-obligatoire | BQ67: ='6 - Services_Unités de soins'!B29 -> 0 | BR67: ='6 - Services_Unités de soins'!C29 -> 0 | BS67: ='6 - Services_Unités de soins'!D29 -> 53 | BT67: ='6 - Services_Unités de soins'!E29 -> ANSM - Risques et précautions d'emploi liés à l'utilisation des gaz à usage médical | BU67: ='6 - Services_Unités de soins'!F29 -> En cas de microfuite suspectée ou pour tout dysfonctionnement ou non-conformité, la bouteille est retournée à la PUI ou au personnel responsable de l'atelier des fluides médicaux, pour demande d'expertise auprès du fournisseur des bouteilles | BV67: ='6 - Services_Unités de soins'!J29 -> 0 | BW67: ='6 - Services_Unités de soins'!N29 -> 0
A68: ='3 - Établissement'!$E$9 -> 0 | AT68: =$A$5 -> 0 | BL68: Unité de soins | BM68: service 1 | BN68: Stockage | BO68: =_xlfn.XLOOKUP(BM68,$O$4:$O$8,$Q$4:$Q$8) -> à exclure, nom pas renseigné | BP68: =IF(COUNTIF(BS68,"*~*")>0,"obligatoire","non-obligatoire") -> obligatoire | BQ68: ='6 - Services_Unités de soins'!B30 -> 0 | BR68: ='6 - Services_Unités de soins'!C30 -> 0 | BS68: ='6 - Services_Unités de soins'!D30 -> 54* | BT68: ='6 - Services_Unités de soins'!E30 -> Arrêté du 25 juin 1980 | BU68: ='6 - Services_Unités de soins'!F30 -> Dans les services utilisateurs, les gaz à usage médical sont stockés dans une/des pièces sécurisées, à accès interdit au public | BV68: ='6 - Services_Unités de soins'!J30 -> 0 | BW68: ='6 - Services_Unités de soins'!N30 -> 0
A69: ='3 - Établissement'!$E$9 -> 0 | AT69: =$A$5 -> 0 | BL69: Unité de soins | BM69: service 1 | BN69: Stockage | BO69: =_xlfn.XLOOKUP(BM69,$O$4:$O$8,$Q$4:$Q$8) -> à exclure, nom pas renseigné | BP69: =IF(COUNTIF(BS69,"*~*")>0,"obligatoire","non-obligatoire") -> obligatoire | BQ69: ='6 - Services_Unités de soins'!B31 -> 0 | BR69: ='6 - Services_Unités de soins'!C31 -> 0 | BS69: ='6 - Services_Unités de soins'!D31 -> 55* | BT69: ='6 - Services_Unités de soins'!E31 -> Arrêté du 25 juin 1980 | BU69: ='6 - Services_Unités de soins'!F31 -> La/les pièces de stockage des gaz à usage médical sont clairement identifiées, sécurisées, propres, ventilées (ventilation haute et basse sur la porte), à l'abri des intempéries et ne contiennent pas de sources de chaleur | BV69: ='6 - Services_Unités de soins'!J31 -> 0 | BW69: ='6 - Services_Unités de soins'!N31 -> 0
A70: ='3 - Établissement'!$E$9 -> 0 | AT70: =$A$5 -> 0 | BL70: Unité de soins | BM70: service 1 | BN70: Stockage | BO70: =_xlfn.XLOOKUP(BM70,$O$4:$O$8,$Q$4:$Q$8) -> à exclure, nom pas renseigné | BP70: =IF(COUNTIF(BS70,"*~*")>0,"obligatoire","non-obligatoire") -> non-obligatoire | BQ70: ='6 - Services_Unités de soins'!B32 -> 0 | BR70: ='6 - Services_Unités de soins'!C32 -> 0 | BS70: ='6 - Services_Unités de soins'!D32 -> 56 | BT70: ='6 - Services_Unités de soins'!E32 -> ANSM - Risques et précautions d'emploi liés à l'utilisation des gaz à usage médical | BU70: ='6 - Services_Unités de soins'!F32 -> Un panneau interdiction de fumer et les mesures de sécurité sont affichées dans les salles de stockage ou à proximité et facilement visibles | BV70: ='6 - Services_Unités de soins'!J32 -> 0 | BW70: ='6 - Services_Unités de soins'!N32 -> 0
A71: ='3 - Établissement'!$E$9 -> 0 | AT71: =$A$5 -> 0 | BL71: Unité de soins | BM71: service 1 | BN71: Stockage | BO71: =_xlfn.XLOOKUP(BM71,$O$4:$O$8,$Q$4:$Q$8) -> à exclure, nom pas renseigné | BP71: =IF(COUNTIF(BS71,"*~*")>0,"obligatoire","non-obligatoire") -> non-obligatoire | BQ71: ='6 - Services_Unités de soins'!B33 -> 0 | BR71: ='6 - Services_Unités de soins'!C33 -> 0 | BS71: ='6 - Services_Unités de soins'!D33 -> 57 | BT71: ='6 - Services_Unités de soins'!E33 -> 0 | BU71: ='6 - Services_Unités de soins'!F33 -> En l'absence de local ou zone de stockage dédié aux gaz à usage médical dans le service, les bouteilles sont transportées de manière sécurisée (à l'aide de chariots, par du personnel formé) entre les différents services et suivent systématiquement un patient | BV71: ='6 - Services_Unités de soins'!J33 -> 0 | BW71: ='6 - Services_Unités de soins'!N33 -> 0
A72: ='3 - Établissement'!$E$9 -> 0 | AT72: =$A$5 -> 0 | BL72: Unité de soins | BM72: service 1 | BN72: Stockage | BO72: =_xlfn.XLOOKUP(BM72,$O$4:$O$8,$Q$4:$Q$8) -> à exclure, nom pas renseigné | BP72: =IF(COUNTIF(BS72,"*~*")>0,"obligatoire","non-obligatoire") -> non-obligatoire | BQ72: ='6 - Services_Unités de soins'!B34 -> 0 | BR72: ='6 - Services_Unités de soins'!C34 -> 0 | BS72: ='6 - Services_Unités de soins'!D34 -> 58 | BT72: ='6 - Services_Unités de soins'!E34 -> 0 | BU72: ='6 - Services_Unités de soins'!F34 -> En l'absence de local ou zone de stockage dédié aux gaz à usage médical dans le service, les bouteilles proviennent directement de la PUI et retournent à la PUI sans stockage hors patient et hors zone dédiée et sécurisée | BV72: ='6 - Services_Unités de soins'!J34 -> 0 | BW72: ='6 - Services_Unités de soins'!N34 -> 0
A73: ='3 - Établissement'!$E$9 -> 0 | AT73: =$A$5 -> 0 | BL73: Unité de soins | BM73: service 1 | BN73: Stockage | BO73: =_xlfn.XLOOKUP(BM73,$O$4:$O$8,$Q$4:$Q$8) -> à exclure, nom pas renseigné | BP73: =IF(COUNTIF(BS73,"*~*")>0,"obligatoire","non-obligatoire") -> non-obligatoire | BQ73: ='6 - Services_Unités de soins'!B35 -> 0 | BR73: ='6 - Services_Unités de soins'!C35 -> 0 | BS73: ='6 - Services_Unités de soins'!D35 -> 59 | BT73: ='6 - Services_Unités de soins'!E35 -> ANSM - Risques et précautions d'emploi liés à l'utilisation des gaz à usage médical | BU73: ='6 - Services_Unités de soins'!F35 -> Les zones de stockage de chaque bouteille de gaz à usage médical (oxygène, MEOPA…) sont clairement identifiées, les bouteilles vides sont séparées des bouteilles pleines | BV73: ='6 - Services_Unités de soins'!J35 -> 0 | BW73: ='6 - Services_Unités de soins'!N35 -> 0
A74: ='3 - Établissement'!$E$9 -> 0 | AT74: =$A$5 -> 0 | BL74: Unité de soins | BM74: service 1 | BN74: Stockage | BO74: =_xlfn.XLOOKUP(BM74,$O$4:$O$8,$Q$4:$Q$8) -> à exclure, nom pas renseigné | BP74: =IF(COUNTIF(BS74,"*~*")>0,"obligatoire","non-obligatoire") -> obligatoire | BQ74: ='6 - Services_Unités de soins'!B36 -> 0 | BR74: ='6 - Services_Unités de soins'!C36 -> 0 | BS74: ='6 - Services_Unités de soins'!D36 -> 60* | BT74: ='6 - Services_Unités de soins'!E36 -> Résumé des caractéristiques du produit | BU74: ='6 - Services_Unités de soins'!F36 -> Les bouteilles de gaz à usage médical NE SONT PAS stockées dans le couloir Conseil de remplissage : - Les bouteilles sont stockées dans le couloir : répondre NON - Les bouteilles ne sont pas stockées dans le couloir : répondre OUI | BV74: ='6 - Services_Unités de soins'!J36 -> 0 | BW74: ='6 - Services_Unités de soins'!N36 -> 0
A75: ='3 - Établissement'!$E$9 -> 0 | AT75: =$A$5 -> 0 | BL75: Unité de soins | BM75: service 1 | BN75: Stockage | BO75: =_xlfn.XLOOKUP(BM75,$O$4:$O$8,$Q$4:$Q$8) -> à exclure, nom pas renseigné | BP75: =IF(COUNTIF(BS75,"*~*")>0,"obligatoire","non-obligatoire") -> obligatoire | BQ75: ='6 - Services_Unités de soins'!B37 -> 0 | BR75: ='6 - Services_Unités de soins'!C37 -> 0 | BS75: ='6 - Services_Unités de soins'!D37 -> 61* | BT75: ='6 - Services_Unités de soins'!E37 -> Résumé des caractéristiques du produit | BU75: ='6 - Services_Unités de soins'!F37 -> Les bouteilles de gaz à usage médical NE TIENNENT PAS une porte Conseil de remplissage : - Les bouteilles tiennent une porte : répondre NON - Les bouteilles ne tiennent pas une porte : répondre OUI | BV75: ='6 - Services_Unités de soins'!J37 -> 0 | BW75: ='6 - Services_Unités de soins'!N37 -> 0
... A78: ='3 - Établissement'!$E$9 -> 0 | AT78: =$A$5 -> 0 | BL78: Unité de soins | BM78: service 1 | BN78: Stockage | BO78: =_xlfn.XLOOKUP(BM78,$O$4:$O$8,$Q$4:$Q$8) -> à exclure, nom pas renseigné | BP78: =IF(COUNTIF(BS78,"*~*")>0,"obligatoire","non-obligatoire") -> non-obligatoire | BQ78: ='6 - Services_Unités de soins'!B40 -> 0 | BR78: ='6 - Services_Unités de soins'!C40 -> 0 | BS78: ='6 - Services_Unités de soins'!D40 -> 64 | BT78: ='6 - Services_Unités de soins'!E40 -> 0 | BU78: ='6 - Services_Unités de soins'!F40 -> Les équipes sont informées de la liste des gaz médicaux ayant le statut de médicament (Oxygène, MEOPA, protoxyde d'azote, monoxyde d'azote, xénon) La réponse à cette question est calculée automatiquement pour être identique à la 18 (onglet politique). Vous pouvez compléter d'un commentaire | BV78: ='6 - Services_Unités de soins'!J40 | BW78: ='6 - Services_Unités de soins'!N40 -> 0
A79: ='3 - Établissement'!$E$9 -> 0 | AT79: =$A$5 -> 0 | BL79: Unité de soins | BM79: service 1 | BP79: =IF(COUNTIF(BS79,"*~*")>0,"obligatoire","non-obligatoire") -> non-obligatoire | BQ79: ='6 - Services_Unités de soins'!B41 -> 0 | BR79: ='6 - Services_Unités de soins'!C41 -> Focus bouteilles d'oxygène | BS79: ='6 - Services_Unités de soins'!D41 -> 0 | BT79: ='6 - Services_Unités de soins'!E41 -> 0 | BU79: ='6 - Services_Unités de soins'!F41 -> 0 | BV79: ='6 - Services_Unités de soins'!J41 -> 0 | BW79: ='6 - Services_Unités de soins'!N41 -> 0
A80: ='3 - Établissement'!$E$9 -> 0 | AT80: =$A$5 -> 0 | BL80: Unité de soins | BM80: service 1 | BN80: Focus bouteilles d'oxygène | BO80: =_xlfn.XLOOKUP(BM80,$O$4:$O$8,$Q$4:$Q$8) -> à exclure, nom pas renseigné | BP80: =IF(COUNTIF(BS80,"*~*")>0,"obligatoire","non-obligatoire") -> non-obligatoire | BQ80: ='6 - Services_Unités de soins'!B42 -> 0 | BR80: ='6 - Services_Unités de soins'!C42 -> 0 | BS80: ='6 - Services_Unités de soins'!D42 -> 65 | BT80: ='6 - Services_Unités de soins'!E42 -> 0 | BU80: ='6 - Services_Unités de soins'!F42 -> Pour les dotations de service, le nombre de bouteilles d'oxygène stockées dans le service est en adéquation avec le nombre nécessaire (pas de manque ou de surstockage avec risque de périmé ou d'encombrement) | BV80: ='6 - Services_Unités de soins'!J42 -> 0 | BW80: ='6 - Services_Unités de soins'!N42 -> 0
A81: ='3 - Établissement'!$E$9 -> 0 | AT81: =$A$5 -> 0 | BL81: Unité de soins | BM81: service 1 | BN81: Focus bouteilles d'oxygène | BO81: =_xlfn.XLOOKUP(BM81,$O$4:$O$8,$Q$4:$Q$8) -> à exclure, nom pas renseigné | BP81: =IF(COUNTIF(BS81,"*~*")>0,"obligatoire","non-obligatoire") -> non-obligatoire | BQ81: ='6 - Services_Unités de soins'!B43 -> 0 | BR81: ='6 - Services_Unités de soins'!C43 -> 0 | BS81: ='6 - Services_Unités de soins'!D43 -> 66 | BT81: ='6 - Services_Unités de soins'!E43 -> 0 | BU81: ='6 - Services_Unités de soins'!F43 -> Les bouteilles d'oxygène contenues dans le chariot d'urgence sont régulièrement vérifiées par lecture de l'étiquette, de la date de péremption et de leur capacité ou volume sortant | BV81: ='6 - Services_Unités de soins'!J43 -> 0 | BW81: ='6 - Services_Unités de soins'!N43 -> 0
A82: ='3 - Établissement'!$E$9 -> 0 | AT82: =$A$5 -> 0 | BL82: Unité de soins | BM82: service 1 | BP82: =IF(COUNTIF(BS82,"*~*")>0,"obligatoire","non-obligatoire") -> non-obligatoire | BQ82: ='6 - Services_Unités de soins'!B44 -> 0 | BR82: ='6 - Services_Unités de soins'!C44 -> Focus bouteilles de MEOPA | BS82: ='6 - Services_Unités de soins'!D44 -> 0 | BT82: ='6 - Services_Unités de soins'!E44 -> 0 | BU82: ='6 - Services_Unités de soins'!F44 -> 0 | BV82: ='6 - Services_Unités de soins'!J44 -> 0 | BW82: ='6 - Services_Unités de soins'!N44 -> 0
A83: ='3 - Établissement'!$E$9 -> 0 | AT83: =$A$5 -> 0 | BL83: Unité de soins | BM83: service 1 | BN83: Focus bouteilles de MEOPA | BO83: =_xlfn.XLOOKUP(BM83,$O$4:$O$8,$Q$4:$Q$8) -> à exclure, nom pas renseigné | BP83: =IF(COUNTIF(BS83,"*~*")>0,"obligatoire","non-obligatoire") -> non-obligatoire | BQ83: ='6 - Services_Unités de soins'!B45 -> 0 | BR83: ='6 - Services_Unités de soins'!C45 -> 0 | BS83: ='6 - Services_Unités de soins'!D45 -> 67 | BT83: ='6 - Services_Unités de soins'!E45 -> 0 | BU83: ='6 - Services_Unités de soins'!F45 -> Le nombre de bouteilles de MEOPA stockées dans le service est en adéquation avec le nombre nécessaire (pas de manque ou de surstockage avec risque de périmé ou d'encombrement) | BV83: ='6 - Services_Unités de soins'!J45 -> 0 | BW83: ='6 - Services_Unités de soins'!N45 -> 0
A84: ='3 - Établissement'!$E$9 -> 0 | AT84: =$A$5 -> 0 | BL84: Unité de soins | BM84: service 1 | BN84: Focus bouteilles de MEOPA | BO84: =_xlfn.XLOOKUP(BM84,$O$4:$O$8,$Q$4:$Q$8) -> à exclure, nom pas renseigné | BP84: =IF(COUNTIF(BS84,"*~*")>0,"obligatoire","non-obligatoire") -> obligatoire | BQ84: ='6 - Services_Unités de soins'!B46 -> 0 | BR84: ='6 - Services_Unités de soins'!C46 -> 0 | BS84: ='6 - Services_Unités de soins'!D46 -> 68* | BT84: ='6 - Services_Unités de soins'!E46 -> Résumé des caractéristiques du produit - MEOPA | BU84: ='6 - Services_Unités de soins'!F46 -> Les bouteilles de MEOPA ne sont administrées que sur la durée mentionnée sur l'ordonnance (liste I) | BV84: ='6 - Services_Unités de soins'!J46 -> 0 | BW84: ='6 - Services_Unités de soins'!N46 -> 0
A85: ='3 - Établissement'!$E$9 -> 0 | AT85: =$A$5 -> 0 | BL85: Unité de soins | BM85: service 1 | BP85: =IF(COUNTIF(BS85,"*~*")>0,"obligatoire","non-obligatoire") -> non-obligatoire | BQ85: ='6 - Services_Unités de soins'!B47 -> 0 | BR85: ='6 - Services_Unités de soins'!C47 -> Thématique : Administration | BS85: ='6 - Services_Unités de soins'!D47 -> 0 | BT85: ='6 - Services_Unités de soins'!E47 -> 0 | BU85: ='6 - Services_Unités de soins'!F47 -> 0 | BV85: ='6 - Services_Unités de soins'!J47 -> 0 | BW85: ='6 - Services_Unités de soins'!N47 -> 0
A86: ='3 - Établissement'!$E$9 -> 0 | AT86: =$A$5 -> 0 | BL86: Unité de soins | BM86: service 1 | BN86: Administration | BO86: =_xlfn.XLOOKUP(BM86,$O$4:$O$8,$Q$4:$Q$8) -> à exclure, nom pas renseigné | BP86: =IF(COUNTIF(BS86,"*~*")>0,"obligatoire","non-obligatoire") -> obligatoire | BQ86: ='6 - Services_Unités de soins'!B48 -> 0 | BR86: ='6 - Services_Unités de soins'!C48 -> Administration | BS86: ='6 - Services_Unités de soins'!D48 -> 69* | BT86: ='6 - Services_Unités de soins'!E48 -> Arrêté du 6 avril 2011 | BU86: ='6 - Services_Unités de soins'!F48 -> L'administration de gaz médicaux ayant le statut de médicament est réalisée au regard de la prescription médicale | BV86: ='6 - Services_Unités de soins'!J48 -> 0 | BW86: ='6 - Services_Unités de soins'!N48 -> 0
A87: ='3 - Établissement'!$E$9 -> 0 | AT87: =$A$5 -> 0 | BL87: Unité de soins | BM87: service 1 | BN87: Administration | BO87: =_xlfn.XLOOKUP(BM87,$O$4:$O$8,$Q$4:$Q$8) -> à exclure, nom pas renseigné | BP87: =IF(COUNTIF(BS87,"*~*")>0,"obligatoire","non-obligatoire") -> non-obligatoire | BQ87: ='6 - Services_Unités de soins'!B49 -> 0 | BR87: ='6 - Services_Unités de soins'!C49 -> 0 | BS87: ='6 - Services_Unités de soins'!D49 -> 70 | BT87: ='6 - Services_Unités de soins'!E49 -> ANSM - Risques et précautions d'emploi liés à l'utilisation des gaz à usage médical | BU87: ='6 - Services_Unités de soins'!F49 -> Avant l'administration, le personnel (IDE habilité(e) ou formé(e), médecin) s'assure qu'il n'y a pas de corps gras : ni sur leurs mains, ni sur celles du patient ni sur le visage du patient | BV87: ='6 - Services_Unités de soins'!J49 -> 0 | BW87: ='6 - Services_Unités de soins'!N49 -> 0
A88: ='3 - Établissement'!$E$9 -> 0 | AT88: =$A$5 -> 0 | BL88: Unité de soins | BM88: service 1 | BN88: Administration | BO88: =_xlfn.XLOOKUP(BM88,$O$4:$O$8,$Q$4:$Q$8) -> à exclure, nom pas renseigné | BP88: =IF(COUNTIF(BS88,"*~*")>0,"obligatoire","non-obligatoire") -> non-obligatoire | BQ88: ='6 - Services_Unités de soins'!B50 -> 0 | BR88: ='6 - Services_Unités de soins'!C50 -> 0 | BS88: ='6 - Services_Unités de soins'!D50 -> 71 | BT88: ='6 - Services_Unités de soins'!E50 -> ANSM - Risques et précautions d'emploi liés à l'utilisation des gaz à usage médical | BU88: ='6 - Services_Unités de soins'!F50 -> Avant chaque administration, l'identité du gaz est vérifiée par lecture de l'étiquette sur le corps de la bouteille, de la péremption, de l'intégrité de la bouteille et de la présence d'équipements spécifiques nécessaires | BV88: ='6 - Services_Unités de soins'!J50 -> 0 | BW88: ='6 - Services_Unités de soins'!N50 -> 0
A89: ='3 - Établissement'!$E$9 -> 0 | AT89: =$A$5 -> 0 | BL89: Unité de soins | BM89: service 1 | BN89: Administration | BO89: =_xlfn.XLOOKUP(BM89,$O$4:$O$8,$Q$4:$Q$8) -> à exclure, nom pas renseigné | BP89: =IF(COUNTIF(BS89,"*~*")>0,"obligatoire","non-obligatoire") -> obligatoire | BQ89: ='6 - Services_Unités de soins'!B51 -> 0 | BR89: ='6 - Services_Unités de soins'!C51 -> 0 | BS89: ='6 - Services_Unités de soins'!D51 -> 72* | BT89: ='6 - Services_Unités de soins'!E51 -> Arrêté du 6 avril 2011 | BU89: ='6 - Services_Unités de soins'!F51 -> Avant l'administration, le personnel s'assure de l'identité du patient | BV89: ='6 - Services_Unités de soins'!J51 -> 0 | BW89: ='6 - Services_Unités de soins'!N51 -> 0
A90: ='3 - Établissement'!$E$9 -> 0 | AT90: =$A$5 -> 0 | BL90: Unité de soins | BM90: service 1 | BN90: Administration | BO90: =_xlfn.XLOOKUP(BM90,$O$4:$O$8,$Q$4:$Q$8) -> à exclure, nom pas renseigné | BP90: =IF(COUNTIF(BS90,"*~*")>0,"obligatoire","non-obligatoire") -> non-obligatoire | BQ90: ='6 - Services_Unités de soins'!B52 -> 0 | BR90: ='6 - Services_Unités de soins'!C52 -> 0 | BS90: ='6 - Services_Unités de soins'!D52 -> 73 | BT90: ='6 - Services_Unités de soins'!E52 -> 0 | BU90: ='6 - Services_Unités de soins'!F52 -> Avant l'administration, le personnel informe le patient des mesures de sécurité à respecter lors de l'inhalation de gaz à usage médical | BV90: ='6 - Services_Unités de soins'!J52 -> 0 | BW90: ='6 - Services_Unités de soins'!N52 -> 0
A91: ='3 - Établissement'!$E$9 -> 0 | AT91: =$A$5 -> 0 | BL91: Unité de soins | BM91: service 1 | BN91: Administration | BO91: =_xlfn.XLOOKUP(BM91,$O$4:$O$8,$Q$4:$Q$8) -> à exclure, nom pas renseigné | BP91: =IF(COUNTIF(BS91,"*~*")>0,"obligatoire","non-obligatoire") -> non-obligatoire | BQ91: ='6 - Services_Unités de soins'!B53 -> 0 | BR91: ='6 - Services_Unités de soins'!C53 -> 0 | BS91: ='6 - Services_Unités de soins'!D53 -> 74 | BT91: ='6 - Services_Unités de soins'!E53 -> ANSM - Risques et précautions d'emploi liés à l'utilisation des gaz à usage médical | BU91: ='6 - Services_Unités de soins'!F53 -> L'autonomie de la bouteille est systématiquement calculée permettant d'assurer la durée d'administration | BV91: ='6 - Services_Unités de soins'!J53 -> 0 | BW91: ='6 - Services_Unités de soins'!N53 -> 0
A92: ='3 - Établissement'!$E$9 -> 0 | AT92: =$A$5 -> 0 | BL92: Unité de soins | BM92: service 1 | BN92: Administration | BO92: =_xlfn.XLOOKUP(BM92,$O$4:$O$8,$Q$4:$Q$8) -> à exclure, nom pas renseigné | BP92: =IF(COUNTIF(BS92,"*~*")>0,"obligatoire","non-obligatoire") -> obligatoire | BQ92: ='6 - Services_Unités de soins'!B54 -> 0 | BR92: ='6 - Services_Unités de soins'!C54 -> 0 | BS92: ='6 - Services_Unités de soins'!D54 -> 75* | BT92: ='6 - Services_Unités de soins'!E54 -> HAS - Evaluation de la prise en charge médicamenteuse selon le référentiel de certification | BU92: ='6 - Services_Unités de soins'!F54 -> L'administration est tracée dans le dossier informatisé du patient | BV92: ='6 - Services_Unités de soins'!J54 -> 0 | BW92: ='6 - Services_Unités de soins'!N54 -> 0
A93: ='3 - Établissement'!$E$9 -> 0 | AT93: =$A$5 -> 0 | BL93: Unité de soins | BM93: service 1 | BN93: Administration | BO93: =_xlfn.XLOOKUP(BM93,$O$4:$O$8,$Q$4:$Q$8) -> à exclure, nom pas renseigné | BP93: =IF(COUNTIF(BS93,"*~*")>0,"obligatoire","non-obligatoire") -> non-obligatoire | BQ93: ='6 - Services_Unités de soins'!B55 -> 0 | BR93: ='6 - Services_Unités de soins'!C55 -> 0 | BS93: ='6 - Services_Unités de soins'!D55 -> 76 | BT93: ='6 - Services_Unités de soins'!E55 -> 0 | BU93: ='6 - Services_Unités de soins'!F55 -> Au cours de l'administration, les bouteilles de gaz à usage médical sont stockées auprès des patients, en position verticale et arrimées par tout moyen approprié (chaînes, crochets, porte-lit, chariot de transport…) afin de les protéger des risques de chute et de choc | BV93: ='6 - Services_Unités de soins'!J55 -> 0 | BW93: ='6 - Services_Unités de soins'!N55 -> 0
A94: ='3 - Établissement'!$E$9 -> 0 | AT94: =$A$5 -> 0 | BL94: Unité de soins | BM94: service 1 | BN94: Administration | BO94: =_xlfn.XLOOKUP(BM94,$O$4:$O$8,$Q$4:$Q$8) -> à exclure, nom pas renseigné | BP94: =IF(COUNTIF(BS94,"*~*")>0,"obligatoire","non-obligatoire") -> non-obligatoire | BQ94: ='6 - Services_Unités de soins'!B56 -> 0 | BR94: ='6 - Services_Unités de soins'!C56 -> 0 | BS94: ='6 - Services_Unités de soins'!D56 -> 77 | BT94: ='6 - Services_Unités de soins'!E56 -> ANSM - Risques et précautions d'emploi liés à l'utilisation des gaz à usage médical | BU94: ='6 - Services_Unités de soins'!F56 -> A la suite de l'administration, lorsque la bouteille est vide, celle-ci est transportée à l'aide de moyen approprié, robinet fermé et stockée dans le local dédié, dans la zone dédiée aux bouteilles vides et arrimée | BV94: ='6 - Services_Unités de soins'!J56 -> 0 | BW94: ='6 - Services_Unités de soins'!N56 -> 0
A95: ='3 - Établissement'!$E$9 -> 0 | AT95: =$A$5 -> 0 | BL95: Unité de soins | BM95: service 1 | BN95: Administration | BO95: =_xlfn.XLOOKUP(BM95,$O$4:$O$8,$Q$4:$Q$8) -> à exclure, nom pas renseigné | BP95: =IF(COUNTIF(BS95,"*~*")>0,"obligatoire","non-obligatoire") -> obligatoire | BQ95: ='6 - Services_Unités de soins'!B57 -> 0 | BR95: ='6 - Services_Unités de soins'!C57 -> 0 | BS95: ='6 - Services_Unités de soins'!D57 -> 78* | BT95: ='6 - Services_Unités de soins'!E57 -> Arrêté du 22 octobre 1982 | BU95: ='6 - Services_Unités de soins'!F57 -> Les prises murales des gaz à usage médical sont clairement identifiées avec le nom du gaz correspondant de manière à éviter tout risque de confusion | BV95: ='6 - Services_Unités de soins'!J57 -> 0 | BW95: ='6 - Services_Unités de soins'!N57 -> 0
A96: ='3 - Établissement'!$E$9 -> 0 | AT96: =$A$5 -> 0 | BL96: Unité de soins | BM96: service 1 | BN96: Administration | BO96: =_xlfn.XLOOKUP(BM96,$O$4:$O$8,$Q$4:$Q$8) -> à exclure, nom pas renseigné | BP96: =IF(COUNTIF(BS96,"*~*")>0,"obligatoire","non-obligatoire") -> non-obligatoire | BQ96: ='6 - Services_Unités de soins'!B58 -> 0 | BR96: ='6 - Services_Unités de soins'!C58 -> 0 | BS96: ='6 - Services_Unités de soins'!D58 -> 79 | BT96: ='6 - Services_Unités de soins'!E58 -> ANSM - Confusion air/oxygène | BU96: ='6 - Services_Unités de soins'!F58 -> Les débitmètres de l'air à usage médical sont branchés uniquement sur prescription médicale et retirés après chaque utilisation | BV96: ='6 - Services_Unités de soins'!J58 -> 0 | BW96: ='6 - Services_Unités de soins'!N58 -> 0
A97: ='3 - Établissement'!$E$9 -> 0 | AT97: =$A$5 -> 0 | BL97: Unité de soins | BM97: service 2 | BP97: =IF(COUNTIF(BS97,"*~*")>0,"obligatoire","non-obligatoire") -> non-obligatoire | BQ97: =BQ62 -> Chapitre 5. Stockage des gaz médicaux en services utilisateurs
A98: ='3 - Établissement'!$E$9 -> 0 | AT98: =$A$5 -> 0 | BL98: Unité de soins | BM98: service 2 | BP98: =IF(COUNTIF(BS98,"*~*")>0,"obligatoire","non-obligatoire") -> non-obligatoire | BQ98: =BQ63 -> Thématique : stockage
A99: ='3 - Établissement'!$E$9 -> 0 | AT99: =$A$5 -> 0 | BL99: Unité de soins | BM99: service 2 | BN99: Stockage | BO99: =_xlfn.XLOOKUP(BM99,$O$4:$O$8,$Q$4:$Q$8) -> à exclure, nom pas renseigné | BP99: =IF(COUNTIF(BS99,"*~*")>0,"obligatoire","non-obligatoire") -> obligatoire | BQ99: =BQ64 -> Stockage des gaz médicaux en services utilisateurs | BR99: =BR64 -> Stockage | BS99: =BS64 -> 50* | BT99: =BT64 -> Arrêté du 25 juin 1980 | BU99: =BU64 -> Les bouteilles de gaz à usage médical sont transportées dans les services utilisateurs et auprès des patients à l'aide de moyen approprié (chariots), en position verticale | BV99: ='6 - Services_Unités de soins'!K26 -> 0 | BW99: ='6 - Services_Unités de soins'!P26 -> 0
A100: ='3 - Établissement'!$E$9 -> 0 | AT100: =$A$5 -> 0 | BL100: Unité de soins | BM100: service 2 | BN100: Stockage | BO100: =_xlfn.XLOOKUP(BM100,$O$4:$O$8,$Q$4:$Q$8) -> à exclure, nom pas renseigné | BP100: =IF(COUNTIF(BS100,"*~*")>0,"obligatoire","non-obligatoire") -> non-obligatoire | BQ100: =BQ65 -> 0 | BR100: =BR65 -> 0 | BS100: =BS65 -> 51 | BT100: =BT65 -> 0 | BU100: =BU65 -> Les bouteilles de gaz à usage médical sont transportées dans les services utilisateurs et auprès des patients, dans le cadre d'une prescription médicale, par des personnes formées aux gaz médicaux (transport, manipulation, administration…), selon l'étape d'intervention et l'action qu'ils réalisent (médecin, pharmacien, IDE...) | BV100: ='6 - Services_Unités de soins'!K27 -> 0 | BW100: ='6 - Services_Unités de soins'!P27 -> 0
A101: ='3 - Établissement'!$E$9 -> 0 | AT101: =$A$5 -> 0 | BL101: Unité de soins | BM101: service 2 | BN101: Stockage | BO101: =_xlfn.XLOOKUP(BM101,$O$4:$O$8,$Q$4:$Q$8) -> à exclure, nom pas renseigné | BP101: =IF(COUNTIF(BS101,"*~*")>0,"obligatoire","non-obligatoire") -> non-obligatoire | BQ101: =BQ66 -> 0 | BR101: =BR66 -> 0 | BS101: =BS66 -> 52 | BT101: =BT66 -> ANSM - Risques et précautions d'emploi liés à l'utilisation des gaz à usage médical | BU101: =BU66 -> A la réception, les équipes vérifient systématiquement la nature du gaz par lecture de l'étiquette, l'intégrité de la bouteille (absence de fuites, de choc, présence du système d'inviolabilité) et la pression pour les bouteilles à manodétendeur intégré | BV101: ='6 - Services_Unités de soins'!K28 -> 0 | BW101: ='6 - Services_Unités de soins'!P28 -> 0
A102: ='3 - Établissement'!$E$9 -> 0 | AT102: =$A$5 -> 0 | BL102: Unité de soins | BM102: service 2 | BN102: Stockage | BO102: =_xlfn.XLOOKUP(BM102,$O$4:$O$8,$Q$4:$Q$8) -> à exclure, nom pas renseigné | BP102: =IF(COUNTIF(BS102,"*~*")>0,"obligatoire","non-obligatoire") -> non-obligatoire | BQ102: =BQ67 -> 0 | BR102: =BR67 -> 0 | BS102: =BS67 -> 53 | BT102: =BT67 -> ANSM - Risques et précautions d'emploi liés à l'utilisation des gaz à usage médical | BU102: =BU67 -> En cas de microfuite suspectée ou pour tout dysfonctionnement ou non-conformité, la bouteille est retournée à la PUI ou au personnel responsable de l'atelier des fluides médicaux, pour demande d'expertise auprès du fournisseur des bouteilles | BV102: ='6 - Services_Unités de soins'!K29 -> 0 | BW102: ='6 - Services_Unités de soins'!P29 -> 0
...

Sheet BONUS - TCD à votre disposition
B2: Bonus : 2 tableaux croisés dynamiques
B3: Les tables croisées dynamiques ci-dessous sont proposées en complément aux personnes souhaitant manipuler leurs données d'audit dans Excel.
B4: Faites un clic droit sur l'un des tableaux croisés dynamiques, puis sélectionnez Actualiser afin d'afficher vos résultats.
B6: Disposition du rapport : forme compactée
B9: Type de critère | C9: (Tous)
B11: Nombre de N° de critère | C11: Étiquettes de colonnes
B12: Étiquettes de lignes | C12: 0 | E12: (vide) | F12: Total général
B13: Politique
B14: (vide)
B15: Politique générale | C15: 8 | F15: 8
B16: Gestion documentaire | C16: 7 | F16: 7
B17: Formation | C17: 5 | F17: 5
B18: Auto-évaluation | C18: 1 | F18: 1
B19: Gestion des risques | C19: 6 | F19: 6
B20: Prescription | C20: 3 | D20: 1 | F20: 4
B21: (vide) | C21: 5 | F21: 5
B22: PUI
B23: (vide)
B24: Stockage | C24: 12 | F24: 12
B25: Instalation | C25: 6 | F25: 6
B26: (vide) | C26: 1 | F26: 1
B27: Unité de soins
B28: service 1
B29: Stockage | C29: 13 | D29: 2 | F29: 15
B30: Focus bouteilles d'oxygène | C30: 2 | F30: 2
B31: Focus bouteilles de MEOPA | C31: 2 | F31: 2
B32: Administration | C32: 11 | F32: 11
B33: (vide) | C33: 3 | F33: 3
B34: service 2
B35: Stockage | C35: 13 | D35: 2 | F35: 15
B36: Focus bouteilles d'oxygène | C36: 2 | F36: 2
B37: Focus bouteilles de MEOPA | C37: 2 | F37: 2
B38: Administration | C38: 11 | F38: 11
B39: (vide) | C39: 3 | F39: 3
B40: service 3
B41: Stockage | C41: 13 | D41: 2 | F41: 15
B42: Focus bouteilles d'oxygène | C42: 2 | F42: 2
B43: Focus bouteilles de MEOPA | C43: 2 | F43: 2
B44: Administration | C44: 11 | F44: 11
B45: (vide) | C45: 3 | F45: 3
B46: service 4
B47: Stockage | C47: 13 | D47: 2 | F47: 15
B48: Focus bouteilles d'oxygène | C48: 2 | F48: 2
B49: Focus bouteilles de MEOPA | C49: 2 | F49: 2
B50: Administration | C50: 11 | F50: 11
B51: (vide) | C51: 3 | F51: 3
B52: Total général | C52: 178 | D52: 9 | F52: 187
B56: Disposition du rapport : forme tabulaire avec étiquettes répétées
B58: Onglet | C58: Unité de soins
B60: numéro de service | C60: Chapitre | D60: Type de critère | E60: Élements observés | F60: Réponse | G60: Commentaire
B61: service 1 | C61: Stockage | D61: non-obligatoire | E61: A la réception, les équipes vérifient systématiquement la nature du gaz par lecture de l'étiquette, l'intégrité de la bouteille (absence de fuites, de choc, présence du système d'inviolabilité) et la pression pour les bouteilles à manodétendeur intégré | F61: 0 | G61: 0
B62: service 1 | C62: Stockage | D62: non-obligatoire | E62: En cas de microfuite suspectée ou pour tout dysfonctionnement ou non-conformité, la bouteille est retournée à la PUI ou au personnel responsable de l'atelier des fluides médicaux, pour demande d'expertise auprès du fournisseur des bouteilles | F62: 0 | G62: 0
B63: service 1 | C63: Stockage | D63: non-obligatoire | E63: En l'absence de local ou zone de stockage dédié aux gaz à usage médical dans le service, les bouteilles proviennent directement de la PUI et retournent à la PUI sans stockage hors patient et hors zone dédiée et sécurisée | F63: 0 | G63: 0
B64: service 1 | C64: Stockage | D64: non-obligatoire | E64: En l'absence de local ou zone de stockage dédié aux gaz à usage médical dans le service, les bouteilles sont transportées de manière sécurisée (à l'aide de chariots, par du personnel formé) entre les différents services et suivent systématiquement un patient | F64: 0 | G64: 0
B65: service 1 | C65: Stockage | D65: non-obligatoire | E65: Les bouteilles de gaz à usage médical sont transportées dans les services utilisateurs et auprès des patients, dans le cadre d'une prescription médicale, par des personnes formées aux gaz médicaux (transport, manipulation, administration…), selon l'étape d'intervention et l'action qu'ils réalisent (médecin, pharmacien, IDE...) | F65: 0 | G65: 0
B66: service 1 | C66: Stockage | D66: non-obligatoire | E66: Les zones de stockage de chaque bouteille de gaz à usage médical (oxygène, MEOPA…) sont clairement identifiées, les bouteilles vides sont séparées des bouteilles pleines | F66: 0 | G66: 0
B67: service 1 | C67: Stockage | D67: non-obligatoire | E67: Un panneau interdiction de fumer et les mesures de sécurité sont affichées dans les salles de stockage ou à proximité et facilement visibles | F67: 0 | G67: 0
B68: service 1 | C68: Stockage | D68: non-obligatoire | E68: Le personnel est formé à l'utilisation des gaz à usage médical, en particulier à l'administration, à périodicité donnée avec une traçabilité assurée La réponse à cette question est calculée automatiquement pour être identique à la 16 (onglet politique). Vous pouvez compléter d'un commentaire | G68: 0
B69: service 1 | C69: Stockage | D69: non-obligatoire | E69: Les équipes sont informées de la liste des gaz médicaux ayant le statut de médicament (Oxygène, MEOPA, protoxyde d'azote, monoxyde d'azote, xénon) La réponse à cette question est calculée automatiquement pour être identique à la 18 (onglet politique). Vous pouvez compléter d'un commentaire | G69: 0
B70: service 1 | C70: Stockage | D70: obligatoire | E70: Dans les services utilisateurs, les gaz à usage médical sont stockés dans une/des pièces sécurisées, à accès interdit au public | F70: 0 | G70: 0
B71: service 1 | C71: Stockage | D71: obligatoire | E71: La/les pièces de stockage des gaz à usage médical sont clairement identifiées, sécurisées, propres, ventilées (ventilation haute et basse sur la porte), à l'abri des intempéries et ne contiennent pas de sources de chaleur | F71: 0 | G71: 0
B72: service 1 | C72: Stockage | D72: obligatoire | E72: Les bouteilles de gaz à usage médical sont stockées robinet fermé, en position verticale et arrimées par tout moyen approprié (chaînes, crochets…) afin de les protéger des risques de chute et de choc | F72: 0 | G72: 0
B73: service 1 | C73: Stockage | D73: obligatoire | E73: Les bouteilles de gaz à usage médical sont transportées dans les services utilisateurs et auprès des patients à l'aide de moyen approprié (chariots), en position verticale | F73: 0 | G73: 0
B74: service 1 | C74: Stockage | D74: obligatoire | E74: Les bouteilles de gaz à usage médical NE SONT PAS stockées dans le couloir Conseil de remplissage : - Les bouteilles sont stockées dans le couloir : répondre NON - Les bouteilles ne sont pas stockées dans le couloir : répondre OUI | F74: 0 | G74: 0
B75: service 1 | C75: Stockage | D75: obligatoire | E75: Les bouteilles de gaz à usage médical NE TIENNENT PAS une porte Conseil de remplissage : - Les bouteilles tiennent une porte : répondre NON - Les bouteilles ne tiennent pas une porte : répondre OUI | F75: 0 | G75: 0
B76: service 1 | C76: Administration | D76: non-obligatoire | E76: A la suite de l'administration, lorsque la bouteille est vide, celle-ci est transportée à l'aide de moyen approprié, robinet fermé et stockée dans le local dédié, dans la zone dédiée aux bouteilles vides et arrimée | F76: 0 | G76: 0
B77: service 1 | C77: Administration | D77: non-obligatoire | E77: Au cours de l'administration, les bouteilles de gaz à usage médical sont stockées auprès des patients, en position verticale et arrimées par tout moyen approprié (chaînes, crochets, porte-lit, chariot de transport…) afin de les protéger des risques de chute et de choc | F77: 0 | G77: 0
B78: service 1 | C78: Administration | D78: non-obligatoire | E78: Avant chaque administration, l'identité du gaz est vérifiée par lecture de l'étiquette sur le corps de la bouteille, de la péremption, de l'intégrité de la bouteille et de la présence d'équipements spécifiques nécessaires | F78: 0 | G78: 0
B79: service 1 | C79: Administration | D79: non-obligatoire | E79: Avant l'administration, le personnel informe le patient des mesures de sécurité à respecter lors de l'inhalation de gaz à usage médical | F79: 0 | G79: 0
B80: service 1 | C80: Administration | D80: non-obligatoire | E80: L'autonomie de la bouteille est systématiquement calculée permettant d'assurer la durée d'administration | F80: 0 | G80: 0
B81: service 1 | C81: Administration | D81: non-obligatoire | E81: Les débitmètres de l'air à usage médical sont branchés uniquement sur prescription médicale et retirés après chaque utilisation | F81: 0 | G81: 0
... B97: service 2 | C97: Stockage | D97: non-obligatoire | E97: Un panneau interdiction de fumer et les mesures de sécurité sont affichées dans les salles de stockage ou à proximité et facilement visibles | F97: 0 | G97: 0
B98: service 2 | C98: Stockage | D98: non-obligatoire | E98: Le personnel est formé à l'utilisation des gaz à usage médical, en particulier à l'administration, à périodicité donnée avec une traçabilité assurée La réponse à cette question est calculée automatiquement pour être identique à la 16 (onglet politique). Vous pouvez compléter d'un commentaire | G98: 0
B99: service 2 | C99: Stockage | D99: non-obligatoire | E99: Les équipes sont informées de la liste des gaz médicaux ayant le statut de médicament (Oxygène, MEOPA, protoxyde d'azote, monoxyde d'azote, xénon) La réponse à cette question est calculée automatiquement pour être identique à la 18 (onglet politique). Vous pouvez compléter d'un commentaire | G99: 0
B100: service 2 | C100: Stockage | D100: obligatoire | E100: Dans les services utilisateurs, les gaz à usage médical sont stockés dans une/des pièces sécurisées, à accès interdit au public | F100: 0 | G100: 0
B101: service 2 | C101: Stockage | D101: obligatoire | E101: La/les pièces de stockage des gaz à usage médical sont clairement identifiées, sécurisées, propres, ventilées (ventilation haute et basse sur la porte), à l'abri des intempéries et ne contiennent pas de sources de chaleur | F101: 0 | G101: 0
B102: service 2 | C102: Stockage | D102: obligatoire | E102: Les bouteilles de gaz à usage médical sont stockées robinet fermé, en position verticale et arrimées par tout moyen approprié (chaînes, crochets…) afin de les protéger des risques de chute et de choc | F102: 0 | G102: 0
B103: service 2 | C103: Stockage | D103: obligatoire | E103: Les bouteilles de gaz à usage médical sont transportées dans les services utilisateurs et auprès des patients à l'aide de moyen approprié (chariots), en position verticale | F103: 0 | G103: 0
B104: service 2 | C104: Stockage | D104: obligatoire | E104: Les bouteilles de gaz à usage médical NE SONT PAS stockées dans le couloir Conseil de remplissage : - Les bouteilles sont stockées dans le couloir : répondre NON - Les bouteilles ne sont pas stockées dans le couloir : répondre OUI | F104: 0 | G104: 0
B105: service 2 | C105: Stockage | D105: obligatoire | E105: Les bouteilles de gaz à usage médical NE TIENNENT PAS une porte Conseil de remplissage : - Les bouteilles tiennent une porte : répondre NON - Les bouteilles ne tiennent pas une porte : répondre OUI | F105: 0 | G105: 0
B106: service 2 | C106: Administration | D106: non-obligatoire | E106: A la suite de l'administration, lorsque la bouteille est vide, celle-ci est transportée à l'aide de moyen approprié, robinet fermé et stockée dans le local dédié, dans la zone dédiée aux bouteilles vides et arrimée | F106: 0 | G106: 0
B107: service 2 | C107: Administration | D107: non-obligatoire | E107: Au cours de l'administration, les bouteilles de gaz à usage médical sont stockées auprès des patients, en position verticale et arrimées par tout moyen approprié (chaînes, crochets, porte-lit, chariot de transport…) afin de les protéger des risques de chute et de choc | F107: 0 | G107: 0
B108: service 2 | C108: Administration | D108: non-obligatoire | E108: Avant chaque administration, l'identité du gaz est vérifiée par lecture de l'étiquette sur le corps de la bouteille, de la péremption, de l'intégrité de la bouteille et de la présence d'équipements spécifiques nécessaires | F108: 0 | G108: 0
B109: service 2 | C109: Administration | D109: non-obligatoire | E109: Avant l'administration, le personnel informe le patient des mesures de sécurité à respecter lors de l'inhalation de gaz à usage médical | F109: 0 | G109: 0
B110: service 2 | C110: Administration | D110: non-obligatoire | E110: L'autonomie de la bouteille est systématiquement calculée permettant d'assurer la durée d'administration | F110: 0 | G110: 0
B111: service 2 | C111: Administration | D111: non-obligatoire | E111: Les débitmètres de l'air à usage médical sont branchés uniquement sur prescription médicale et retirés après chaque utilisation | F111: 0 | G111: 0
... B127: service 3 | C127: Stockage | D127: non-obligatoire | E127: Un panneau interdiction de fumer et les mesures de sécurité sont affichées dans les salles de stockage ou à proximité et facilement visibles | F127: 0 | G127: 0
B128: service 3 | C128: Stockage | D128: non-obligatoire | E128: Le personnel est formé à l'utilisation des gaz à usage médical, en particulier à l'administration, à périodicité donnée avec une traçabilité assurée La réponse à cette question est calculée automatiquement pour être identique à la 16 (onglet politique). Vous pouvez compléter d'un commentaire | G128: 0
B129: service 3 | C129: Stockage | D129: non-obligatoire | E129: Les équipes sont informées de la liste des gaz médicaux ayant le statut de médicament (Oxygène, MEOPA, protoxyde d'azote, monoxyde d'azote, xénon) La réponse à cette question est calculée automatiquement pour être identique à la 18 (onglet politique). Vous pouvez compléter d'un commentaire | G129: 0
B130: service 3 | C130: Stockage | D130: obligatoire | E130: Dans les services utilisateurs, les gaz à usage médical sont stockés dans une/des pièces sécurisées, à accès interdit au public | F130: 0 | G130: 0
B131: service 3 | C131: Stockage | D131: obligatoire | E131: La/les pièces de stockage des gaz à usage médical sont clairement identifiées, sécurisées, propres, ventilées (ventilation haute et basse sur la porte), à l'abri des intempéries et ne contiennent pas de sources de chaleur | F131: 0 | G131: 0
B132: service 3 | C132: Stockage | D132: obligatoire | E132: Les bouteilles de gaz à usage médical sont stockées robinet fermé, en position verticale et arrimées par tout moyen approprié (chaînes, crochets…) afin de les protéger des risques de chute et de choc | F132: 0 | G132: 0
B133: service 3 | C133: Stockage | D133: obligatoire | E133: Les bouteilles de gaz à usage médical sont transportées dans les services utilisateurs et auprès des patients à l'aide de moyen approprié (chariots), en position verticale | F133: 0 | G133: 0
B134: service 3 | C134: Stockage | D134: obligatoire | E134: Les bouteilles de gaz à usage médical NE SONT PAS stockées dans le couloir Conseil de remplissage : - Les bouteilles sont stockées dans le couloir : répondre NON - Les bouteilles ne sont pas stockées dans le couloir : répondre OUI | F134: 0 | G134: 0
B135: service 3 | C135: Stockage | D135: obligatoire | E135: Les bouteilles de gaz à usage médical NE TIENNENT PAS une porte Conseil de remplissage : - Les bouteilles tiennent une porte : répondre NON - Les bouteilles ne tiennent pas une porte : répondre OUI | F135: 0 | G135: 0
B136: service 3 | C136: Administration | D136: non-obligatoire | E136: A la suite de l'administration, lorsque la bouteille est vide, celle-ci est transportée à l'aide de moyen approprié, robinet fermé et stockée dans le local dédié, dans la zone dédiée aux bouteilles vides et arrimée | F136: 0 | G136: 0
B137: service 3 | C137: Administration | D137: non-obligatoire | E137: Au cours de l'administration, les bouteilles de gaz à usage médical sont stockées auprès des patients, en position verticale et arrimées par tout moyen approprié (chaînes, crochets, porte-lit, chariot de transport…) afin de les protéger des risques de chute et de choc | F137: 0 | G137: 0
B138: service 3 | C138: Administration | D138: non-obligatoire | E138: Avant chaque administration, l'identité du gaz est vérifiée par lecture de l'étiquette sur le corps de la bouteille, de la péremption, de l'intégrité de la bouteille et de la présence d'équipements spécifiques nécessaires | F138: 0 | G138: 0
B139: service 3 | C139: Administration | D139: non-obligatoire | E139: Avant l'administration, le personnel informe le patient des mesures de sécurité à respecter lors de l'inhalation de gaz à usage médical | F139: 0 | G139: 0
B140: service 3 | C140: Administration | D140: non-obligatoire | E140: L'autonomie de la bouteille est systématiquement calculée permettant d'assurer la durée d'administration | F140: 0 | G140: 0
...
