Workbook
Name Fonction: #REF!
Name Nom_ES: #REF!
Name Tx_comp: #REF!

Sheet Liste 
A1: PROFESSION | C1: Méthodologie retenue* | E1: Thème politique | F1: tous les critères | G1: critères obligatoires | H1: c | I1: nombre de critères | K1: DEPARTEMENTS
A2: Médecin | C2: Uniquement observationnelle | E2: Moyenne thématique | F2: ='7 - Résultats'!R291 -> 0 | G2: ='7 - Résultats'!R338 -> 0 | H2: 0 | I2: ='7 - Résultats'!L404&" critères dont "&'7 - Résultats'!P404&" obligatoires" -> 8 critères dont 6 obligatoires | K2: NUM | L2: NOM | M2: NUM ET NOM
A3: Pharmacien | C3: Uniquement déclarative par interrogation des professionnels | E3: Politique | F3: ='7 - Résultats'!R292 -> 0 | G3: ='7 - Résultats'!R339 -> 0 | H3: 0 | I3: ='7 - Résultats'!L405&" critères dont "&'7 - Résultats'!P405&" obligatoires" -> 7 critères dont 4 obligatoires | K3: 1 | L3: AIN | M3: =K3&" - "&L3 -> 1 - AIN
A4: RSMQ PECM | C4: Observationnelle et déclarative | E4: Gestion documentaire | F4: ='7 - Résultats'!R293 -> 0 | G4: ='7 - Résultats'!R340 -> 0 | H4: 0 | I4: ='7 - Résultats'!L406&" critères dont "&'7 - Résultats'!P406&" obligatoires" -> 5 critères dont 3 obligatoires | K4: 2 | L4: AISNE | M4: =K4&" - "&L4 -> 2 - AISNE | O4: OUI
A5: Coordonateur gestion des risques | E5: Formation | F5: ='7 - Résultats'!R294 -> 0 | G5: ='7 - Résultats'!R341 -> 0 | H5: 0 | I5: ='7 - Résultats'!L407&" critères dont "&'7 - Résultats'!P407&" obligatoires" -> 1 critères dont 0 obligatoires | K5: 3 | L5: ALLIER | M5: =K5&" - "&L5 -> 3 - ALLIER | O5: NON
A6: Ingénieur biomédical | E6: Autoévaluation | F6: ='7 - Résultats'!R295 -> 0 | G6: ='7 - Résultats'!R342 -> NC | H6: 0 | I6: ='7 - Résultats'!L408&" critères dont "&'7 - Résultats'!P408&" obligatoires" -> 6 critères dont 4 obligatoires | K6: 4 | L6: ALPES DE HAUTE PROVENCE | M6: =K6&" - "&L6 -> 4 - ALPES DE HAUTE PROVENCE | O6: PARTIEL
A7: Autre (précisez ci-dessous) | E7: Gestion des risques | F7: ='7 - Résultats'!R296 -> 0 | G7: ='7 - Résultats'!R343 -> 0 | H7: 0 | I7: ='7 - Résultats'!L409&" critères dont "&'7 - Résultats'!P409&" obligatoires" -> 4 critères dont 2 obligatoires | K7: 5 | L7: HAUTES ALPES | M7: =K7&" - "&L7 -> 5 - HAUTES ALPES | O7: NON APPLICABLE
E8: Prescription | F8: ='7 - Résultats'!R297 -> 0 | G8: ='7 - Résultats'!R344 -> 0 | H8: 0 | I8: ='7 - Résultats'!L410&" critères dont "&'7 - Résultats'!P410&" obligatoires" -> 18 critères dont 7 obligatoires | K8: 6 | L8: ALPES MARITIMES | M8: =K8&" - "&L8 -> 6 - ALPES MARITIMES
K9: 7 | L9: ARDECHE | M9: =K9&" - "&L9 -> 7 - ARDECHE
K10: 8 | L10: ARDENNES | M10: =K10&" - "&L10 -> 8 - ARDENNES
K11: 9 | L11: ARIEGE | M11: =K11&" - "&L11 -> 9 - ARIEGE
K12: 10 | L12: AUBE | M12: =K12&" - "&L12 -> 10 - AUBE
K13: 11 | L13: AUDE | M13: =K13&" - "&L13 -> 11 - AUDE
K14: 12 | L14: AVEYRON | M14: =K14&" - "&L14 -> 12 - AVEYRON
K15: 13 | L15: BOUCHES DU RHONE | M15: =K15&" - "&L15 -> 13 - BOUCHES DU RHONE
K16: 14 | L16: CALVADOS | M16: =K16&" - "&L16 -> 14 - CALVADOS
K17: 15 | L17: CANTAL | M17: =K17&" - "&L17 -> 15 - CANTAL
K18: 16 | L18: CHARENTE | M18: =K18&" - "&L18 -> 16 - CHARENTE
K19: 17 | L19: CHARENTE MARITIME | M19: =K19&" - "&L19 -> 17 - CHARENTE MARITIME
K20: 18 | L20: CHER | M20: =K20&" - "&L20 -> 18 - CHER
... K30: 29 | L30: FINISTERE | M30: =K30&" - "&L30 -> 29 - FINISTERE
K31: 2A | L31: CORSE DU SUD | M31: =K31&" - "&L31 -> 2A - CORSE DU SUD
K32: 2B | L32: HAUTE CORSE | M32: =K32&" - "&L32 -> 2B - HAUTE CORSE
K33: 30 | L33: GARD | M33: =K33&" - "&L33 -> 30 - GARD
K34: 31 | L34: HAUTE GARONNE | M34: =K34&" - "&L34 -> 31 - HAUTE GARONNE
K35: 32 | L35: GERS | M35: =K35&" - "&L35 -> 32 - GERS
K36: 33 | L36: GIRONDE | M36: =K36&" - "&L36 -> 33 - GIRONDE
K37: 34 | L37: HERAULT | M37: =K37&" - "&L37 -> 34 - HERAULT
K38: 35 | L38: ILLE ET VILAINE | M38: =K38&" - "&L38 -> 35 - ILLE ET VILAINE
K39: 36 | L39: INDRE | M39: =K39&" - "&L39 -> 36 - INDRE
K40: 37 | L40: INDRE ET LOIRE | M40: =K40&" - "&L40 -> 37 - INDRE ET LOIRE
K41: 38 | L41: ISERE | M41: =K41&" - "&L41 -> 38 - ISERE
K42: 39 | L42: JURA | M42: =K42&" - "&L42 -> 39 - JURA
K43: 40 | L43: LANDES | M43: =K43&" - "&L43 -> 40 - LANDES
K44: 41 | L44: LOIR ET CHER | M44: =K44&" - "&L44 -> 41 - LOIR ET CHER
... K104: 976 | L104: MAYOTTE | M104: =K104&" - "&L104 -> 976 - MAYOTTE

Sheet 1 - Contexte
B9: Version du 17/09/2026
A10: AUDIT DU CIRCUIT DES GAZ A USAGE MEDICAL | B10: AUDIT DU CIRCUIT DES GAZ A USAGE MEDICAL EN ETABLISSEMENT DE SANTE
B14: CONTEXTE
B15: Les erreurs liées à l'utilisation des gaz à usage médical font partie depuis 2012 de la liste des never events de l'ANSM. L'inscription sur cette liste fait suite à la déclaration de nombreuses erreurs dues à des défauts de formation du personnel, à des mauvaises manipulations et à des défauts de vérification de l'identité du gaz administré. Ces erreurs d'administration peuvent avoir des conséquences importantes pour le patient et, dans certains cas, entraîner le décès. Dans le cadre des travaux de l'OMEDIT NAGG sur la prévention de la survenue des never events tout en capitalisant sur les actions menées par le CHU de Poitiers pour sécuriser le circuit des gaz à usage médical, un travail collaboratif a été réalisé en partenariat avec le CHU de Bordeaux et le CHU de Limoges, afin de proposer une grille d'auto-évaluation du circuit des gaz à usage médical en établissement de santé. Ainsi, cette grille a pour vocation d’accompagner les établissements de santé à s'auto-évaluer sur leur circuit de gaz médicaux et plus spécifiquement de gaz à usage médical et ainsi mettre en place les actions nécessaires afin de sécuriser le circuit des gaz à usage médical. Cette grille se base sur la règlementation mais également sur des recommandations qui encouragent la démarche d'amélioration continue.
B28: REGLEMENTATION, RECOMMANDATIONS ET OUTILS SPECIFIQUES AUX GAZ MEDICAUX en date de juin 2026
B29: Textes règlementaires et recommandations | C29: Sujet d'application | I29: Date de publication
B30: ANSM - Dossier gaz à usage médical | C30: Définitions, règlementation sur l'identification, principes généraux, recommandations d'utilisation, surveillance | I30: dernière mise à jour 2019
B31: ANSM - Risque et précaution d'emploi liés à l'utilisation des gaz à usage médical | C31: Définitions, risques, précautions générales, conduites à tenir en cas d'incident, recommandations d'utilisation, signalement des incidents | I31: 2012
B32: ANSM - Modification de l'étiquetage du MEOPA pour réduire le risque de confusion | C32: Modifications apportées sur les bouteilles de MEOPA pour limiter les risques de confusion avec l'oxygène | I32: 2023
B33: Section 16 de l'arrêté du 25 juin 1980 Livre II, Titre II, Chapitre IX - conditions d'installation des gaz médicaux | C33: Magasins et centrales de stockage, réseaux de distribution, distribution par récipients mobiles, consignes, entretien, vérifications techniques | I33: 29397
B34: Arrêté du 22 octobre 1982 - dispositifs amovibles de sécurité des circuits d'alimentation en gaz médicaux | C34: Conformité à la norme NFS 90-116 (prises, embouts, raccords), identification des circuits des gaz à usage médical | I34: 30246
B35: Arrêté du 22 octobre 1982 - dispositions de sécurité pour les appareils de distribution de gaz médicaux | C35: Dispositifs amovibles spécifiques à chaque gaz, non interchangeable pour éviter toute confusion | I35: 30246
B36: Arrêté du 10 décembre 2004 - dispositions complétant et modifiant le règlement de sécurité contre les risques d'incendie et de panique dans les établissements recevant du public | C36: Installations, magasins et centrales de stockage, local de stockage, réseau de distribution, récipients mobiles, entretien et vérifications techniques | I36: 38331
B37: Circulaire DGS/3A/667 bis du 10 octobre 1985 relative à la distribution des gaz à usage médical | C37: Distribution des gaz à usage médical et création d'une commission locale de surveillance de cette distribution | I37: 31330
B38: Norme FD S90-155 relative aux systèmes de distribution pour gaz médicaux comprimés et vide | C38: Compléments pour la conception et la réception des gaz comprimés et vide | I38: 45597
B39: Arrêté du 10 octobre 2022 modifiant l'arrêté du 6 avril 2011 relatif au management de la qualité de la prise en charge médicamenteuse et aux médicaments dans les établissements de santé (J0 du 14 octobre 2022) | C39: Management de la qualité de la prise en charge médicamenteuse | I39: 44844
B43: PRESENTATION DE L'AUDIT ET METHODOLOGIE DE REMPLISSAGE
B44: STRUCTURATION DE L'AUDIT L'audit suivant se présente sous la forme de différents onglets : - Présentation de l'outil : reprend les différents onglets ainsi qu'une procédure pour télécharger en PDF l'ensemble des onglets ; - Etablissement : reprend le contexte et l'objetif dans lequel l'établissement réalise cet audit ainsi que la personne le réalisant et les services/unités de soins évalués ; - Politique : reprend des informations sur la politique qualité/sécurité du circuit des gaz médicaux, la gestion documentaire, la formation, l'auto-évaluation, la gestion des risques liés aux gaz à usage médical et la prescription des gaz médicinaux ; - PUI et autre local : concerne les conditions de stockage des gaz à usage médical à la Pharmacie à Usage Intérieur ou dans un local de l'atelier des fluides médicaux ; - Services_Unités de soin : concerne les conditions de stockage, de manipulation et d'administration dans les services utilisateurs de gaz à usage médical et unités de soin en utilisant ; - Résultats : reprenant les principales questions et réponses aux différents onglets permettant une proposition d'axes d'amélioration à suivre. L'onglet concernant la politique de l'établissement peut être rempli par toute personne intervenant sur le circuit des gaz à usage médical et par tout service. L'onglet concernant la PUI et autre local peut être rempli par le personnel de la PUI et/ou du local de l'atelier des fluides médicaux en charge des gaz à usage médical. Enfin, l'onglet concernant les services utilisateurs et unités de soins peut être rempli par autant de services que nécessaire, une colonne sera alors dédiée à chaque service répondeur. Tout service et unité utilisant des gaz à usage médical peut ainsi être amené à répondre à cet onglet. Parmi les services audités dans cette grille, il peut être pertinent d'évaluer les pratiques, a minima, dans un service de réanimation, de soins intensifs ou de soins continus. PRECONISATIONS DE METHODOLOGIE DE REMPLISSAGE Les réponses aux critères se présentent sous forme d'un menu déroulant. Les réponses "OUI", "NON", "PARTIEL" et "NON APPLICABLE" sont possibles. Les critères identifiés par une * sont considérés comme étant obligatoires et sont issus de la règlementation. Afin de répondre au mieux à cette grille d'auto-évaluation, il est préférable de se baser sur des éléments observés (dans la PUI, services, consultation de documents) et également d'interroger les professionnels sur leurs pratiques et les mettre en situation. Une colonne commentaire est également à disposition pour tous les critères afin d'argumenter sur les modalités de réponse et situtations rencontrées dans l'établissement.

Sheet 2 - Présentation de l'outil

Sheet 3 - Établissement
B2: AUDIT DU CIRCUIT DES GAZ A USAGE MEDICAL EN ETABLISSEMENT DE SANTE
B5: ONGLET DE SAISIE N°1/4 : INFORMATIONS RELATIVES À L'ÉTABLISSEMENT
B7: *Remplissage obligatoire
C9: Nom de l'établissement* | H9: Date de réalisation de l'auto-évaluation* format jj/mm/aaaa
C10: Département* | H10: Méthodologie retenue*
C13: Les personnes renseignant l'audit | H13: si concerné | AD13: nb référents
B14: 1 | C14: Nom/prénom du référent 1 de l'audit * | H14: 2 | I14: Nom/prénom du référent 2 | AD14: =COUNTIF(K14,"<>")+COUNTIF(E14,"<>") -> 0
C15: Fonction* | I15: Fonction
C16: Si autre fonction, préciser : (accessible uniquement en sélectionnant "autre" à la question précédente) | I16: Si autre fonction, préciser : (accessible uniquement en sélectionnant "autre" à la question précédente)
C17: Mail | I17: Mail
C20: Les services audités | AD20: nb services participants | AF20: correspondance nom et numéro de service
B21: 1 | C21: Nom du service n°1* | H21: 2 | I21: Nom du service n°2 | AD21: =COUNTIF(K21,"<>")+COUNTIF(E21,"<>")+COUNTIF(E25,"<>")+COUNTIF(K25,"<>") -> 0 | AF21: =UPPER(_xlfn.TEXTJOIN(" - ",TRUE, IF('3 - Établissement'!E21="","",'3 - Établissement'!E21&" (Service 1)"), IF('3 - Établissement'!K21="","",'3 - Établissement'!K21&" (Service 2)"), IF('3 - Établissement'!E25="","",'3 - Établissement'!E25&" (Service 3)"), IF('3 - Établissement'!K25="","",'3 - Établissement'!K25&" (Service 4)")))
C22: Nom de la/des personnes remplissant la grille | I22: Nom de la/des personnes remplissant la grille
C23: Fonction de cette/ces personnes | I23: Fonction de cette/ces personnes
B25: 3 | C25: Nom du service n°3 | H25: 4 | I25: Nom du service n°4
C26: Nom de la/des personnes remplissant la grille | I26: Nom de la/des personnes remplissant la grille
C27: Fonction de cette/ces personnes | I27: Fonction de cette/ces personnes
C30: Contexte de réalisation de l'audit
B31: 1 | C31: Contexte de l'établissement pour la réalisation de cet audit*
B37: 2 | C37: Décrivez rapidement l'organisation du circuit des gaz à usage médical dans votre établissement et les interactions entre les différents acteurs (atelier des fluides médicaux, services techniques, PUI, services utilisateurs…)
B43: 3 | C43: A ce stade, avez-vous déjà identifié des risques a priori liés à votre circuit des gaz à usage médical ? Si oui, lesquels ?
B49: 4 | C49: Avez-vous déjà identifié des évènements indésirables liés à votre circuit du gaz ? Si oui, lesquels ?

Sheet 4 - Politique
K1: =MAX(D:D) -> 31 | L1: =COUNTIF(A$19:A$54,"~*") -> 19
K2: total | L2: obligatoire
J3: OUI | K3: =COUNTIF(J$19:J$54,J3) -> 0 | L3: =COUNTIFS(J$19:J$54,J3,A$19:A$54,"~*") -> 0
J4: NON | K4: =COUNTIF(J$19:J$54,J4) -> 0 | L4: =COUNTIFS(J$19:J$54,J4,A$19:A$54,"~*") -> 0
J5: PARTIEL | K5: =COUNTIF(J$19:J$54,J5) -> 0 | L5: =COUNTIFS(J$19:J$54,J5,A$19:A$54,"~*") -> 0
J6: NON APPLICABLE | K6: =COUNTIF(J$19:J$54,J6) -> 0 | L6: =COUNTIFS(J$19:J$54,J6,A$19:A$54,"~*") -> 0
K7: =K1-SUM(K3:K6) -> 31 | L7: =L1-SUM(L3:L6) -> 19
B9: AUDIT DU CIRCUIT DES GAZ A USAGE MEDICAL EN ETABLISSEMENT DE SANTE
B11: ONGLET DE SAISIE N°2/4 : POLITIQUE DES GAZ À USAGE MEDICAL | K11: Taux de complétude
K12: ="Questions de l'onglet ("&SUM(K3:K6)&"/"&K1&")" -> Questions de l'onglet (0/31) | L12: ="Questions obligatoires de l'onglet ("&SUM(L3:L6)&"/"&L1&")" -> Questions obligatoires de l'onglet (0/19) | AB12: 0.5 | AC12: 0.8
D13: *Remplissage obligatoire | K13: =SUM(K3:K6)/K1 -> 0 | L13: =SUM(L3:L6)/L1 -> 0
B16: Chapitre | C16: Thème | D16: N° de critère | E16: Source, si existante | F16: Éléments observés | J16: Réponse | K16: Commentaire
B17: Chapitre 1. Politique des gaz médicaux et système documentaire
B18: Thématique : politique générale
A19: =RIGHT(D19,1) -> * | B19: Politique des gaz médicaux et système documentaire | C19: Politique générale | D19: 1* | E19: Arrêté du 6 avril 2011 | F19: Il existe un document décrivant la politique qualité/sécurité/efficience des gaz à usage médical au sein de la structure
A20: =RIGHT(D20,1) -> * | D20: 2* | E20: Arrêté du 6 avril 2011 | F20: Il existe un programme d'actions qualité/sécurité/efficience qui intègre les actions, les pilotes, le calendrier et les modalités de suivi (indicateurs, audits, …)
A21: =RIGHT(D21,1) -> * | D21: 3* | E21: Arrêté du 6 avril 2011 | F21: Un plan de formation pluriannuel, pluriprofessionnel et pluridisciplinaire est défini sur le circuit et l'utilisation des gaz à usage médical
A22: =RIGHT(D22,1) -> * | D22: 4* | E22: Circulaire DGS/3A/667 bis du 10 octobre 1985 | F22: Il existe une commission des gaz dans l'ES et elle se réunit régulièrement
A23: =RIGHT(D23,1) -> 5 | D23: 5 | F23: Il y a un pharmacien référent des fluides médicaux dans l'établissement et il est connu de tous les intervenants concernés (utilisateurs, soignants, directeurs, services techniques,…)
A24: =RIGHT(D24,1) -> 6 | D24: 6 | E24: Société Française d'Anesthésie Réanimation | F24: Les réseaux de protoxyde d'azote (N2O) ont été arrêtés
A25: =RIGHT(D25,1) -> * | D25: 7* | E25: Article L3131-11 du CSP | F25: Des modalités d'organisation spécifiques sont prévues en cas de situations exceptionnelles (commandes des services de soins, PUI, …)
A26: =RIGHT(D26,1) -> * | D26: 8* | E26: Article L3131-7 du CSP | F26: L'établissement dispose d'un Plan de Continuité et de Reprise d'Activité (PCRA)
A27: =RIGHT(D27,1) | C27: Thématique : Gestion documentaire
A28: =RIGHT(D28,1) -> * | C28: Gestion documentaire | D28: 9* | E28: Arrêté du 6 avril 2011 | F28: Il existe un manuel qualité général de la prise en charge médicamenteuse, qui intègre les éléments en lien avec les gaz à usage médical ou un manuel qualité spécifique intégrant des documents décrivant l'approvisionnement, la gestion, les règles d'utilisation (…) des gaz à usage médical
A29: =RIGHT(D29,1) -> * | D29: 10* | E29: Arrêté du 6 avril 2011 | F29: Il existe une procédure générale décrivant le circuit des gaz à usage médical et les responsabilités des différents acteurs participant à la gestion du circuit des gaz à usage médical
A30: =RIGHT(D30,1) -> * | D30: 11* | E30: Arrêté du 6 avril 2011 | F30: Les documents relatifs aux gaz à usage médical et modes opératoires de votre établissement sont accessibles et connus des différents acteurs participant à, ou impliqués dans la gestion du circuit des gaz à usage médical
A31: =RIGHT(D31,1) -> 2 | D31: 12 | F31: Il existe une procédure relative à la dispensation d'un gaz à usage médical en urgence et en dehors des horaires d'ouverture de la pharmacie
A32: =RIGHT(D32,1) -> 3 | D32: 13 | F32: Il existe une procédure sur les modalités de gestion en cas de températures inférieures à 0°C dans le local de stockage des bouteilles de MEOPA
A33: =RIGHT(D33,1) -> * | D33: 14* | E33: Arrêté du 6 avril 2011 | F33: Les documents relatifs aux gaz à usage médical et modes opératoires de votre établissement sont actualisés/revalidés à périodicité définie en lien avec la procédure de gestion documentaire de l'établissement, autant que de besoin
A34: =RIGHT(D34,1) -> 5 | D34: 15 | F34: Il existe un protocole relatif aux conduites à tenir en cas d'erreur d'administration de gaz à usage médical, notamment de MEOPA à la place de l'oxygène
A35: =RIGHT(D35,1) | C35: Thématique : Formation
A36: =RIGHT(D36,1) -> * | C36: Formation | D36: 16* | E36: Arrêté du 25 juin 1980 | F36: Tous les acteurs du circuit des gaz à usage médical (médecins, pharmaciens, préparateurs, IDE…) sont formés à leur utilisation (transport, stockage, manipulation, administration…), selon l'étape d'intervention et l'action qu'ils réalisent, à intervalle régulier et en cas de changement de matériel
A37: =RIGHT(D37,1) -> 7 | D37: 17 | F37: La traçabilité des formations réalisées et des personnes/qualifications, tout personnel et services confondus, est assurée en temps réel et continuellement
A38: =RIGHT(D38,1) -> 8 | D38: 18 | F38: Les équipes utilisatrices sont informées de la liste des gaz médicaux ayant le statut de médicament (Oxygène, MEOPA, protoxyde d'azote, monoxyde d'azote, xénon)
A39: =RIGHT(D39,1) -> * | D39: 19* | E39: ANSM - Liste des never events | F39: Les équipes en charge de la manipulation des gaz à usage médical sont informées que les erreurs liés à ces produits sont inscrites sur la liste des never events
A40: =RIGHT(D40,1) -> * | D40: 20* | E40: ANSM - MEOPA | F40: Une formation spécifique au MEOPA est dispensée au personnel concerné par sa réception et son administration. Cette formation est réalisée à périodicité donnée et tracée
A41: =RIGHT(D41,1) | C41: Thématique : Auto-évaluation
A42: =RIGHT(D42,1) -> 1 | C42: Auto-évaluation | D42: 21 | F42: La structure réalise des évaluations internes du circuit des gaz à usage médical (réception, stockage, dispensation, administration) annuellement dans le cadre du programme d'action
B43: Chapitre 2. Mise en œuvre de la gestion des risques liés aux gaz à usage médical
A44: =RIGHT(D44,1) -> * | B44: Mise en œuvre de la gestion des risques liés aux gaz à usage médical | D44: 22* | E44: Arrêté du 6 avril 2011 | F44: La structure a mis en place un système de déclaration interne des presque accidents, évènements et effets indésirables liés à l'utilisation des gaz
...

Sheet 5 - PUI et autre local
K1: =MAX(D:D)-'4 - Politique'!K1 -> 18 | L1: =COUNTIF(A$20:A$38,"~*") -> 7
K2: total | L2: obligatoire
J3: OUI | K3: =COUNTIF(J$20:J$38,J3) -> 0 | L3: =COUNTIFS(J$20:J$38,J3,A$20:A$38,"~*") -> 0
J4: NON | K4: =COUNTIF(J$20:J$38,J4) -> 0 | L4: =COUNTIFS(J$20:J$38,J4,A$20:A$38,"~*") -> 0
J5: PARTIEL | K5: =COUNTIF(J$20:J$38,J5) -> 0 | L5: =COUNTIFS(J$20:J$38,J5,A$20:A$38,"~*") -> 0
J6: NON APPLICABLE | K6: =COUNTIF(J$20:J$38,J6) -> 0 | L6: =COUNTIFS(J$20:J$38,J6,A$20:A$38,"~*") -> 0
K7: =K1-SUM(K3:K6) -> 18 | L7: =L1-SUM(L3:L6) -> 7
B9: AUDIT DU CIRCUIT DES GAZ A USAGE MEDICAL EN ETABLISSEMENT DE SANTE
B12: ONGLET DE SAISIE N°3/4 : PUI ET LOCAL DE L'ATELIER DES FLUIDES MEDICAUX | K12: Taux de complétude
K13: ="Questions de l'onglet ("&SUM(K3:K6)&"/"&K1&")" -> Questions de l'onglet (0/18) | L13: ="Questions obligatoires de l'onglet ("&SUM(L3:L6)&"/"&L1&")" -> Questions obligatoires de l'onglet (0/7) | Y13: 0.5 | Z13: 0.8
D14: *Remplissage obligatoire | K14: =SUM(K3:K6)/K1 -> 0 | L14: =SUM(L3:L6)/L1 -> 0
B17: Chapitre | C17: Thème | D17: N° de critère | E17: Source, si existante | F17: Éléments observés | J17: Réponse | K17: Commentaire
B18: Chapitre 4. Stockage des gaz médicaux en PUI ou en local de l'atelier des fluides médicaux
B19: Thématique : Généralités
A20: =RIGHT(D20,1) -> * | B20: Stockage des gaz médicaux en PUI ou en local de l'atelier des fluides médicaux | C20: Généralités | D20: 32* | E20: ANSM - Risques et précautions d'emploi liés à l'utilisation des gaz à usage médical | F20: A la réception, les équipes (pharmacien, préparateur...) vérifient la nature du gaz par lecture de l'étiquette, l'intégrité de la bouteille (absence de fuite, de choc, présence du système d'inviolabilité) et la pression pour les bouteilles à manodétendeur intégré
A21: =RIGHT(D21,1) -> 3 | D21: 33 | F21: En cas de microfuite suspectée à la réception ainsi que pour tout dysfonctionnement ou non-conformité, le pharmacien contacte le fournisseur des bouteilles de gaz pour réclamer une expertise sur la bouteille
A22: =RIGHT(D22,1) -> * | D22: 34* | E22: Arrêté du 25 juin 1980 | F22: La ou les pièces de stockage des gaz à usage médical sont clairement identifiées, sécurisées, propres, ventilées (ventilation haute et basse sur la porte), à l'abri des intempéries et ne contiennent pas de source de chaleur
A23: =RIGHT(D23,1) -> 5 | D23: 35 | E23: ANSM - Risques et précautions d'emploi liés à l'utilisation des gaz à usage médical | F23: La ou les pièces de stockage des gaz à usage médical contiennent les informations relatives à la sécurité de stockage des bouteilles de gaz (interdiction de fumer, mesures de sécurité) facilement visibles
A24: =RIGHT(D24,1) -> * | D24: 36* | E24: Arrêté du 25 juin 1980 | F24: En cas d'emplacement intérieur de la/des pièces de stockage des bouteilles de gaz à usage médical, il n'y a pas de communication directe avec les locaux ni de dégagements accessibles au public
A25: =RIGHT(D25,1) -> 7 | D25: 37 | E25: ANSM - Risques et précautions d'emploi liés à l'utilisation des gaz à usage médical | F25: Les zones de stockage de chaque bouteille de gaz sont clairement identifiées : les bouteilles vides sont séparées des bouteilles pleines ; les bouteilles de gaz à statut différent (usage médical et non médical) sont séparées et identifiées
A26: =RIGHT(D26,1) -> 8 | D26: 38 | E26: ANSM - Risques et précautions d'emploi liés à l'utilisation des gaz à usage médical | F26: Les zones de stockage des différentes bouteilles de gaz à usage médical et de gaz médicinaux (oxygène, MEOPA…) sont, pour chaque gaz, clairement identifiées et séparées les unes des autres
A27: =RIGHT(D27,1) -> * | D27: 39* | E27: Résumé des caractéristiques du produit | F27: Les bouteilles de gaz à usage médical sont stockées robinet fermé, en position verticale et arrimées par tout moyen approprié (chaînes, crochets, bac ou casier dédié au stockage des bouteilles de gaz…) afin de les protéger des risques de chute et de choc
A28: =RIGHT(D28,1) -> * | D28: 40* | E28: Résumé des caractéristiques du produit - MEOPA | F28: Les bouteilles de MEOPA sont stockées pendant 48 heures après réception en position horizontale en zone tampon identifiée, à une température comprise entre 10°C et 30°C puis, passé ce délai, en position verticale et arrimées. Ce délai de 48h est tracé par le gestionnaire de stock.
A29: =RIGHT(D29,1) -> 1 | D29: 41 | F29: Une délégation de la gestion, sous la responsabilité du pharmacien est prévue pour la réception, le transport des bouteilles mises à disposition et le retour des bouteilles vides
A30: =RIGHT(D30,1) -> * | D30: 42* | E30: Résumé des caractéristiques du produit - MEOPA | F30: Les bouteilles de MEOPA ne sont délivrées que pour la durée précisée sur l'ordonnance préalablement réalisée (liste I)
A31: =RIGHT(D31,1) -> 3 | D31: 43 | F31: Le fractionnement de l'oxygène est réalisé par du personnel, autorisé (pharmacien), formé et habilité, sous la responsabilité du pharmacien gérant, s'il ne réalise pas lui-même cette action
C32: Focus : installation de gaz
A33: =RIGHT(D33,1) -> 4 | C33: Focus : installation de gaz | D33: 44 | F33: Lors de modifications d'un réseau de fluides médicaux, un contrôle est systématiquement réalisé par un pharmacien et un analyseur de gaz
A34: =RIGHT(D34,1) -> 5 | D34: 45 | F34: Les flexibles des fluides médicaux des bras d'anesthésie (bloc/réanimation/SSPI) sont changés tous les 10 ans et contrôlés par un pharmacien
A35: =RIGHT(D35,1) -> 6 | D35: 46 | F35: Les numéros des opérateurs réalisant la télémaintenance des installations sont accessibles et joignables 24h/24 et 7j/7 auprès des équipes de sécurité de chaque site et du pharmacien d'astreinte
A36: =RIGHT(D36,1) -> 7 | D36: 47 | F36: Le réseau de fluides médicaux est dimensionné aux besoins de l'établissement (oxygène en particulier)
A37: =RIGHT(D37,1) -> * | D37: 48* | E37: Arrêté du 25 juin 1980 | F37: Les installations (évaporateur, cuve de stockage, …) sont contrôlées annuellement et un rapport de maintenance est réalisé
A38: =RIGHT(D38,1) -> 9 | D38: 49 | E38: ANSM - Risques et précautions d'emploi liés à l'utilisation des gaz à usage médical | F38: La qualité des gaz médicaux dispensés sur le réseau est contrôlée annuellement au regard de la Pharmacopée Européenne en vigueur

Sheet 6 - Services_Unités de soins
N1: =IF(N2=0,"non","oui") -> non | P1: =IF(P2=0,"non","oui") -> non | R1: =IF(R2=0,"non","oui") -> non | T1: =IF(T2=0,"non","oui") -> non
K2: nom de service non renseigné | M2: service renseigné onglet etab | N2: ='3 - Établissement'!E21 -> 0 | P2: ='3 - Établissement'!K21 -> 0 | R2: ='3 - Établissement'!E25 -> 0 | T2: ='3 - Établissement'!K25 -> 0
M3: total renseigné | N3: =IF(N1="non",0,SUM(N7:N10)) -> 0 | P3: =IF(P1="non",0,SUM(P7:P10)) -> 0 | R3: =IF(R1="non",0,SUM(R7:R10)) -> 0 | T3: =IF(T1="non",0,SUM(T7:T10)) -> 0
N4: service 1 | AH4: =_xlfn.FORMULATEXT(N4) -> #N/A | AI4: =_xlfn.FORMULATEXT(O4) -> #N/A | AJ4: =_xlfn.FORMULATEXT(P4) -> #N/A | AK4: =_xlfn.FORMULATEXT(Q4) -> #N/A | AL4: =_xlfn.FORMULATEXT(R4) -> #N/A | AM4: =_xlfn.FORMULATEXT(S4) -> #N/A
N5: =MAX(D:D)-('5 - PUI et autre local'!K1+'4 - Politique'!$K$1) -> 30 | O5: =COUNTIF(A$26:A$58,"~*") -> 11 | P5: =N5 -> 30 | Q5: =O5 -> 11 | R5: =P5 -> 30 | S5: =Q5 -> 11 | T5: =R5 -> 30 | U5: =S5 -> 11 | AH5: =_xlfn.FORMULATEXT(N5) -> =MAX(D:D)-('5 - PUI et autre local'!K1+'4 - Politique'!$K$1) | AI5: =_xlfn.FORMULATEXT(O5) -> =NB.SI(A$26:A$58;"~*") | AJ5: =_xlfn.FORMULATEXT(P5) -> =N5 | AK5: =_xlfn.FORMULATEXT(Q5) -> =O5 | AL5: =_xlfn.FORMULATEXT(R5) -> =P5 | AM5: =_xlfn.FORMULATEXT(S5) -> =Q5
N6: total | O6: obligatoire | P6: total | Q6: obligatoire | R6: total | S6: obligatoire | T6: total | U6: obligatoire | AH6: =_xlfn.FORMULATEXT(N6) -> #N/A | AI6: =_xlfn.FORMULATEXT(O6) -> #N/A | AJ6: =_xlfn.FORMULATEXT(P6) -> #N/A | AK6: =_xlfn.FORMULATEXT(Q6) -> #N/A | AL6: =_xlfn.FORMULATEXT(R6) -> #N/A | AM6: =_xlfn.FORMULATEXT(S6) -> #N/A
L7: OUI | N7: =COUNTIF(J$26:J$58,$L7) -> 0 | O7: =COUNTIFS(J$26:J$58,L7,$A$26:$A$58,"~*") -> 0 | P7: =COUNTIF(K$26:K$58,$L7) -> 0 | Q7: =COUNTIFS(K$26:K$58,L7,$A$26:$A$58,"~*") -> 0 | R7: =COUNTIF(L$26:L$58,$L7) -> 0 | S7: =COUNTIFS(L$26:L$58,L7,$A$26:$A$58,"~*") -> 0 | T7: =COUNTIF(M$26:M$58,$L7) -> 0 | U7: =COUNTIFS(M$26:M$58,L7,$A$26:$A$58,"~*") -> 0 | AH7: =_xlfn.FORMULATEXT(N7) -> =NB.SI(J$26:J$58;$L7) | AI7: =_xlfn.FORMULATEXT(O7) -> =NB.SI.ENS(J$26:J$58;L7;$A$26:$A$58;"~*") | AJ7: =_xlfn.FORMULATEXT(P7) -> =NB.SI(K$26:K$58;$L7) | AK7: =_xlfn.FORMULATEXT(Q7) -> =NB.SI.ENS(K$26:K$58;L7;$A$26:$A$58;"~*") | AL7: =_xlfn.FORMULATEXT(R7) -> =NB.SI(L$26:L$58;$L7) | AM7: =_xlfn.FORMULATEXT(S7) -> =NB.SI.ENS(L$26:L$58;L7;$A$26:$A$58;"~*")
L8: NON | N8: =COUNTIF(J$26:J$58,$L8) -> 0 | O8: =COUNTIFS(J$26:J$58,L8,$A$26:$A$58,"~*") -> 0 | P8: =COUNTIF(K$26:K$58,$L8) -> 0 | Q8: =COUNTIFS(K$26:K$58,L8,$A$26:$A$58,"~*") -> 0 | R8: =COUNTIF(L$26:L$58,$L8) -> 0 | S8: =COUNTIFS(L$26:L$58,L8,$A$26:$A$58,"~*") -> 0 | T8: =COUNTIF(M$26:M$58,$L8) -> 0 | U8: =COUNTIFS(M$26:M$58,L8,$A$26:$A$58,"~*") -> 0 | AH8: =_xlfn.FORMULATEXT(N8) -> =NB.SI(J$26:J$58;$L8) | AI8: =_xlfn.FORMULATEXT(O8) -> =NB.SI.ENS(J$26:J$58;L8;$A$26:$A$58;"~*") | AJ8: =_xlfn.FORMULATEXT(P8) -> =NB.SI(K$26:K$58;$L8) | AK8: =_xlfn.FORMULATEXT(Q8) -> =NB.SI.ENS(K$26:K$58;L8;$A$26:$A$58;"~*") | AL8: =_xlfn.FORMULATEXT(R8) -> =NB.SI(L$26:L$58;$L8) | AM8: =_xlfn.FORMULATEXT(S8) -> =NB.SI.ENS(L$26:L$58;L8;$A$26:$A$58;"~*")
L9: PARTIEL | N9: =COUNTIF(J$26:J$58,$L9) -> 0 | O9: =COUNTIFS(J$26:J$58,L9,$A$26:$A$58,"~*") -> 0 | P9: =COUNTIF(K$26:K$58,$L9) -> 0 | Q9: =COUNTIFS(K$26:K$58,L9,$A$26:$A$58,"~*") -> 0 | R9: =COUNTIF(L$26:L$58,$L9) -> 0 | S9: =COUNTIFS(L$26:L$58,L9,$A$26:$A$58,"~*") -> 0 | T9: =COUNTIF(M$26:M$58,$L9) -> 0 | U9: =COUNTIFS(M$26:M$58,L9,$A$26:$A$58,"~*") -> 0 | AH9: =_xlfn.FORMULATEXT(N9) -> =NB.SI(J$26:J$58;$L9) | AI9: =_xlfn.FORMULATEXT(O9) -> =NB.SI.ENS(J$26:J$58;L9;$A$26:$A$58;"~*") | AJ9: =_xlfn.FORMULATEXT(P9) -> =NB.SI(K$26:K$58;$L9) | AK9: =_xlfn.FORMULATEXT(Q9) -> =NB.SI.ENS(K$26:K$58;L9;$A$26:$A$58;"~*") | AL9: =_xlfn.FORMULATEXT(R9) -> =NB.SI(L$26:L$58;$L9) | AM9: =_xlfn.FORMULATEXT(S9) -> =NB.SI.ENS(L$26:L$58;L9;$A$26:$A$58;"~*")
L10: NON APPLICABLE | N10: =COUNTIF(J$26:J$58,$L10) -> 0 | O10: =COUNTIFS(J$26:J$58,L10,$A$26:$A$58,"~*") -> 0 | P10: =COUNTIF(K$26:K$58,$L10) -> 0 | Q10: =COUNTIFS(K$26:K$58,L10,$A$26:$A$58,"~*") -> 0 | R10: =COUNTIF(L$26:L$58,$L10) -> 0 | S10: =COUNTIFS(L$26:L$58,L10,$A$26:$A$58,"~*") -> 0 | T10: =COUNTIF(M$26:M$58,$L10) -> 0 | U10: =COUNTIFS(M$26:M$58,L10,$A$26:$A$58,"~*") -> 0 | AH10: =_xlfn.FORMULATEXT(N10) -> =NB.SI(J$26:J$58;$L10) | AI10: =_xlfn.FORMULATEXT(O10) -> =NB.SI.ENS(J$26:J$58;L10;$A$26:$A$58;"~*") | AJ10: =_xlfn.FORMULATEXT(P10) -> =NB.SI(K$26:K$58;$L10) | AK10: =_xlfn.FORMULATEXT(Q10) -> =NB.SI.ENS(K$26:K$58;L10;$A$26:$A$58;"~*") | AL10: =_xlfn.FORMULATEXT(R10) -> =NB.SI(L$26:L$58;$L10) | AM10: =_xlfn.FORMULATEXT(S10) -> =NB.SI.ENS(L$26:L$58;L10;$A$26:$A$58;"~*")
N11: =N5-SUM(N7:N10) -> 30 | O11: =O5-SUM(O7:O10) -> 11 | P11: =P5-SUM(P7:P10) -> 30 | Q11: =Q5-SUM(Q7:Q10) -> 11 | R11: =R5-SUM(R7:R10) -> 30 | S11: =S5-SUM(S7:S10) -> 11 | T11: =T5-SUM(T7:T10) -> 30 | U11: =U5-SUM(U7:U10) -> 11 | AH11: =_xlfn.FORMULATEXT(N11) -> =N5-SOMME(N7:N10) | AI11: =_xlfn.FORMULATEXT(O11) -> =O5-SOMME(O7:O10) | AJ11: =_xlfn.FORMULATEXT(P11) -> =P5-SOMME(P7:P10) | AK11: =_xlfn.FORMULATEXT(Q11) -> =Q5-SOMME(Q7:Q10) | AL11: =_xlfn.FORMULATEXT(R11) -> =R5-SOMME(R7:R10) | AM11: =_xlfn.FORMULATEXT(S11) -> =S5-SOMME(S7:S10)
B13: AUDIT DU CIRCUIT DES GAZ A USAGE MEDICAL EN ETABLISSEMENT DE SANTE
B15: ONGLET DE SAISIE N°4/4 : UNITE ET SERVICES DE SOINS | N15: Taux de complétude
B16: ONGLET DE SAISIE N°4/4 : UNITÉS ET SERVICES DE SOINS | N16: service 1 | P16: service 2 | R16: service 3 | T16: service 4
N17: ="Questions de l'onglet ("&SUM(N7:N10)&"/"&N5&")" -> Questions de l'onglet (0/30) | O17: ="Questions obligatoires de l'onglet ("&SUM(O7:O10)&"/"&O5&")" -> Questions obligatoires de l'onglet (0/11) | P17: ="Questions de l'onglet ("&SUM(P7:P10)&"/"&P5&")" -> Questions de l'onglet (0/30) | Q17: ="Questions obligatoires de l'onglet ("&SUM(Q7:Q10)&"/"&Q5&")" -> Questions obligatoires de l'onglet (0/11) | R17: ="Questions de l'onglet ("&SUM(R7:R10)&"/"&R5&")" -> Questions de l'onglet (0/30) | S17: ="Questions obligatoires de l'onglet ("&SUM(S7:S10)&"/"&S5&")" -> Questions obligatoires de l'onglet (0/11) | T17: ="Questions de l'onglet ("&SUM(T7:T10)&"/"&T5&")" -> Questions de l'onglet (0/30) | U17: ="Questions obligatoires de l'onglet ("&SUM(U7:U10)&"/"&U5&")" -> Questions obligatoires de l'onglet (0/11) | AI17: 0.5 | AJ17: 0.8
J18: Les colonnes réponses peuvent être remplies pour des services et unités de soins utilisant des gaz à usage médical, afin d'identifier les principaux risques liés au circuit des gaz médicaux. | N18: =SUM(N7:N10)/N5 -> 0 | O18: =SUM(O7:O10)/O5 -> 0 | P18: =SUM(P7:P10)/P5 -> 0 | Q18: =SUM(Q7:Q10)/Q5 -> 0 | R18: =SUM(R7:R10)/R5 -> 0 | S18: =SUM(S7:S10)/S5 -> 0 | T18: =SUM(T7:T10)/T5 -> 0 | U18: =SUM(U7:U10)/U5 -> 0
D19: *Remplissage obligatoire
B21: Chapitre | C21: Thème | D21: N° de critère | E21: Source, si existante | F21: Éléments observés | K21: Réponses | Q21: Commentaire
J22: Service 1 / Pôle / Unité | K22: Service 2 / Pôle / Unité | L22: Service 3 / Pôle / Unité | M22: Service 4 / Pôle / Unité | N22: Service 1 / Pôle / Unité | P22: Service 2 / Pôle / Unité | R22: Service 3 / Pôle / Unité | T22: Service 4 / Pôle / Unité
J23: =IF(N2=0,"nom de service non renseigné",N2) -> nom de service non renseigné | K23: =IF(P2=0,"nom de service non renseigné",P2) -> nom de service non renseigné | L23: =IF(R2=0,"nom de service non renseigné",R2) -> nom de service non renseigné | M23: =IF(T2=0,"nom de service non renseigné",T2) -> nom de service non renseigné | N23: =IF(N2=0,"nom de service non renseigné",N2) -> nom de service non renseigné | P23: =IF(P2=0,"nom de service non renseigné",P2) -> nom de service non renseigné | R23: =IF(R2=0,"nom de service non renseigné",R2) -> nom de service non renseigné | T23: =IF(T2=0,"nom de service non renseigné",T2) -> nom de service non renseigné
B24: Chapitre 5. Stockage des gaz médicaux en services utilisateurs
B25: Thématique : stockage
A26: =RIGHT(D26,1) -> * | B26: Stockage des gaz médicaux en services utilisateurs | C26: Stockage | D26: 50* | E26: Arrêté du 25 juin 1980 | F26: Les bouteilles de gaz à usage médical sont transportées dans les services utilisateurs et auprès des patients à l'aide de moyen approprié (chariots), en position verticale
A27: =RIGHT(D27,1) -> 1 | D27: 51 | F27: Les bouteilles de gaz à usage médical sont transportées dans les services utilisateurs et auprès des patients, dans le cadre d'une prescription médicale, par des personnes formées aux gaz médicaux (transport, manipulation, administration…), selon l'étape d'intervention et l'action qu'ils réalisent (médecin, pharmacien, IDE...)
A28: =RIGHT(D28,1) -> 2 | D28: 52 | E28: ANSM - Risques et précautions d'emploi liés à l'utilisation des gaz à usage médical | F28: A la réception, les équipes vérifient systématiquement la nature du gaz par lecture de l'étiquette, l'intégrité de la bouteille (absence de fuites, de choc, présence du système d'inviolabilité) et la pression pour les bouteilles à manodétendeur intégré
A29: =RIGHT(D29,1) -> 3 | D29: 53 | E29: ANSM - Risques et précautions d'emploi liés à l'utilisation des gaz à usage médical | F29: En cas de microfuite suspectée ou pour tout dysfonctionnement ou non-conformité, la bouteille est retournée à la PUI ou au personnel responsable de l'atelier des fluides médicaux, pour demande d'expertise auprès du fournisseur des bouteilles
A30: =RIGHT(D30,1) -> * | D30: 54* | E30: Arrêté du 25 juin 1980 | F30: Dans les services utilisateurs, les gaz à usage médical sont stockés dans une/des pièces sécurisées, à accès interdit au public
A31: =RIGHT(D31,1) -> * | D31: 55* | E31: Arrêté du 25 juin 1980 | F31: La/les pièces de stockage des gaz à usage médical sont clairement identifiées, sécurisées, propres, ventilées (ventilation haute et basse sur la porte), à l'abri des intempéries et ne contiennent pas de sources de chaleur
A32: =RIGHT(D32,1) -> 6 | D32: 56 | E32: ANSM - Risques et précautions d'emploi liés à l'utilisation des gaz à usage médical | F32: Un panneau interdiction de fumer et les mesures de sécurité sont affichées dans les salles de stockage ou à proximité et facilement visibles
A33: =RIGHT(D33,1) -> 7 | D33: 57 | F33: En l'absence de local ou zone de stockage dédié aux gaz à usage médical dans le service, les bouteilles sont transportées de manière sécurisée (à l'aide de chariots, par du personnel formé) entre les différents services et suivent systématiquement un patient
A34: =RIGHT(D34,1) -> 8 | D34: 58 | F34: En l'absence de local ou zone de stockage dédié aux gaz à usage médical dans le service, les bouteilles proviennent directement de la PUI et retournent à la PUI sans stockage hors patient et hors zone dédiée et sécurisée
A35: =RIGHT(D35,1) -> 9 | D35: 59 | E35: ANSM - Risques et précautions d'emploi liés à l'utilisation des gaz à usage médical | F35: Les zones de stockage de chaque bouteille de gaz à usage médical (oxygène, MEOPA…) sont clairement identifiées, les bouteilles vides sont séparées des bouteilles pleines
A36: =RIGHT(D36,1) -> * | D36: 60* | E36: Résumé des caractéristiques du produit | F36: Les bouteilles de gaz à usage médical NE SONT PAS stockées dans le couloir Conseil de remplissage : - Les bouteilles sont stockées dans le couloir : répondre NON - Les bouteilles ne sont pas stockées dans le couloir : répondre OUI
A37: =RIGHT(D37,1) -> * | D37: 61* | E37: Résumé des caractéristiques du produit | F37: Les bouteilles de gaz à usage médical NE TIENNENT PAS une porte Conseil de remplissage : - Les bouteilles tiennent une porte : répondre NON - Les bouteilles ne tiennent pas une porte : répondre OUI
A38: =RIGHT(D38,1) -> * | D38: 62* | E38: Résumé des caractéristiques du produit | F38: Les bouteilles de gaz à usage médical sont stockées robinet fermé, en position verticale et arrimées par tout moyen approprié (chaînes, crochets…) afin de les protéger des risques de chute et de choc
A39: =RIGHT(D39,1) -> 3 | D39: 63 | E39: ANSM - Risques et précautions d'emploi liés à l'utilisation des gaz à usage médical | F39: Le personnel est formé à l'utilisation des gaz à usage médical, en particulier à l'administration, à périodicité donnée avec une traçabilité assurée La réponse à cette question est calculée automatiquement pour être identique à la 16 (onglet politique). Vous pouvez compléter d'un commentaire | J39: =IF(J23=$K$2,"",IF('4 - Politique'!$J$36="","",'4 - Politique'!$J$36)) | K39: =IF(K23=$K$2,"",IF('4 - Politique'!$J$36="","",'4 - Politique'!$J$36)) | L39: =IF(L23=$K$2,"",IF('4 - Politique'!$J$36="","",'4 - Politique'!$J$36)) | M39: =IF(M23=$K$2,"",IF('4 - Politique'!$J$36="","",'4 - Politique'!$J$36))
A40: =RIGHT(D40,1) -> 4 | D40: 64 | F40: Les équipes sont informées de la liste des gaz médicaux ayant le statut de médicament (Oxygène, MEOPA, protoxyde d'azote, monoxyde d'azote, xénon) La réponse à cette question est calculée automatiquement pour être identique à la 18 (onglet politique). Vous pouvez compléter d'un commentaire | J40: =IF(J23=$K$2,"",IF('4 - Politique'!$J$38="","",'4 - Politique'!$J$38)) | K40: =IF(K23=$K$2,"",IF('4 - Politique'!$J$38="","",'4 - Politique'!$J$38)) | L40: =IF(L23=$K$2,"",IF('4 - Politique'!$J$38="","",'4 - Politique'!$J$38)) | M40: =IF(M23=$K$2,"",IF('4 - Politique'!$J$38="","",'4 - Politique'!$J$38))
A41: =RIGHT(D41,1) | C41: Focus bouteilles d'oxygène
A42: =RIGHT(D42,1) -> 5 | D42: 65 | F42: Pour les dotations de service, le nombre de bouteilles d'oxygène stockées dans le service est en adéquation avec le nombre nécessaire (pas de manque ou de surstockage avec risque de périmé ou d'encombrement)
A43: =RIGHT(D43,1) -> 6 | D43: 66 | F43: Les bouteilles d'oxygène contenues dans le chariot d'urgence sont régulièrement vérifiées par lecture de l'étiquette, de la date de péremption et de leur capacité ou volume sortant
...

Sheet 7 - Résultats
B2: RESTITUTION DES RÉSULTATS
B3: AUDIT DE PRATIQUE : CIRCUIT DES GAZ À USAGE MEDICAL
B4: EN ÉTABLISSEMENT DE SANTÉ
B5: =IF('3 - Établissement'!K9="","","Audit renseigné le "&TEXT('3 - Établissement'!K9,"jj/mm/aaaa"))
G8: =IF('3 - Établissement'!E1="","",UPPER( '3 - Établissement'!E1))
B9: =IF('3 - Établissement'!E9="","",UPPER( '3 - Établissement'!E9))
B10: =IF('3 - Établissement'!AD21<2,"SERVICE / UNITÉ DE SOINS RÉPONDEUR : ","SERVICES / UNITÉS DE SOINS RÉPONDEURS : ") -> SERVICE / UNITÉ DE SOINS RÉPONDEUR :
B11: =UPPER(_xlfn.TEXTJOIN(" ",TRUE,'3 - Établissement'!E21,'3 - Établissement'!E25,'3 - Établissement'!K21,'3 - Établissement'!K25))
B16: Vous visionnez un diaporama automatisé réalisé par l'OMEDIT NAGG à partir des données renseignées par votre établissement. L'équipe de l'OMEDIT remercie les personnes donnant leur avis sur leurs outils à des fins d'amélioration continue
B32: Sommaire
A34: 4 à 5 | D34: Présentation de l'audit
A35: 6 à 7 | D35: Contexte de réalisation de l'audit
A36: 8 | D36: Complétude de l'audit
D37: Résultats de l'audit
A38: 10 | D38: 1 | E38: Synthèse
A39: 11 à 12 | D39: 2 | E39: Évaluation thématique
A40: 13 | D40: 3 | E40: Unités et services de soins
D41: Annexes
A42: 15 | D42: 1 | E42: Évaluation de tous les critères - table détaillée
A43: 16 | D43: 2 | E43: Évaluation des critères obligatoires - table détaillée
B45: =D34 -> Présentation de l'audit
B48: Outil utilisé
C50: ○ Fichier Excel mis à disposition par l'OMEDIT NAGG dans le cadre de la prévention des never events
C51: https://www.omedit-nag.fr/outils-guides/never-events-et-medicaments-risque
C53: ○ Avec 4 onglets à renseigner :
C54: Avec options de réponse : oui, non, partiel, non concerné
C55: 1 | D55: Établissement
D56: Identification des personnes renseignant l'audit, contexte de réalisation
C57: 2 | D57: Politique de l'établissement | J57: ="avec "&L403&" critères, "&"dont "&P403&" obligatoires" -> avec 31 critères, dont 19 obligatoires
D58: Politique, gestion documentaire, formation, auto-évaluation, gestion des risques, prescription | J58: ="avec "&M404&" critères, "&"dont "&Q404&" obligatoires" -> avec 0 critères, dont 0 obligatoires
C59: 3 | D59: PUI et autre local | J59: ="avec "&L410&" critères, "&"dont "&P410&" obligatoires" -> avec 18 critères, dont 7 obligatoires
D60: Stockage : généralités et installation | J60: ="avec "&M406&" critères, "&"dont "&Q406&" obligatoires" -> avec 0 critères, dont 0 obligatoires
C61: 4 | D61: Services et unités de soins | J61: ="avec "&L414&" critères par service, "&"dont "&P414&" obligatoires" -> avec 30 critères par service, dont 11 obligatoires
D62: Stockage, focus oxygène, focus MEOPA, administration
D63: L'outil permet de renseigner jusqu'à 4 services!
C64: 🖨️ Ces 4 onglets sont calibrés pour être imprimés et/ou présentés en PDF
C66: ○ 1 Onglet de restitution automatisé
C67: 🖨️ Permettant un visionnage en mode diaporama une fois enregistré en PDF
B72: Modalités de participation
C74: ○ 2 Méthodologies possibles : observationnelle ou déclarative par interrogation des professionnels
...

Sheet BDD_pour_OMEDIT
AT1: Base de données (si maj > maj à reporter sur l'onglet TCD) | BL1: manuel
A2: onglet contexte ES | U2: complétude | Z2: =Z4 -> Évaluation de tous les critères - table détaillée | AJ2: =AJ4 -> Évaluation des critères obligatoires - table détaillée | AT2: formule | BO2: formule | BQ2: formule | BV2: formule différente
AX3: Tous les critères | BE3: Critères obligatoires
A4: ES | B4: dep | C4: date | D4: contexte | E4: organisation | F4: risques à priori | G4: ei | H4: renseignant 1 | I4: renseignant 2 | J4: service 1 | K4: service 2 | L4: service 3 | M4: service 4 | O4: Numéro de service | P4: Nom de service | Q4: statut | U4: ='7 - Résultats'!C121 -> Ensemble des critères | V4: ='7 - Résultats'!N121 -> 0 | W4: ='7 - Résultats'!C129 -> Critères obligatoires | X4: ='7 - Résultats'!N129 -> 0 | Z4: ='7 - Résultats'!B284 -> Évaluation de tous les critères - table détaillée | AB4: ='7 - Résultats'!L287 -> Nombre de critères | AC4: ='7 - Résultats'!M288 -> oui | AD4: ='7 - Résultats'!N288 -> non | AE4: ='7 - Résultats'!O288 -> partiel | AF4: ='7 - Résultats'!P288 -> non applicable | AG4: ='7 - Résultats'!Q288 -> non répondu | AH4: ='7 - Résultats'!R287 -> Évaluation | AJ4: ='7 - Résultats'!B331 -> Évaluation des critères obligatoires - table détaillée | AL4: Nombre de critères | AM4: oui | AN4: non | AO4: partiel | AP4: non applicable | AQ4: non répondu | AR4: Évaluation | AT4: =A4 -> ES | AU4: nombre de (nom de) service(s) renseigné(s) | AV4: complétude | AW4: complétude questions obligatoires | AX4: Nombre de critères Scores tous les critères | AY4: oui Scores tous les critères | AZ4: non Scores tous les critères | BA4: partiel Scores tous les critères | BB4: non applicable Scores tous les critères | BC4: non répondu Scores tous les critères | BD4: Évaluation Scores tous les critères | BE4: Nombre de critères Scores les critères obligatoires | BF4: oui Scores les critères obligatoires | BG4: non Scores les critères obligatoires | BH4: partiel Scores les critères obligatoires | BI4: non applicable Scores les critères obligatoires | BJ4: non répondu Scores les critères obligatoires | BK4: Évaluation Scores les critères obligatoires | BL4: Onglet | BM4: numéro de service | BN4: Chapitre | BO4: Unité à inclure ou exclure | BP4: Type de critère | BQ4: ='4 - Politique'!B16 -> Chapitre | BR4: ='4 - Politique'!C16 -> Thème | BS4: ='4 - Politique'!D16 -> N° de critère | BT4: ='4 - Politique'!E16 -> Source, si existante | BU4: Élements observés | BV4: ='4 - Politique'!J16 -> Réponse | BW4: ='4 - Politique'!K16 -> Commentaire
A5: ='3 - Établissement'!$E$9 -> 0 | B5: ='3 - Établissement'!$E$10 -> 0 | C5: ='3 - Établissement'!$K$9 -> 0 | D5: ='3 - Établissement'!$C$32 -> 0 | E5: ='3 - Établissement'!C38 -> 0 | F5: ='3 - Établissement'!C44 -> 0 | G5: ='3 - Établissement'!C50 -> 0 | H5: ='7 - Résultats'!C78 -> Le (date non précisée) (nom de la personne ayant renseigné l'audit non précisé) | I5: ='3 - Établissement'!K14 -> 0 | J5: ='7 - Résultats'!C84 -> Service non renseigné | K5: ='7 - Résultats'!K84 -> Service non renseigné | L5: ='7 - Résultats'!C89 -> Service non renseigné | M5: ='7 - Résultats'!K89 -> Service non renseigné | O5: service 1 | P5: ='3 - Établissement'!E21 -> 0 | Q5: =IF(P5=0,"à exclure, nom pas renseigné","à inclure, nom de service bien renseigné") -> à exclure, nom pas renseigné | U5: ='7 - Résultats'!D122 -> Politique | V5: ='7 - Résultats'!N122 -> 0 | W5: ='7 - Résultats'!D130 -> Politique | X5: ='7 - Résultats'!N130 -> 0 | Z5: ='7 - Résultats'!B291 -> Politique | AA5: chapitre | AB5: ='7 - Résultats'!L291 -> 31 | AC5: ='7 - Résultats'!M291 -> 0 | AD5: ='7 - Résultats'!N291 -> 0 | AE5: ='7 - Résultats'!O291 -> 0 | AF5: ='7 - Résultats'!P291 -> 0 | AG5: ='7 - Résultats'!Q291 -> 31 | AH5: ='7 - Résultats'!R291 -> 0 | AJ5: Politique | AK5: chapitre | AL5: ='7 - Résultats'!L338 -> 19 | AM5: ='7 - Résultats'!M338 -> 0 | AN5: ='7 - Résultats'!N338 -> 0 | AO5: ='7 - Résultats'!O338 -> 0 | AP5: ='7 - Résultats'!P338 -> 0 | AQ5: ='7 - Résultats'!Q338 -> 19 | AR5: ='7 - Résultats'!R338 -> 0 | AT5: =$A$5 -> 0 | AU5: =4-COUNTIF(P5:P8,0) -> 0 | AV5: =V4 -> 0 | AW5: =X4 -> 0 | AX5: =AB35 -> 49 | AY5: =AC35 -> 0 | AZ5: =AD35 -> 0 | BA5: =AE35 -> 0 | BB5: =AF35 -> 0 | BC5: =AG35 -> 49 | BD5: =AH35 -> 0 | BE5: =AL35 -> 26 | BF5: =AM35 -> 0 | BG5: =AN35 -> 0 | BH5: =AO35 -> 0 | BI5: =AP35 -> 0 | BJ5: =AQ35 -> 26 | BK5: =AR35 -> 0 | BL5: Politique | BN5: Politique générale | BP5: =IF(COUNTIF(BS5,"*~*")>0,"obligatoire","non-obligatoire") -> obligatoire | BQ5: ='4 - Politique'!B19 -> Politique des gaz médicaux et système documentaire | BR5: ='4 - Politique'!C19 -> Politique générale | BS5: ='4 - Politique'!D19 -> 1* | BT5: ='4 - Politique'!E19 -> Arrêté du 6 avril 2011 | BU5: ='4 - Politique'!F19 -> Il existe un document décrivant la politique qualité/sécurité/efficience des gaz à usage médical au sein de la structure | BV5: ='4 - Politique'!J19 -> 0 | BW5: ='4 - Politique'!K19 -> 0
A6: ='3 - Établissement'!$E$9 -> 0 | O6: service 2 | P6: ='3 - Établissement'!K21 -> 0 | Q6: =IF(P6=0,"à exclure, nom pas renseigné","à inclure, nom de service bien renseigné") -> à exclure, nom pas renseigné | U6: ='7 - Résultats'!D123 -> PUI | V6: ='7 - Résultats'!N123 -> 0 | W6: ='7 - Résultats'!D131 -> PUI | X6: ='7 - Résultats'!N131 -> 0 | Z6: ='7 - Résultats'!B292 -> Politique | AB6: ='7 - Résultats'!L292 -> 8 | AC6: ='7 - Résultats'!M292 -> 0 | AD6: ='7 - Résultats'!N292 -> 0 | AE6: ='7 - Résultats'!O292 -> 0 | AF6: ='7 - Résultats'!P292 -> 0 | AG6: ='7 - Résultats'!Q292 -> 8 | AH6: ='7 - Résultats'!R292 -> 0 | AJ6: Politique | AL6: ='7 - Résultats'!L339 -> 6 | AM6: ='7 - Résultats'!M339 -> 0 | AN6: ='7 - Résultats'!N339 -> 0 | AO6: ='7 - Résultats'!O339 -> 0 | AP6: ='7 - Résultats'!P339 -> 0 | AQ6: ='7 - Résultats'!Q339 -> 6 | AR6: ='7 - Résultats'!R339 -> 0 | AT6: =$A$5 -> 0 | BL6: Politique | BN6: Politique générale | BP6: =IF(COUNTIF(BS6,"*~*")>0,"obligatoire","non-obligatoire") -> obligatoire | BQ6: ='4 - Politique'!B20 -> 0 | BR6: ='4 - Politique'!C20 -> 0 | BS6: ='4 - Politique'!D20 -> 2* | BT6: ='4 - Politique'!E20 -> Arrêté du 6 avril 2011 | BU6: ='4 - Politique'!F20 -> Il existe un programme d'actions qualité/sécurité/efficience qui intègre les actions, les pilotes, le calendrier et les modalités de suivi (indicateurs, audits, …) | BV6: ='4 - Politique'!J20 -> 0 | BW6: ='4 - Politique'!K20 -> 0
A7: ='3 - Établissement'!$E$9 -> 0 | O7: service 3 | P7: ='3 - Établissement'!E25 -> 0 | Q7: =IF(P7=0,"à exclure, nom pas renseigné","à inclure, nom de service bien renseigné") -> à exclure, nom pas renseigné | U7: service 1 | V7: ='7 - Résultats'!N124 | W7: service 1 | X7: ='7 - Résultats'!N132 | Z7: ='7 - Résultats'!B293 -> Gestion documentaire | AB7: ='7 - Résultats'!L293 -> 7 | AC7: ='7 - Résultats'!M293 -> 0 | AD7: ='7 - Résultats'!N293 -> 0 | AE7: ='7 - Résultats'!O293 -> 0 | AF7: ='7 - Résultats'!P293 -> 0 | AG7: ='7 - Résultats'!Q293 -> 7 | AH7: ='7 - Résultats'!R293 -> 0 | AJ7: Gestion documentaire | AL7: ='7 - Résultats'!L340 -> 4 | AM7: ='7 - Résultats'!M340 -> 0 | AN7: ='7 - Résultats'!N340 -> 0 | AO7: ='7 - Résultats'!O340 -> 0 | AP7: ='7 - Résultats'!P340 -> 0 | AQ7: ='7 - Résultats'!Q340 -> 4 | AR7: ='7 - Résultats'!R340 -> 0 | AT7: =$A$5 -> 0 | BL7: Politique | BN7: Politique générale | BP7: =IF(COUNTIF(BS7,"*~*")>0,"obligatoire","non-obligatoire") -> obligatoire | BQ7: ='4 - Politique'!B21 -> 0 | BR7: ='4 - Politique'!C21 -> 0 | BS7: ='4 - Politique'!D21 -> 3* | BT7: ='4 - Politique'!E21 -> Arrêté du 6 avril 2011 | BU7: ='4 - Politique'!F21 -> Un plan de formation pluriannuel, pluriprofessionnel et pluridisciplinaire est défini sur le circuit et l'utilisation des gaz à usage médical | BV7: ='4 - Politique'!J21 -> 0 | BW7: ='4 - Politique'!K21 -> 0
A8: ='3 - Établissement'!$E$9 -> 0 | O8: service 4 | P8: ='3 - Établissement'!K25 -> 0 | Q8: =IF(P8=0,"à exclure, nom pas renseigné","à inclure, nom de service bien renseigné") -> à exclure, nom pas renseigné | U8: service 2 | V8: ='7 - Résultats'!N125 | W8: service 2 | X8: ='7 - Résultats'!N133 | Z8: ='7 - Résultats'!B294 -> Formation | AB8: ='7 - Résultats'!L294 -> 5 | AC8: ='7 - Résultats'!M294 -> 0 | AD8: ='7 - Résultats'!N294 -> 0 | AE8: ='7 - Résultats'!O294 -> 0 | AF8: ='7 - Résultats'!P294 -> 0 | AG8: ='7 - Résultats'!Q294 -> 5 | AH8: ='7 - Résultats'!R294 -> 0 | AJ8: Formation | AL8: ='7 - Résultats'!L341 -> 3 | AM8: ='7 - Résultats'!M341 -> 0 | AN8: ='7 - Résultats'!N341 -> 0 | AO8: ='7 - Résultats'!O341 -> 0 | AP8: ='7 - Résultats'!P341 -> 0 | AQ8: ='7 - Résultats'!Q341 -> 3 | AR8: ='7 - Résultats'!R341 -> 0 | AT8: =$A$5 -> 0 | BL8: Politique | BN8: Politique générale | BP8: =IF(COUNTIF(BS8,"*~*")>0,"obligatoire","non-obligatoire") -> obligatoire | BQ8: ='4 - Politique'!B22 -> 0 | BR8: ='4 - Politique'!C22 -> 0 | BS8: ='4 - Politique'!D22 -> 4* | BT8: ='4 - Politique'!E22 -> Circulaire DGS/3A/667 bis du 10 octobre 1985 | BU8: ='4 - Politique'!F22 -> Il existe une commission des gaz dans l'ES et elle se réunit régulièrement | BV8: ='4 - Politique'!J22 -> 0 | BW8: ='4 - Politique'!K22 -> 0
A9: ='3 - Établissement'!$E$9 -> 0 | U9: service 3 | V9: ='7 - Résultats'!N126 | W9: service 3 | X9: ='7 - Résultats'!N134 | Z9: ='7 - Résultats'!B295 -> Autoévaluation | AB9: ='7 - Résultats'!L295 -> 1 | AC9: ='7 - Résultats'!M295 -> 0 | AD9: ='7 - Résultats'!N295 -> 0 | AE9: ='7 - Résultats'!O295 -> 0 | AF9: ='7 - Résultats'!P295 -> 0 | AG9: ='7 - Résultats'!Q295 -> 1 | AH9: ='7 - Résultats'!R295 -> 0 | AJ9: Autoévaluation | AL9: ='7 - Résultats'!L342 -> 0 | AM9: ='7 - Résultats'!M342 -> 0 | AN9: ='7 - Résultats'!N342 -> 0 | AO9: ='7 - Résultats'!O342 -> 0 | AP9: ='7 - Résultats'!P342 -> 0 | AQ9: ='7 - Résultats'!Q342 -> 0 | AR9: ='7 - Résultats'!R342 -> NC | AT9: =$A$5 -> 0 | BL9: Politique | BN9: Politique générale | BP9: =IF(COUNTIF(BS9,"*~*")>0,"obligatoire","non-obligatoire") -> non-obligatoire | BQ9: ='4 - Politique'!B23 -> 0 | BR9: ='4 - Politique'!C23 -> 0 | BS9: ='4 - Politique'!D23 -> 5 | BT9: ='4 - Politique'!E23 -> 0 | BU9: ='4 - Politique'!F23 -> Il y a un pharmacien référent des fluides médicaux dans l'établissement et il est connu de tous les intervenants concernés (utilisateurs, soignants, directeurs, services techniques,…) | BV9: ='4 - Politique'!J23 -> 0 | BW9: ='4 - Politique'!K23 -> 0
A10: ='3 - Établissement'!$E$9 -> 0 | U10: service 4 | V10: ='7 - Résultats'!N127 | W10: service 4 | X10: ='7 - Résultats'!N135 | Z10: ='7 - Résultats'!B296 -> Gestion des risques | AB10: ='7 - Résultats'!L296 -> 6 | AC10: ='7 - Résultats'!M296 -> 0 | AD10: ='7 - Résultats'!N296 -> 0 | AE10: ='7 - Résultats'!O296 -> 0 | AF10: ='7 - Résultats'!P296 -> 0 | AG10: ='7 - Résultats'!Q296 -> 6 | AH10: ='7 - Résultats'!R296 -> 0 | AJ10: Gestion des risques | AL10: ='7 - Résultats'!L343 -> 4 | AM10: ='7 - Résultats'!M343 -> 0 | AN10: ='7 - Résultats'!N343 -> 0 | AO10: ='7 - Résultats'!O343 -> 0 | AP10: ='7 - Résultats'!P343 -> 0 | AQ10: ='7 - Résultats'!Q343 -> 4 | AR10: ='7 - Résultats'!R343 -> 0 | AT10: =$A$5 -> 0 | BL10: Politique | BN10: Politique générale | BP10: =IF(COUNTIF(BS10,"*~*")>0,"obligatoire","non-obligatoire") -> non-obligatoire | BQ10: ='4 - Politique'!B24 -> 0 | BR10: ='4 - Politique'!C24 -> 0 | BS10: ='4 - Politique'!D24 -> 6 | BT10: ='4 - Politique'!E24 -> Société Française d'Anesthésie Réanimation | BU10: ='4 - Politique'!F24 -> Les réseaux de protoxyde d'azote (N2O) ont été arrêtés | BV10: ='4 - Politique'!J24 -> 0 | BW10: ='4 - Politique'!K24 -> 0
A11: ='3 - Établissement'!$E$9 -> 0 | Z11: ='7 - Résultats'!B297 -> Prescription | AB11: ='7 - Résultats'!L297 -> 4 | AC11: ='7 - Résultats'!M297 -> 0 | AD11: ='7 - Résultats'!N297 -> 0 | AE11: ='7 - Résultats'!O297 -> 0 | AF11: ='7 - Résultats'!P297 -> 0 | AG11: ='7 - Résultats'!Q297 -> 4 | AH11: ='7 - Résultats'!R297 -> 0 | AJ11: Prescription | AL11: ='7 - Résultats'!L344 -> 2 | AM11: ='7 - Résultats'!M344 -> 0 | AN11: ='7 - Résultats'!N344 -> 0 | AO11: ='7 - Résultats'!O344 -> 0 | AP11: ='7 - Résultats'!P344 -> 0 | AQ11: ='7 - Résultats'!Q344 -> 2 | AR11: ='7 - Résultats'!R344 -> 0 | AT11: =$A$5 -> 0 | BL11: Politique | BN11: Politique générale | BP11: =IF(COUNTIF(BS11,"*~*")>0,"obligatoire","non-obligatoire") -> obligatoire | BQ11: ='4 - Politique'!B25 -> 0 | BR11: ='4 - Politique'!C25 -> 0 | BS11: ='4 - Politique'!D25 -> 7* | BT11: ='4 - Politique'!E25 -> Article L3131-11 du CSP | BU11: ='4 - Politique'!F25 -> Des modalités d'organisation spécifiques sont prévues en cas de situations exceptionnelles (commandes des services de soins, PUI, …) | BV11: ='4 - Politique'!J25 -> 0 | BW11: ='4 - Politique'!K25 -> 0
A12: ='3 - Établissement'!$E$9 -> 0 | AT12: =$A$5 -> 0 | BL12: Politique | BN12: Politique générale | BP12: =IF(COUNTIF(BS12,"*~*")>0,"obligatoire","non-obligatoire") -> obligatoire | BQ12: ='4 - Politique'!B26 -> 0 | BR12: ='4 - Politique'!C26 -> 0 | BS12: ='4 - Politique'!D26 -> 8* | BT12: ='4 - Politique'!E26 -> Article L3131-7 du CSP | BU12: ='4 - Politique'!F26 -> L'établissement dispose d'un Plan de Continuité et de Reprise d'Activité (PCRA) | BV12: ='4 - Politique'!J26 -> 0 | BW12: ='4 - Politique'!K26 -> 0
A13: ='3 - Établissement'!$E$9 -> 0 | Z13: ='7 - Résultats'!B299 -> PUI et autre local | AA13: chapitre | AB13: ='7 - Résultats'!L299 -> 18 | AC13: ='7 - Résultats'!M299 -> 0 | AD13: ='7 - Résultats'!N299 -> 0 | AE13: ='7 - Résultats'!O299 -> 0 | AF13: ='7 - Résultats'!P299 -> 0 | AG13: ='7 - Résultats'!Q299 -> 18 | AH13: ='7 - Résultats'!R299 -> 0 | AJ13: PUI et autre local | AK13: chapitre | AL13: ='7 - Résultats'!L346 -> 7 | AM13: ='7 - Résultats'!M346 -> 0 | AN13: ='7 - Résultats'!N346 -> 0 | AO13: ='7 - Résultats'!O346 -> 0 | AP13: ='7 - Résultats'!P346 -> 0 | AQ13: ='7 - Résultats'!Q346 -> 7 | AR13: ='7 - Résultats'!R346 -> 0 | AT13: =$A$5 -> 0 | BL13: Politique | BP13: =IF(COUNTIF(BS13,"*~*")>0,"obligatoire","non-obligatoire") -> non-obligatoire | BQ13: ='4 - Politique'!B27 -> 0 | BR13: ='4 - Politique'!C27 -> Thématique : Gestion documentaire | BS13: ='4 - Politique'!D27 -> 0 | BT13: ='4 - Politique'!E27 -> 0 | BU13: ='4 - Politique'!F27 -> 0 | BV13: ='4 - Politique'!J27 -> 0 | BW13: ='4 - Politique'!K27 -> 0
A14: ='3 - Établissement'!$E$9 -> 0 | Z14: ='7 - Résultats'!B300 -> Stockage | AB14: ='7 - Résultats'!L300 -> 12 | AC14: ='7 - Résultats'!M300 -> 0 | AD14: ='7 - Résultats'!N300 -> 0 | AE14: ='7 - Résultats'!O300 -> 0 | AF14: ='7 - Résultats'!P300 -> 0 | AG14: ='7 - Résultats'!Q300 -> 12 | AH14: ='7 - Résultats'!R300 -> 0 | AJ14: Stockage | AL14: ='7 - Résultats'!L347 -> 6 | AM14: ='7 - Résultats'!M347 -> 0 | AN14: ='7 - Résultats'!N347 -> 0 | AO14: ='7 - Résultats'!O347 -> 0 | AP14: ='7 - Résultats'!P347 -> 0 | AQ14: ='7 - Résultats'!Q347 -> 6 | AR14: ='7 - Résultats'!R347 -> 0 | AT14: =$A$5 -> 0 | BL14: Politique | BN14: Gestion documentaire | BP14: =IF(COUNTIF(BS14,"*~*")>0,"obligatoire","non-obligatoire") -> obligatoire | BQ14: ='4 - Politique'!B28 -> 0 | BR14: ='4 - Politique'!C28 -> Gestion documentaire | BS14: ='4 - Politique'!D28 -> 9* | BT14: ='4 - Politique'!E28 -> Arrêté du 6 avril 2011 | BU14: ='4 - Politique'!F28 -> Il existe un manuel qualité général de la prise en charge médicamenteuse, qui intègre les éléments en lien avec les gaz à usage médical ou un manuel qualité spécifique intégrant des documents décrivant l'approvisionnement, la gestion, les règles d'utilisation (…) des gaz à usage médical | BV14: ='4 - Politique'!J28 -> 0 | BW14: ='4 - Politique'!K28 -> 0
